BEGIN:VCALENDAR
VERSION:2.0
PRODID:-//www.rikis.lt - ECPv6.3.7//NONSGML v1.0//EN
CALSCALE:GREGORIAN
METHOD:PUBLISH
X-ORIGINAL-URL:https://rikis.lt
X-WR-CALDESC:Events for www.rikis.lt
REFRESH-INTERVAL;VALUE=DURATION:PT1H
X-Robots-Tag:noindex
X-PUBLISHED-TTL:PT1H
BEGIN:VTIMEZONE
TZID:Europe/Vilnius
BEGIN:DAYLIGHT
TZOFFSETFROM:+0200
TZOFFSETTO:+0300
TZNAME:EEST
DTSTART:20250330T010000
END:DAYLIGHT
BEGIN:STANDARD
TZOFFSETFROM:+0300
TZOFFSETTO:+0200
TZNAME:EET
DTSTART:20251026T010000
END:STANDARD
END:VTIMEZONE
BEGIN:VEVENT
DTSTART;TZID=Europe/Vilnius:20250701T130000
DTEND;TZID=Europe/Vilnius:20250701T150000
DTSTAMP:20260420T172937
CREATED:20250828T141412Z
LAST-MODIFIED:20250828T141412Z
UID:10009723-1751374800-1751382000@rikis.lt
SUMMARY:Digimon Casual Play
DESCRIPTION:Savaitiniai Digimon TCG turnyrai.\nNaujokai laukiami!\n\nDaugiau informacijos discorde: https://discord.gg/VkTbxCJQ3g
URL:https://rikis.lt/renginys/digimon-casual-play/2025-07-01/
LOCATION:Rikis\, Šv.Stepono\, Vilnius\, 01139\, Lietuva
CATEGORIES:Digimon Card Game,Turnyras
ATTACH;FMTTYPE=image/png:https://rikis.lt/wp-content/uploads/DGM-banner.png
END:VEVENT
BEGIN:VEVENT
DTSTART;TZID=Europe/Vilnius:20250701T183000
DTEND;TZID=Europe/Vilnius:20250701T210000
DTSTAMP:20260420T172937
CREATED:20240514T131819Z
LAST-MODIFIED:20251025T170953Z
UID:10002918-1751394600-1751403600@rikis.lt
SUMMARY:Pokemon žaidimai
DESCRIPTION:Pokemon Standard turnyras!\nŽaidžiama su Standard tipo kaladėmis.\nDalyvio mokestis: 5EUR\n\nDaugiau informacijos discorde: https://discord.gg/JHdvjh2y2N\nNaujokai laukiami! \n  \n  \n 
URL:https://rikis.lt/renginys/antradienio-pokemon-zaidimai-2-2-2/2025-07-01/
LOCATION:Rikis\, Šv.Stepono\, Vilnius\, 01139\, Lietuva
CATEGORIES:Turnyras
ATTACH;FMTTYPE=image/png:https://rikis.lt/wp-content/uploads/PKM-tournament-banner.png
END:VEVENT
BEGIN:VEVENT
DTSTART;VALUE=DATE:20250702
DTEND;VALUE=DATE:20250703
DTSTAMP:20260420T172937
CREATED:20250312T173656Z
LAST-MODIFIED:20251021T114640Z
UID:10010970-1751414400-1751414400@rikis.lt
SUMMARY:Nedirbsime
DESCRIPTION:
URL:https://rikis.lt/renginys/nedirbsime-4/2025-07-02/
LOCATION:Rikis\, Šv.Stepono\, Vilnius\, 01139\, Lietuva
END:VEVENT
BEGIN:VEVENT
DTSTART;TZID=Europe/Vilnius:20250703T180000
DTEND;TZID=Europe/Vilnius:20250703T210000
DTSTAMP:20260420T172937
CREATED:20240522T151542Z
LAST-MODIFIED:20251005T103250Z
UID:10002397-1751565600-1751576400@rikis.lt
SUMMARY:Magic: the Gathering Commander vakarai
DESCRIPTION:Savaitiniai MTG Commander vakarai.\nDalyvavimas nemokamas.\n\nMūsų Discord: https://discord.gg/WdKGvBsYKH
URL:https://rikis.lt/renginys/ketvirtadienio-magic-the-gathering-commander-vakarai-2-2-2-2/2025-07-03/
LOCATION:Rikis\, Šv.Stepono\, Vilnius\, 01139\, Lietuva
CATEGORIES:Magic: The Gathering,Turnyras
ATTACH;FMTTYPE=image/png:https://rikis.lt/wp-content/uploads/Standart-tournament-5.png
END:VEVENT
BEGIN:VEVENT
DTSTART;TZID=Europe/Vilnius:20250705T120000
DTEND;TZID=Europe/Vilnius:20250705T160000
DTSTAMP:20260420T172937
CREATED:20240522T151201Z
LAST-MODIFIED:20251025T170924Z
UID:10002138-1751716800-1751731200@rikis.lt
SUMMARY:Yu-Gi-Oh! žaidimai
DESCRIPTION:Savaitiniai Yu-Gi-Oh! turnyrai\nKaina: 5EUR\n\nDaugiau informacijos rasite discorde: https://discord.gg/fMqccmFvxC \n \n 
URL:https://rikis.lt/renginys/sestadiniai-yu-gi-oh-zaidimai-2-2-2/2025-07-05/
LOCATION:Rikis\, Šv.Stepono\, Vilnius\, 01139\, Lietuva
CATEGORIES:Turnyras
ATTACH;FMTTYPE=image/png:https://rikis.lt/wp-content/uploads/YGO-banner-naujas.png
END:VEVENT
BEGIN:VEVENT
DTSTART;TZID=Europe/Vilnius:20250705T130000
DTEND;TZID=Europe/Vilnius:20250705T170000
DTSTAMP:20260420T172937
CREATED:20240511T154721Z
LAST-MODIFIED:20250718T134454Z
UID:10003186-1751720400-1751734800@rikis.lt
SUMMARY:Dragon Ball Fusion World turnyrai
DESCRIPTION:Dragon Ball Fusion World turnyrai\nDalyvio mokestis: 5EUR\nNaujokai laukiami!\n\nDaugiau informacijos discorde: https://discord.gg/qHuVVvNvJV \n 
URL:https://rikis.lt/renginys/dragon-ball-fusion-world-turnyrai-2/2025-07-05/
LOCATION:Rikis\, Šv.Stepono\, Vilnius\, 01139\, Lietuva
ATTACH;FMTTYPE=image/png:https://rikis.lt/wp-content/uploads/DBFW.png
END:VEVENT
BEGIN:VEVENT
DTSTART;TZID=Europe/Vilnius:20250705T183000
DTEND;TZID=Europe/Vilnius:20250705T210000
DTSTAMP:20260420T172937
CREATED:20241002T162100Z
LAST-MODIFIED:20251025T170737Z
UID:10001879-1751740200-1751749200@rikis.lt
SUMMARY:Pokemon žaidimai
DESCRIPTION:Pokemon Standard turnyras!\nŽaidžiama su Standard tipo kaladėmis.\nDalyvio mokestis: 5EUR\n\nDaugiau informacijos discorde: https://discord.gg/JHdvjh2y2N\nNaujokai laukiami! \n 
URL:https://rikis.lt/renginys/pokemon-standard-2-3-2-2-2/2025-07-05/
LOCATION:Rikis\, Šv.Stepono\, Vilnius\, 01139\, Lietuva
CATEGORIES:Turnyras
ATTACH;FMTTYPE=image/png:https://rikis.lt/wp-content/uploads/PKM-tournament-banner.png
END:VEVENT
BEGIN:VEVENT
DTSTART;VALUE=DATE:20250706
DTEND;VALUE=DATE:20250707
DTSTAMP:20260420T172937
CREATED:20250312T173656Z
LAST-MODIFIED:20251021T114640Z
UID:10007686-1751760000-1751844600@rikis.lt
SUMMARY:Nedirbsime
DESCRIPTION:
URL:https://rikis.lt/renginys/nedirbsime-4/2025-07-06/
LOCATION:Rikis\, Šv.Stepono\, Vilnius\, 01139\, Lietuva
END:VEVENT
BEGIN:VEVENT
DTSTART;VALUE=DATE:20250707
DTEND;VALUE=DATE:20250708
DTSTAMP:20260420T172937
CREATED:20250312T173656Z
LAST-MODIFIED:20251021T114640Z
UID:10010971-1751846400-1751846400@rikis.lt
SUMMARY:Nedirbsime
DESCRIPTION:
URL:https://rikis.lt/renginys/nedirbsime-4/2025-07-07/
LOCATION:Rikis\, Šv.Stepono\, Vilnius\, 01139\, Lietuva
END:VEVENT
BEGIN:VEVENT
DTSTART;TZID=Europe/Vilnius:20250707T170000
DTEND;TZID=Europe/Vilnius:20250707T190000
DTSTAMP:20260420T172937
CREATED:20240626T150336Z
LAST-MODIFIED:20250718T133748Z
UID:10006130-1751907600-1751914800@rikis.lt
SUMMARY:Pokémon TCG naujokų vakarai
DESCRIPTION:Laukiami pradedantieji ir šiek tiek patyrę žaidėjai – visi\, kurie nori smagiai praleisti laiką ir išmokti žaisti Pokémon TCG.\n\n\n\n\n\nRenginio metu:\n• Susipažinsite su Pokémon TCG\n• Gausite pagalbos dėliojant kaladę\n• Žaisite su kitais pradedančiaisiais bei tobulinsite savo įgūdžius.\n• Smagiai leisite laiką su kitais Pokémon gerbėjais bei keisites kortomis!\n\n\n\n\n\nRenginiai vyks apie 2 val.\, o dalyvio mokestis – 8 eurai. Kiekvienas dalyvaujantysis gauna po papildymo pakuotę!\n\n\n\nNorėdami užsiregistruoti\, parašykite mums į Facebook paskyrą arba paskambinkite numeriu +370 615 97722.\n\n\n\n\n\nTaip pat kviečiame prisijungti prie mūsų Discord serverio: https://discord.gg/YGanjVa8JY\n\n 
URL:https://rikis.lt/renginys/pokemon-tcg-naujoku-vakarai/2025-07-07/
LOCATION:Rikis\, Šv.Stepono\, Vilnius\, 01139\, Lietuva
CATEGORIES:Turnyras
ATTACH;FMTTYPE=image/png:https://rikis.lt/wp-content/uploads/PKM-NV-3.png
END:VEVENT
BEGIN:VEVENT
DTSTART;TZID=Europe/Vilnius:20250708T130000
DTEND;TZID=Europe/Vilnius:20250708T150000
DTSTAMP:20260420T172937
CREATED:20250828T141412Z
LAST-MODIFIED:20250828T141412Z
UID:10009724-1751979600-1751986800@rikis.lt
SUMMARY:Digimon Casual Play
DESCRIPTION:Savaitiniai Digimon TCG turnyrai.\nNaujokai laukiami!\n\nDaugiau informacijos discorde: https://discord.gg/VkTbxCJQ3g
URL:https://rikis.lt/renginys/digimon-casual-play/2025-07-08/
LOCATION:Rikis\, Šv.Stepono\, Vilnius\, 01139\, Lietuva
CATEGORIES:Digimon Card Game,Turnyras
ATTACH;FMTTYPE=image/png:https://rikis.lt/wp-content/uploads/DGM-banner.png
END:VEVENT
BEGIN:VEVENT
DTSTART;TZID=Europe/Vilnius:20250708T183000
DTEND;TZID=Europe/Vilnius:20250708T210000
DTSTAMP:20260420T172937
CREATED:20240514T131819Z
LAST-MODIFIED:20251025T170953Z
UID:10002919-1751999400-1752008400@rikis.lt
SUMMARY:Pokemon žaidimai
DESCRIPTION:Pokemon Standard turnyras!\nŽaidžiama su Standard tipo kaladėmis.\nDalyvio mokestis: 5EUR\n\nDaugiau informacijos discorde: https://discord.gg/JHdvjh2y2N\nNaujokai laukiami! \n  \n  \n 
URL:https://rikis.lt/renginys/antradienio-pokemon-zaidimai-2-2-2/2025-07-08/
LOCATION:Rikis\, Šv.Stepono\, Vilnius\, 01139\, Lietuva
CATEGORIES:Turnyras
ATTACH;FMTTYPE=image/png:https://rikis.lt/wp-content/uploads/PKM-tournament-banner.png
END:VEVENT
BEGIN:VEVENT
DTSTART;VALUE=DATE:20250709
DTEND;VALUE=DATE:20250710
DTSTAMP:20260420T172937
CREATED:20250312T173656Z
LAST-MODIFIED:20251021T114640Z
UID:10010972-1752019200-1752019200@rikis.lt
SUMMARY:Nedirbsime
DESCRIPTION:
URL:https://rikis.lt/renginys/nedirbsime-4/2025-07-09/
LOCATION:Rikis\, Šv.Stepono\, Vilnius\, 01139\, Lietuva
END:VEVENT
BEGIN:VEVENT
DTSTART;TZID=Europe/Vilnius:20250710T180000
DTEND;TZID=Europe/Vilnius:20250710T210000
DTSTAMP:20260420T172937
CREATED:20240522T151542Z
LAST-MODIFIED:20251005T103250Z
UID:10002398-1752170400-1752181200@rikis.lt
SUMMARY:Magic: the Gathering Commander vakarai
DESCRIPTION:Savaitiniai MTG Commander vakarai.\nDalyvavimas nemokamas.\n\nMūsų Discord: https://discord.gg/WdKGvBsYKH
URL:https://rikis.lt/renginys/ketvirtadienio-magic-the-gathering-commander-vakarai-2-2-2-2/2025-07-10/
LOCATION:Rikis\, Šv.Stepono\, Vilnius\, 01139\, Lietuva
CATEGORIES:Magic: The Gathering,Turnyras
ATTACH;FMTTYPE=image/png:https://rikis.lt/wp-content/uploads/Standart-tournament-5.png
END:VEVENT
BEGIN:VEVENT
DTSTART;TZID=Europe/Vilnius:20250712T120000
DTEND;TZID=Europe/Vilnius:20250712T160000
DTSTAMP:20260420T172937
CREATED:20240522T151201Z
LAST-MODIFIED:20251025T170924Z
UID:10002139-1752321600-1752336000@rikis.lt
SUMMARY:Yu-Gi-Oh! žaidimai
DESCRIPTION:Savaitiniai Yu-Gi-Oh! turnyrai\nKaina: 5EUR\n\nDaugiau informacijos rasite discorde: https://discord.gg/fMqccmFvxC \n \n 
URL:https://rikis.lt/renginys/sestadiniai-yu-gi-oh-zaidimai-2-2-2/2025-07-12/
LOCATION:Rikis\, Šv.Stepono\, Vilnius\, 01139\, Lietuva
CATEGORIES:Turnyras
ATTACH;FMTTYPE=image/png:https://rikis.lt/wp-content/uploads/YGO-banner-naujas.png
END:VEVENT
BEGIN:VEVENT
DTSTART;TZID=Europe/Vilnius:20250712T130000
DTEND;TZID=Europe/Vilnius:20250712T170000
DTSTAMP:20260420T172937
CREATED:20240511T154721Z
LAST-MODIFIED:20250718T134454Z
UID:10003187-1752325200-1752339600@rikis.lt
SUMMARY:Dragon Ball Fusion World turnyrai
DESCRIPTION:Dragon Ball Fusion World turnyrai\nDalyvio mokestis: 5EUR\nNaujokai laukiami!\n\nDaugiau informacijos discorde: https://discord.gg/qHuVVvNvJV \n 
URL:https://rikis.lt/renginys/dragon-ball-fusion-world-turnyrai-2/2025-07-12/
LOCATION:Rikis\, Šv.Stepono\, Vilnius\, 01139\, Lietuva
ATTACH;FMTTYPE=image/png:https://rikis.lt/wp-content/uploads/DBFW.png
END:VEVENT
BEGIN:VEVENT
DTSTART;TZID=Europe/Vilnius:20250712T183000
DTEND;TZID=Europe/Vilnius:20250712T210000
DTSTAMP:20260420T172937
CREATED:20241002T162100Z
LAST-MODIFIED:20251025T170737Z
UID:10001880-1752345000-1752354000@rikis.lt
SUMMARY:Pokemon žaidimai
DESCRIPTION:Pokemon Standard turnyras!\nŽaidžiama su Standard tipo kaladėmis.\nDalyvio mokestis: 5EUR\n\nDaugiau informacijos discorde: https://discord.gg/JHdvjh2y2N\nNaujokai laukiami! \n 
URL:https://rikis.lt/renginys/pokemon-standard-2-3-2-2-2/2025-07-12/
LOCATION:Rikis\, Šv.Stepono\, Vilnius\, 01139\, Lietuva
CATEGORIES:Turnyras
ATTACH;FMTTYPE=image/png:https://rikis.lt/wp-content/uploads/PKM-tournament-banner.png
END:VEVENT
BEGIN:VEVENT
DTSTART;TZID=Europe/Vilnius:20250713T120000
DTEND;TZID=Europe/Vilnius:20250713T143000
DTSTAMP:20260420T172937
CREATED:20250124T141427Z
LAST-MODIFIED:20251005T112110Z
UID:10001621-1752408000-1752417000@rikis.lt
SUMMARY:One Piece TCG Locals
DESCRIPTION:One Piece TCG local turnyrai.\nNaujokai laukiami!\n\nDaugiau informacijos discorde: https://discord.gg/qHuVVvNvJV
URL:https://rikis.lt/renginys/one-piece-tcg-locals-3-2-2/2025-07-13/
LOCATION:Rikis\, Šv.Stepono\, Vilnius\, 01139\, Lietuva
CATEGORIES:One Piece,Turnyras
ATTACH;FMTTYPE=image/png:https://rikis.lt/wp-content/uploads/OP-banner-1.png
END:VEVENT
BEGIN:VEVENT
DTSTART;TZID=Europe/Vilnius:20250713T123000
DTEND;TZID=Europe/Vilnius:20250713T180000
DTSTAMP:20260420T172937
CREATED:20241002T161653Z
LAST-MODIFIED:20251025T171035Z
UID:10006448-1752409800-1752429600@rikis.lt
SUMMARY:Flesh and Blood Classic Constructed
DESCRIPTION:Pasiruoškite galutiniam įgūdžių\, strategijos  išbandymui su „Classic Constructed“ –  „Flesh and Blood“.  Formatas 1 prieš 1\, Classic Constructed siūlo jaudinančią žaidimo patirtį\, kuri patiks net labiausiai patyrusiems žaidėjams. \nBileto kainą: 5 Eur \nPrizai: Papildymo pakuotės\, Playmatai\, Promo kortos. \n \nDaugiau apie formatą: https://fabtcg.com/resources/gameplay-formats/classic-constructed/
URL:https://rikis.lt/renginys/flesh-and-blood-classic-constructed-4/2025-07-13/
LOCATION:Rikis\, Šv.Stepono\, Vilnius\, 01139\, Lietuva
CATEGORIES:Flesh and Blood,Turnyras
ATTACH;FMTTYPE=image/jpeg:https://rikis.lt/wp-content/uploads/flesh-and-blood-classic-constructed.jpg
END:VEVENT
BEGIN:VEVENT
DTSTART;TZID=Europe/Vilnius:20250713T130000
DTEND;TZID=Europe/Vilnius:20250713T150000
DTSTAMP:20260420T172937
CREATED:20240522T151023Z
LAST-MODIFIED:20251005T112118Z
UID:10000495-1752411600-1752418800@rikis.lt
SUMMARY:Digimon Casual Play
DESCRIPTION:Savaitiniai Digimon TCG turnyrai.\nNaujokai laukiami!\n\nDaugiau informacijos discorde: https://discord.gg/VkTbxCJQ3g
URL:https://rikis.lt/renginys/sekmadieninis-digimon-casual-play-2-2-2/2025-07-13/
LOCATION:Rikis\, Šv.Stepono\, Vilnius\, 01139\, Lietuva
CATEGORIES:Digimon Card Game,Turnyras
ATTACH;FMTTYPE=image/png:https://rikis.lt/wp-content/uploads/DGM-banner.png
END:VEVENT
BEGIN:VEVENT
DTSTART;TZID=Europe/Vilnius:20250713T150000
DTEND;TZID=Europe/Vilnius:20250713T180000
DTSTAMP:20260420T172937
CREATED:20240522T151920Z
LAST-MODIFIED:20250718T134351Z
UID:10001360-1752418800-1752429600@rikis.lt
SUMMARY:Star Wars™: Unlimited Organized Play
DESCRIPTION:Pradėkite savo Star Wars™: Unlimited Organized Play kelionę.\nUž dalyvavimą ar naujoko atsivedimą gausite specialų promo pack!\nStar Wars: Unlimited yra greitas\, lengvai išmokstamas\, neribotų galimybių kortų žaidimas.\n\nMūsų discordas: https://discord.gg/Zww7MswDwS \n 
URL:https://rikis.lt/renginys/star-wars-unlimited-organized-play-2/2025-07-13/
LOCATION:Rikis\, Šv.Stepono\, Vilnius\, 01139\, Lietuva
CATEGORIES:StarWars
ATTACH;FMTTYPE=image/png:https://rikis.lt/wp-content/uploads/SWU.png
END:VEVENT
BEGIN:VEVENT
DTSTART;VALUE=DATE:20250714
DTEND;VALUE=DATE:20250715
DTSTAMP:20260420T172937
CREATED:20250312T173656Z
LAST-MODIFIED:20251021T114640Z
UID:10010973-1752451200-1752451200@rikis.lt
SUMMARY:Nedirbsime
DESCRIPTION:
URL:https://rikis.lt/renginys/nedirbsime-4/2025-07-14/
LOCATION:Rikis\, Šv.Stepono\, Vilnius\, 01139\, Lietuva
END:VEVENT
BEGIN:VEVENT
DTSTART;TZID=Europe/Vilnius:20250714T170000
DTEND;TZID=Europe/Vilnius:20250714T190000
DTSTAMP:20260420T172937
CREATED:20240626T150336Z
LAST-MODIFIED:20250718T133748Z
UID:10006131-1752512400-1752519600@rikis.lt
SUMMARY:Pokémon TCG naujokų vakarai
DESCRIPTION:Laukiami pradedantieji ir šiek tiek patyrę žaidėjai – visi\, kurie nori smagiai praleisti laiką ir išmokti žaisti Pokémon TCG.\n\n\n\n\n\nRenginio metu:\n• Susipažinsite su Pokémon TCG\n• Gausite pagalbos dėliojant kaladę\n• Žaisite su kitais pradedančiaisiais bei tobulinsite savo įgūdžius.\n• Smagiai leisite laiką su kitais Pokémon gerbėjais bei keisites kortomis!\n\n\n\n\n\nRenginiai vyks apie 2 val.\, o dalyvio mokestis – 8 eurai. Kiekvienas dalyvaujantysis gauna po papildymo pakuotę!\n\n\n\nNorėdami užsiregistruoti\, parašykite mums į Facebook paskyrą arba paskambinkite numeriu +370 615 97722.\n\n\n\n\n\nTaip pat kviečiame prisijungti prie mūsų Discord serverio: https://discord.gg/YGanjVa8JY\n\n 
URL:https://rikis.lt/renginys/pokemon-tcg-naujoku-vakarai/2025-07-14/
LOCATION:Rikis\, Šv.Stepono\, Vilnius\, 01139\, Lietuva
CATEGORIES:Turnyras
ATTACH;FMTTYPE=image/png:https://rikis.lt/wp-content/uploads/PKM-NV-3.png
END:VEVENT
BEGIN:VEVENT
DTSTART;TZID=Europe/Vilnius:20250715T130000
DTEND;TZID=Europe/Vilnius:20250715T150000
DTSTAMP:20260420T172937
CREATED:20250828T141412Z
LAST-MODIFIED:20250828T141412Z
UID:10009725-1752584400-1752591600@rikis.lt
SUMMARY:Digimon Casual Play
DESCRIPTION:Savaitiniai Digimon TCG turnyrai.\nNaujokai laukiami!\n\nDaugiau informacijos discorde: https://discord.gg/VkTbxCJQ3g
URL:https://rikis.lt/renginys/digimon-casual-play/2025-07-15/
LOCATION:Rikis\, Šv.Stepono\, Vilnius\, 01139\, Lietuva
CATEGORIES:Digimon Card Game,Turnyras
ATTACH;FMTTYPE=image/png:https://rikis.lt/wp-content/uploads/DGM-banner.png
END:VEVENT
BEGIN:VEVENT
DTSTART;TZID=Europe/Vilnius:20250715T183000
DTEND;TZID=Europe/Vilnius:20250715T210000
DTSTAMP:20260420T172937
CREATED:20240514T131819Z
LAST-MODIFIED:20251025T170953Z
UID:10002920-1752604200-1752613200@rikis.lt
SUMMARY:Pokemon žaidimai
DESCRIPTION:Pokemon Standard turnyras!\nŽaidžiama su Standard tipo kaladėmis.\nDalyvio mokestis: 5EUR\n\nDaugiau informacijos discorde: https://discord.gg/JHdvjh2y2N\nNaujokai laukiami! \n  \n  \n 
URL:https://rikis.lt/renginys/antradienio-pokemon-zaidimai-2-2-2/2025-07-15/
LOCATION:Rikis\, Šv.Stepono\, Vilnius\, 01139\, Lietuva
CATEGORIES:Turnyras
ATTACH;FMTTYPE=image/png:https://rikis.lt/wp-content/uploads/PKM-tournament-banner.png
END:VEVENT
BEGIN:VEVENT
DTSTART;VALUE=DATE:20250716
DTEND;VALUE=DATE:20250717
DTSTAMP:20260420T172937
CREATED:20250312T173656Z
LAST-MODIFIED:20251021T114640Z
UID:10010974-1752624000-1752624000@rikis.lt
SUMMARY:Nedirbsime
DESCRIPTION:
URL:https://rikis.lt/renginys/nedirbsime-4/2025-07-16/
LOCATION:Rikis\, Šv.Stepono\, Vilnius\, 01139\, Lietuva
END:VEVENT
BEGIN:VEVENT
DTSTART;TZID=Europe/Vilnius:20250717T180000
DTEND;TZID=Europe/Vilnius:20250717T210000
DTSTAMP:20260420T172937
CREATED:20240522T151542Z
LAST-MODIFIED:20251005T103250Z
UID:10002399-1752775200-1752786000@rikis.lt
SUMMARY:Magic: the Gathering Commander vakarai
DESCRIPTION:Savaitiniai MTG Commander vakarai.\nDalyvavimas nemokamas.\n\nMūsų Discord: https://discord.gg/WdKGvBsYKH
URL:https://rikis.lt/renginys/ketvirtadienio-magic-the-gathering-commander-vakarai-2-2-2-2/2025-07-17/
LOCATION:Rikis\, Šv.Stepono\, Vilnius\, 01139\, Lietuva
CATEGORIES:Magic: The Gathering,Turnyras
ATTACH;FMTTYPE=image/png:https://rikis.lt/wp-content/uploads/Standart-tournament-5.png
END:VEVENT
BEGIN:VEVENT
DTSTART;TZID=Europe/Vilnius:20250719T120000
DTEND;TZID=Europe/Vilnius:20250719T160000
DTSTAMP:20260420T172937
CREATED:20240522T151201Z
LAST-MODIFIED:20251025T170924Z
UID:10002140-1752926400-1752940800@rikis.lt
SUMMARY:Yu-Gi-Oh! žaidimai
DESCRIPTION:Savaitiniai Yu-Gi-Oh! turnyrai\nKaina: 5EUR\n\nDaugiau informacijos rasite discorde: https://discord.gg/fMqccmFvxC \n \n 
URL:https://rikis.lt/renginys/sestadiniai-yu-gi-oh-zaidimai-2-2-2/2025-07-19/
LOCATION:Rikis\, Šv.Stepono\, Vilnius\, 01139\, Lietuva
CATEGORIES:Turnyras
ATTACH;FMTTYPE=image/png:https://rikis.lt/wp-content/uploads/YGO-banner-naujas.png
END:VEVENT
BEGIN:VEVENT
DTSTART;TZID=Europe/Vilnius:20250719T130000
DTEND;TZID=Europe/Vilnius:20250719T170000
DTSTAMP:20260420T172937
CREATED:20240511T154721Z
LAST-MODIFIED:20250718T134454Z
UID:10003188-1752930000-1752944400@rikis.lt
SUMMARY:Dragon Ball Fusion World turnyrai
DESCRIPTION:Dragon Ball Fusion World turnyrai\nDalyvio mokestis: 5EUR\nNaujokai laukiami!\n\nDaugiau informacijos discorde: https://discord.gg/qHuVVvNvJV \n 
URL:https://rikis.lt/renginys/dragon-ball-fusion-world-turnyrai-2/2025-07-19/
LOCATION:Rikis\, Šv.Stepono\, Vilnius\, 01139\, Lietuva
ATTACH;FMTTYPE=image/png:https://rikis.lt/wp-content/uploads/DBFW.png
END:VEVENT
BEGIN:VEVENT
DTSTART;TZID=Europe/Vilnius:20250719T183000
DTEND;TZID=Europe/Vilnius:20250719T210000
DTSTAMP:20260420T172937
CREATED:20241002T162100Z
LAST-MODIFIED:20251025T170737Z
UID:10001881-1752949800-1752958800@rikis.lt
SUMMARY:Pokemon žaidimai
DESCRIPTION:Pokemon Standard turnyras!\nŽaidžiama su Standard tipo kaladėmis.\nDalyvio mokestis: 5EUR\n\nDaugiau informacijos discorde: https://discord.gg/JHdvjh2y2N\nNaujokai laukiami! \n 
URL:https://rikis.lt/renginys/pokemon-standard-2-3-2-2-2/2025-07-19/
LOCATION:Rikis\, Šv.Stepono\, Vilnius\, 01139\, Lietuva
CATEGORIES:Turnyras
ATTACH;FMTTYPE=image/png:https://rikis.lt/wp-content/uploads/PKM-tournament-banner.png
END:VEVENT
END:VCALENDAR