BEGIN:VCALENDAR
VERSION:2.0
PRODID:-//www.rikis.lt - ECPv6.3.7//NONSGML v1.0//EN
CALSCALE:GREGORIAN
METHOD:PUBLISH
X-ORIGINAL-URL:https://rikis.lt
X-WR-CALDESC:Events for www.rikis.lt
REFRESH-INTERVAL;VALUE=DURATION:PT1H
X-Robots-Tag:noindex
X-PUBLISHED-TTL:PT1H
BEGIN:VTIMEZONE
TZID:Europe/Vilnius
BEGIN:DAYLIGHT
TZOFFSETFROM:+0200
TZOFFSETTO:+0300
TZNAME:EEST
DTSTART:20250330T010000
END:DAYLIGHT
BEGIN:STANDARD
TZOFFSETFROM:+0300
TZOFFSETTO:+0200
TZNAME:EET
DTSTART:20251026T010000
END:STANDARD
END:VTIMEZONE
BEGIN:VEVENT
DTSTART;TZID=Europe/Vilnius:20250802T120000
DTEND;TZID=Europe/Vilnius:20250802T160000
DTSTAMP:20260420T201720
CREATED:20240522T151201Z
LAST-MODIFIED:20251025T170924Z
UID:10002142-1754136000-1754150400@rikis.lt
SUMMARY:Yu-Gi-Oh! žaidimai
DESCRIPTION:Savaitiniai Yu-Gi-Oh! turnyrai\nKaina: 5EUR\n\nDaugiau informacijos rasite discorde: https://discord.gg/fMqccmFvxC \n \n 
URL:https://rikis.lt/renginys/sestadiniai-yu-gi-oh-zaidimai-2-2-2/2025-08-02/
LOCATION:Rikis\, Šv.Stepono\, Vilnius\, 01139\, Lietuva
CATEGORIES:Turnyras
ATTACH;FMTTYPE=image/png:https://rikis.lt/wp-content/uploads/YGO-banner-naujas.png
END:VEVENT
BEGIN:VEVENT
DTSTART;TZID=Europe/Vilnius:20250802T183000
DTEND;TZID=Europe/Vilnius:20250802T210000
DTSTAMP:20260420T201720
CREATED:20241002T162100Z
LAST-MODIFIED:20251025T170737Z
UID:10001883-1754159400-1754168400@rikis.lt
SUMMARY:Pokemon žaidimai
DESCRIPTION:Pokemon Standard turnyras!\nŽaidžiama su Standard tipo kaladėmis.\nDalyvio mokestis: 5EUR\n\nDaugiau informacijos discorde: https://discord.gg/JHdvjh2y2N\nNaujokai laukiami! \n 
URL:https://rikis.lt/renginys/pokemon-standard-2-3-2-2-2/2025-08-02/
LOCATION:Rikis\, Šv.Stepono\, Vilnius\, 01139\, Lietuva
CATEGORIES:Turnyras
ATTACH;FMTTYPE=image/png:https://rikis.lt/wp-content/uploads/PKM-tournament-banner.png
END:VEVENT
BEGIN:VEVENT
DTSTART;TZID=Europe/Vilnius:20250803T120000
DTEND;TZID=Europe/Vilnius:20250803T143000
DTSTAMP:20260420T201720
CREATED:20250124T141427Z
LAST-MODIFIED:20251005T112110Z
UID:10001624-1754222400-1754231400@rikis.lt
SUMMARY:One Piece TCG Locals
DESCRIPTION:One Piece TCG local turnyrai.\nNaujokai laukiami!\n\nDaugiau informacijos discorde: https://discord.gg/qHuVVvNvJV
URL:https://rikis.lt/renginys/one-piece-tcg-locals-3-2-2/2025-08-03/
LOCATION:Rikis\, Šv.Stepono\, Vilnius\, 01139\, Lietuva
CATEGORIES:One Piece,Turnyras
ATTACH;FMTTYPE=image/png:https://rikis.lt/wp-content/uploads/OP-banner-1.png
END:VEVENT
BEGIN:VEVENT
DTSTART;TZID=Europe/Vilnius:20250803T123000
DTEND;TZID=Europe/Vilnius:20250803T180000
DTSTAMP:20260420T201720
CREATED:20241002T161653Z
LAST-MODIFIED:20251025T171035Z
UID:10006451-1754224200-1754244000@rikis.lt
SUMMARY:Flesh and Blood Classic Constructed
DESCRIPTION:Pasiruoškite galutiniam įgūdžių\, strategijos  išbandymui su „Classic Constructed“ –  „Flesh and Blood“.  Formatas 1 prieš 1\, Classic Constructed siūlo jaudinančią žaidimo patirtį\, kuri patiks net labiausiai patyrusiems žaidėjams. \nBileto kainą: 5 Eur \nPrizai: Papildymo pakuotės\, Playmatai\, Promo kortos. \n \nDaugiau apie formatą: https://fabtcg.com/resources/gameplay-formats/classic-constructed/
URL:https://rikis.lt/renginys/flesh-and-blood-classic-constructed-4/2025-08-03/
LOCATION:Rikis\, Šv.Stepono\, Vilnius\, 01139\, Lietuva
CATEGORIES:Flesh and Blood,Turnyras
ATTACH;FMTTYPE=image/jpeg:https://rikis.lt/wp-content/uploads/flesh-and-blood-classic-constructed.jpg
END:VEVENT
BEGIN:VEVENT
DTSTART;TZID=Europe/Vilnius:20250803T130000
DTEND;TZID=Europe/Vilnius:20250803T150000
DTSTAMP:20260420T201720
CREATED:20240522T151023Z
LAST-MODIFIED:20251005T112118Z
UID:10000498-1754226000-1754233200@rikis.lt
SUMMARY:Digimon Casual Play
DESCRIPTION:Savaitiniai Digimon TCG turnyrai.\nNaujokai laukiami!\n\nDaugiau informacijos discorde: https://discord.gg/VkTbxCJQ3g
URL:https://rikis.lt/renginys/sekmadieninis-digimon-casual-play-2-2-2/2025-08-03/
LOCATION:Rikis\, Šv.Stepono\, Vilnius\, 01139\, Lietuva
CATEGORIES:Digimon Card Game,Turnyras
ATTACH;FMTTYPE=image/png:https://rikis.lt/wp-content/uploads/DGM-banner.png
END:VEVENT
BEGIN:VEVENT
DTSTART;VALUE=DATE:20250804
DTEND;VALUE=DATE:20250805
DTSTAMP:20260420T201720
CREATED:20250312T173656Z
LAST-MODIFIED:20251021T114640Z
UID:10007757-1754265600-1754350200@rikis.lt
SUMMARY:Nedirbsime
DESCRIPTION:
URL:https://rikis.lt/renginys/nedirbsime-4/2025-08-04/
LOCATION:Rikis\, Šv.Stepono\, Vilnius\, 01139\, Lietuva
END:VEVENT
BEGIN:VEVENT
DTSTART;TZID=Europe/Vilnius:20250805T130000
DTEND;TZID=Europe/Vilnius:20250805T150000
DTSTAMP:20260420T201720
CREATED:20250828T141412Z
LAST-MODIFIED:20250828T141412Z
UID:10009728-1754398800-1754406000@rikis.lt
SUMMARY:Digimon Casual Play
DESCRIPTION:Savaitiniai Digimon TCG turnyrai.\nNaujokai laukiami!\n\nDaugiau informacijos discorde: https://discord.gg/VkTbxCJQ3g
URL:https://rikis.lt/renginys/digimon-casual-play/2025-08-05/
LOCATION:Rikis\, Šv.Stepono\, Vilnius\, 01139\, Lietuva
CATEGORIES:Digimon Card Game,Turnyras
ATTACH;FMTTYPE=image/png:https://rikis.lt/wp-content/uploads/DGM-banner.png
END:VEVENT
BEGIN:VEVENT
DTSTART;TZID=Europe/Vilnius:20250805T183000
DTEND;TZID=Europe/Vilnius:20250805T210000
DTSTAMP:20260420T201720
CREATED:20240514T131819Z
LAST-MODIFIED:20251025T170953Z
UID:10002923-1754418600-1754427600@rikis.lt
SUMMARY:Pokemon žaidimai
DESCRIPTION:Pokemon Standard turnyras!\nŽaidžiama su Standard tipo kaladėmis.\nDalyvio mokestis: 5EUR\n\nDaugiau informacijos discorde: https://discord.gg/JHdvjh2y2N\nNaujokai laukiami! \n  \n  \n 
URL:https://rikis.lt/renginys/antradienio-pokemon-zaidimai-2-2-2/2025-08-05/
LOCATION:Rikis\, Šv.Stepono\, Vilnius\, 01139\, Lietuva
CATEGORIES:Turnyras
ATTACH;FMTTYPE=image/png:https://rikis.lt/wp-content/uploads/PKM-tournament-banner.png
END:VEVENT
BEGIN:VEVENT
DTSTART;VALUE=DATE:20250806
DTEND;VALUE=DATE:20250807
DTSTAMP:20260420T201720
CREATED:20250312T173656Z
LAST-MODIFIED:20251021T114640Z
UID:10007758-1754438400-1754438400@rikis.lt
SUMMARY:Nedirbsime
DESCRIPTION:
URL:https://rikis.lt/renginys/nedirbsime-4/2025-08-06/
LOCATION:Rikis\, Šv.Stepono\, Vilnius\, 01139\, Lietuva
END:VEVENT
BEGIN:VEVENT
DTSTART;TZID=Europe/Vilnius:20250807T180000
DTEND;TZID=Europe/Vilnius:20250807T210000
DTSTAMP:20260420T201720
CREATED:20240522T151542Z
LAST-MODIFIED:20251005T103250Z
UID:10002402-1754589600-1754600400@rikis.lt
SUMMARY:Magic: the Gathering Commander vakarai
DESCRIPTION:Savaitiniai MTG Commander vakarai.\nDalyvavimas nemokamas.\n\nMūsų Discord: https://discord.gg/WdKGvBsYKH
URL:https://rikis.lt/renginys/ketvirtadienio-magic-the-gathering-commander-vakarai-2-2-2-2/2025-08-07/
LOCATION:Rikis\, Šv.Stepono\, Vilnius\, 01139\, Lietuva
CATEGORIES:Magic: The Gathering,Turnyras
ATTACH;FMTTYPE=image/png:https://rikis.lt/wp-content/uploads/Standart-tournament-5.png
END:VEVENT
BEGIN:VEVENT
DTSTART;TZID=Europe/Vilnius:20250809T120000
DTEND;TZID=Europe/Vilnius:20250809T160000
DTSTAMP:20260420T201720
CREATED:20240522T151201Z
LAST-MODIFIED:20251025T170924Z
UID:10002143-1754740800-1754755200@rikis.lt
SUMMARY:Yu-Gi-Oh! žaidimai
DESCRIPTION:Savaitiniai Yu-Gi-Oh! turnyrai\nKaina: 5EUR\n\nDaugiau informacijos rasite discorde: https://discord.gg/fMqccmFvxC \n \n 
URL:https://rikis.lt/renginys/sestadiniai-yu-gi-oh-zaidimai-2-2-2/2025-08-09/
LOCATION:Rikis\, Šv.Stepono\, Vilnius\, 01139\, Lietuva
CATEGORIES:Turnyras
ATTACH;FMTTYPE=image/png:https://rikis.lt/wp-content/uploads/YGO-banner-naujas.png
END:VEVENT
BEGIN:VEVENT
DTSTART;TZID=Europe/Vilnius:20250809T183000
DTEND;TZID=Europe/Vilnius:20250809T210000
DTSTAMP:20260420T201720
CREATED:20241002T162100Z
LAST-MODIFIED:20251025T170737Z
UID:10001884-1754764200-1754773200@rikis.lt
SUMMARY:Pokemon žaidimai
DESCRIPTION:Pokemon Standard turnyras!\nŽaidžiama su Standard tipo kaladėmis.\nDalyvio mokestis: 5EUR\n\nDaugiau informacijos discorde: https://discord.gg/JHdvjh2y2N\nNaujokai laukiami! \n 
URL:https://rikis.lt/renginys/pokemon-standard-2-3-2-2-2/2025-08-09/
LOCATION:Rikis\, Šv.Stepono\, Vilnius\, 01139\, Lietuva
CATEGORIES:Turnyras
ATTACH;FMTTYPE=image/png:https://rikis.lt/wp-content/uploads/PKM-tournament-banner.png
END:VEVENT
BEGIN:VEVENT
DTSTART;TZID=Europe/Vilnius:20250810T120000
DTEND;TZID=Europe/Vilnius:20250810T143000
DTSTAMP:20260420T201720
CREATED:20250124T141427Z
LAST-MODIFIED:20251005T112110Z
UID:10001625-1754827200-1754836200@rikis.lt
SUMMARY:One Piece TCG Locals
DESCRIPTION:One Piece TCG local turnyrai.\nNaujokai laukiami!\n\nDaugiau informacijos discorde: https://discord.gg/qHuVVvNvJV
URL:https://rikis.lt/renginys/one-piece-tcg-locals-3-2-2/2025-08-10/
LOCATION:Rikis\, Šv.Stepono\, Vilnius\, 01139\, Lietuva
CATEGORIES:One Piece,Turnyras
ATTACH;FMTTYPE=image/png:https://rikis.lt/wp-content/uploads/OP-banner-1.png
END:VEVENT
BEGIN:VEVENT
DTSTART;TZID=Europe/Vilnius:20250810T123000
DTEND;TZID=Europe/Vilnius:20250810T180000
DTSTAMP:20260420T201720
CREATED:20241002T161653Z
LAST-MODIFIED:20251025T171035Z
UID:10006452-1754829000-1754848800@rikis.lt
SUMMARY:Flesh and Blood Classic Constructed
DESCRIPTION:Pasiruoškite galutiniam įgūdžių\, strategijos  išbandymui su „Classic Constructed“ –  „Flesh and Blood“.  Formatas 1 prieš 1\, Classic Constructed siūlo jaudinančią žaidimo patirtį\, kuri patiks net labiausiai patyrusiems žaidėjams. \nBileto kainą: 5 Eur \nPrizai: Papildymo pakuotės\, Playmatai\, Promo kortos. \n \nDaugiau apie formatą: https://fabtcg.com/resources/gameplay-formats/classic-constructed/
URL:https://rikis.lt/renginys/flesh-and-blood-classic-constructed-4/2025-08-10/
LOCATION:Rikis\, Šv.Stepono\, Vilnius\, 01139\, Lietuva
CATEGORIES:Flesh and Blood,Turnyras
ATTACH;FMTTYPE=image/jpeg:https://rikis.lt/wp-content/uploads/flesh-and-blood-classic-constructed.jpg
END:VEVENT
BEGIN:VEVENT
DTSTART;TZID=Europe/Vilnius:20250810T130000
DTEND;TZID=Europe/Vilnius:20250810T150000
DTSTAMP:20260420T201720
CREATED:20240522T151023Z
LAST-MODIFIED:20251005T112118Z
UID:10000499-1754830800-1754838000@rikis.lt
SUMMARY:Digimon Casual Play
DESCRIPTION:Savaitiniai Digimon TCG turnyrai.\nNaujokai laukiami!\n\nDaugiau informacijos discorde: https://discord.gg/VkTbxCJQ3g
URL:https://rikis.lt/renginys/sekmadieninis-digimon-casual-play-2-2-2/2025-08-10/
LOCATION:Rikis\, Šv.Stepono\, Vilnius\, 01139\, Lietuva
CATEGORIES:Digimon Card Game,Turnyras
ATTACH;FMTTYPE=image/png:https://rikis.lt/wp-content/uploads/DGM-banner.png
END:VEVENT
BEGIN:VEVENT
DTSTART;VALUE=DATE:20250811
DTEND;VALUE=DATE:20250812
DTSTAMP:20260420T201720
CREATED:20250312T173656Z
LAST-MODIFIED:20251021T114640Z
UID:10007759-1754870400-1754870400@rikis.lt
SUMMARY:Nedirbsime
DESCRIPTION:
URL:https://rikis.lt/renginys/nedirbsime-4/2025-08-11/
LOCATION:Rikis\, Šv.Stepono\, Vilnius\, 01139\, Lietuva
END:VEVENT
BEGIN:VEVENT
DTSTART;TZID=Europe/Vilnius:20250812T130000
DTEND;TZID=Europe/Vilnius:20250812T150000
DTSTAMP:20260420T201720
CREATED:20250828T141412Z
LAST-MODIFIED:20250828T141412Z
UID:10009729-1755003600-1755010800@rikis.lt
SUMMARY:Digimon Casual Play
DESCRIPTION:Savaitiniai Digimon TCG turnyrai.\nNaujokai laukiami!\n\nDaugiau informacijos discorde: https://discord.gg/VkTbxCJQ3g
URL:https://rikis.lt/renginys/digimon-casual-play/2025-08-12/
LOCATION:Rikis\, Šv.Stepono\, Vilnius\, 01139\, Lietuva
CATEGORIES:Digimon Card Game,Turnyras
ATTACH;FMTTYPE=image/png:https://rikis.lt/wp-content/uploads/DGM-banner.png
END:VEVENT
BEGIN:VEVENT
DTSTART;TZID=Europe/Vilnius:20250812T183000
DTEND;TZID=Europe/Vilnius:20250812T210000
DTSTAMP:20260420T201720
CREATED:20240514T131819Z
LAST-MODIFIED:20251025T170953Z
UID:10002924-1755023400-1755032400@rikis.lt
SUMMARY:Pokemon žaidimai
DESCRIPTION:Pokemon Standard turnyras!\nŽaidžiama su Standard tipo kaladėmis.\nDalyvio mokestis: 5EUR\n\nDaugiau informacijos discorde: https://discord.gg/JHdvjh2y2N\nNaujokai laukiami! \n  \n  \n 
URL:https://rikis.lt/renginys/antradienio-pokemon-zaidimai-2-2-2/2025-08-12/
LOCATION:Rikis\, Šv.Stepono\, Vilnius\, 01139\, Lietuva
CATEGORIES:Turnyras
ATTACH;FMTTYPE=image/png:https://rikis.lt/wp-content/uploads/PKM-tournament-banner.png
END:VEVENT
BEGIN:VEVENT
DTSTART;VALUE=DATE:20250813
DTEND;VALUE=DATE:20250814
DTSTAMP:20260420T201720
CREATED:20250312T173656Z
LAST-MODIFIED:20251021T114640Z
UID:10007760-1755043200-1755043200@rikis.lt
SUMMARY:Nedirbsime
DESCRIPTION:
URL:https://rikis.lt/renginys/nedirbsime-4/2025-08-13/
LOCATION:Rikis\, Šv.Stepono\, Vilnius\, 01139\, Lietuva
END:VEVENT
BEGIN:VEVENT
DTSTART;TZID=Europe/Vilnius:20250814T180000
DTEND;TZID=Europe/Vilnius:20250814T210000
DTSTAMP:20260420T201720
CREATED:20240522T151542Z
LAST-MODIFIED:20251005T103250Z
UID:10002403-1755194400-1755205200@rikis.lt
SUMMARY:Magic: the Gathering Commander vakarai
DESCRIPTION:Savaitiniai MTG Commander vakarai.\nDalyvavimas nemokamas.\n\nMūsų Discord: https://discord.gg/WdKGvBsYKH
URL:https://rikis.lt/renginys/ketvirtadienio-magic-the-gathering-commander-vakarai-2-2-2-2/2025-08-14/
LOCATION:Rikis\, Šv.Stepono\, Vilnius\, 01139\, Lietuva
CATEGORIES:Magic: The Gathering,Turnyras
ATTACH;FMTTYPE=image/png:https://rikis.lt/wp-content/uploads/Standart-tournament-5.png
END:VEVENT
BEGIN:VEVENT
DTSTART;TZID=Europe/Vilnius:20250816T120000
DTEND;TZID=Europe/Vilnius:20250816T160000
DTSTAMP:20260420T201720
CREATED:20240522T151201Z
LAST-MODIFIED:20251025T170924Z
UID:10002144-1755345600-1755360000@rikis.lt
SUMMARY:Yu-Gi-Oh! žaidimai
DESCRIPTION:Savaitiniai Yu-Gi-Oh! turnyrai\nKaina: 5EUR\n\nDaugiau informacijos rasite discorde: https://discord.gg/fMqccmFvxC \n \n 
URL:https://rikis.lt/renginys/sestadiniai-yu-gi-oh-zaidimai-2-2-2/2025-08-16/
LOCATION:Rikis\, Šv.Stepono\, Vilnius\, 01139\, Lietuva
CATEGORIES:Turnyras
ATTACH;FMTTYPE=image/png:https://rikis.lt/wp-content/uploads/YGO-banner-naujas.png
END:VEVENT
BEGIN:VEVENT
DTSTART;TZID=Europe/Vilnius:20250816T183000
DTEND;TZID=Europe/Vilnius:20250816T210000
DTSTAMP:20260420T201720
CREATED:20241002T162100Z
LAST-MODIFIED:20251025T170737Z
UID:10001885-1755369000-1755378000@rikis.lt
SUMMARY:Pokemon žaidimai
DESCRIPTION:Pokemon Standard turnyras!\nŽaidžiama su Standard tipo kaladėmis.\nDalyvio mokestis: 5EUR\n\nDaugiau informacijos discorde: https://discord.gg/JHdvjh2y2N\nNaujokai laukiami! \n 
URL:https://rikis.lt/renginys/pokemon-standard-2-3-2-2-2/2025-08-16/
LOCATION:Rikis\, Šv.Stepono\, Vilnius\, 01139\, Lietuva
CATEGORIES:Turnyras
ATTACH;FMTTYPE=image/png:https://rikis.lt/wp-content/uploads/PKM-tournament-banner.png
END:VEVENT
BEGIN:VEVENT
DTSTART;TZID=Europe/Vilnius:20250817T120000
DTEND;TZID=Europe/Vilnius:20250817T143000
DTSTAMP:20260420T201720
CREATED:20250124T141427Z
LAST-MODIFIED:20251005T112110Z
UID:10001626-1755432000-1755441000@rikis.lt
SUMMARY:One Piece TCG Locals
DESCRIPTION:One Piece TCG local turnyrai.\nNaujokai laukiami!\n\nDaugiau informacijos discorde: https://discord.gg/qHuVVvNvJV
URL:https://rikis.lt/renginys/one-piece-tcg-locals-3-2-2/2025-08-17/
LOCATION:Rikis\, Šv.Stepono\, Vilnius\, 01139\, Lietuva
CATEGORIES:One Piece,Turnyras
ATTACH;FMTTYPE=image/png:https://rikis.lt/wp-content/uploads/OP-banner-1.png
END:VEVENT
BEGIN:VEVENT
DTSTART;TZID=Europe/Vilnius:20250817T123000
DTEND;TZID=Europe/Vilnius:20250817T180000
DTSTAMP:20260420T201720
CREATED:20241002T161653Z
LAST-MODIFIED:20251025T171035Z
UID:10006453-1755433800-1755453600@rikis.lt
SUMMARY:Flesh and Blood Classic Constructed
DESCRIPTION:Pasiruoškite galutiniam įgūdžių\, strategijos  išbandymui su „Classic Constructed“ –  „Flesh and Blood“.  Formatas 1 prieš 1\, Classic Constructed siūlo jaudinančią žaidimo patirtį\, kuri patiks net labiausiai patyrusiems žaidėjams. \nBileto kainą: 5 Eur \nPrizai: Papildymo pakuotės\, Playmatai\, Promo kortos. \n \nDaugiau apie formatą: https://fabtcg.com/resources/gameplay-formats/classic-constructed/
URL:https://rikis.lt/renginys/flesh-and-blood-classic-constructed-4/2025-08-17/
LOCATION:Rikis\, Šv.Stepono\, Vilnius\, 01139\, Lietuva
CATEGORIES:Flesh and Blood,Turnyras
ATTACH;FMTTYPE=image/jpeg:https://rikis.lt/wp-content/uploads/flesh-and-blood-classic-constructed.jpg
END:VEVENT
BEGIN:VEVENT
DTSTART;TZID=Europe/Vilnius:20250817T130000
DTEND;TZID=Europe/Vilnius:20250817T150000
DTSTAMP:20260420T201720
CREATED:20240522T151023Z
LAST-MODIFIED:20251005T112118Z
UID:10000500-1755435600-1755442800@rikis.lt
SUMMARY:Digimon Casual Play
DESCRIPTION:Savaitiniai Digimon TCG turnyrai.\nNaujokai laukiami!\n\nDaugiau informacijos discorde: https://discord.gg/VkTbxCJQ3g
URL:https://rikis.lt/renginys/sekmadieninis-digimon-casual-play-2-2-2/2025-08-17/
LOCATION:Rikis\, Šv.Stepono\, Vilnius\, 01139\, Lietuva
CATEGORIES:Digimon Card Game,Turnyras
ATTACH;FMTTYPE=image/png:https://rikis.lt/wp-content/uploads/DGM-banner.png
END:VEVENT
BEGIN:VEVENT
DTSTART;VALUE=DATE:20250818
DTEND;VALUE=DATE:20250819
DTSTAMP:20260420T201720
CREATED:20250312T173656Z
LAST-MODIFIED:20251021T114640Z
UID:10010975-1755475200-1755475200@rikis.lt
SUMMARY:Nedirbsime
DESCRIPTION:
URL:https://rikis.lt/renginys/nedirbsime-4/2025-08-18/
LOCATION:Rikis\, Šv.Stepono\, Vilnius\, 01139\, Lietuva
END:VEVENT
BEGIN:VEVENT
DTSTART;TZID=Europe/Vilnius:20250818T170000
DTEND;TZID=Europe/Vilnius:20250818T190000
DTSTAMP:20260420T201720
CREATED:20240626T150336Z
LAST-MODIFIED:20250718T133748Z
UID:10006136-1755536400-1755543600@rikis.lt
SUMMARY:Pokémon TCG naujokų vakarai
DESCRIPTION:Laukiami pradedantieji ir šiek tiek patyrę žaidėjai – visi\, kurie nori smagiai praleisti laiką ir išmokti žaisti Pokémon TCG.\n\n\n\n\n\nRenginio metu:\n• Susipažinsite su Pokémon TCG\n• Gausite pagalbos dėliojant kaladę\n• Žaisite su kitais pradedančiaisiais bei tobulinsite savo įgūdžius.\n• Smagiai leisite laiką su kitais Pokémon gerbėjais bei keisites kortomis!\n\n\n\n\n\nRenginiai vyks apie 2 val.\, o dalyvio mokestis – 8 eurai. Kiekvienas dalyvaujantysis gauna po papildymo pakuotę!\n\n\n\nNorėdami užsiregistruoti\, parašykite mums į Facebook paskyrą arba paskambinkite numeriu +370 615 97722.\n\n\n\n\n\nTaip pat kviečiame prisijungti prie mūsų Discord serverio: https://discord.gg/YGanjVa8JY\n\n 
URL:https://rikis.lt/renginys/pokemon-tcg-naujoku-vakarai/2025-08-18/
LOCATION:Rikis\, Šv.Stepono\, Vilnius\, 01139\, Lietuva
CATEGORIES:Turnyras
ATTACH;FMTTYPE=image/png:https://rikis.lt/wp-content/uploads/PKM-NV-3.png
END:VEVENT
BEGIN:VEVENT
DTSTART;TZID=Europe/Vilnius:20250819T130000
DTEND;TZID=Europe/Vilnius:20250819T150000
DTSTAMP:20260420T201720
CREATED:20250828T141412Z
LAST-MODIFIED:20250828T141412Z
UID:10009730-1755608400-1755615600@rikis.lt
SUMMARY:Digimon Casual Play
DESCRIPTION:Savaitiniai Digimon TCG turnyrai.\nNaujokai laukiami!\n\nDaugiau informacijos discorde: https://discord.gg/VkTbxCJQ3g
URL:https://rikis.lt/renginys/digimon-casual-play/2025-08-19/
LOCATION:Rikis\, Šv.Stepono\, Vilnius\, 01139\, Lietuva
CATEGORIES:Digimon Card Game,Turnyras
ATTACH;FMTTYPE=image/png:https://rikis.lt/wp-content/uploads/DGM-banner.png
END:VEVENT
BEGIN:VEVENT
DTSTART;TZID=Europe/Vilnius:20250819T183000
DTEND;TZID=Europe/Vilnius:20250819T210000
DTSTAMP:20260420T201720
CREATED:20240514T131819Z
LAST-MODIFIED:20251025T170953Z
UID:10002925-1755628200-1755637200@rikis.lt
SUMMARY:Pokemon žaidimai
DESCRIPTION:Pokemon Standard turnyras!\nŽaidžiama su Standard tipo kaladėmis.\nDalyvio mokestis: 5EUR\n\nDaugiau informacijos discorde: https://discord.gg/JHdvjh2y2N\nNaujokai laukiami! \n  \n  \n 
URL:https://rikis.lt/renginys/antradienio-pokemon-zaidimai-2-2-2/2025-08-19/
LOCATION:Rikis\, Šv.Stepono\, Vilnius\, 01139\, Lietuva
CATEGORIES:Turnyras
ATTACH;FMTTYPE=image/png:https://rikis.lt/wp-content/uploads/PKM-tournament-banner.png
END:VEVENT
BEGIN:VEVENT
DTSTART;VALUE=DATE:20250820
DTEND;VALUE=DATE:20250821
DTSTAMP:20260420T201720
CREATED:20250312T173656Z
LAST-MODIFIED:20251021T114640Z
UID:10010976-1755648000-1755648000@rikis.lt
SUMMARY:Nedirbsime
DESCRIPTION:
URL:https://rikis.lt/renginys/nedirbsime-4/2025-08-20/
LOCATION:Rikis\, Šv.Stepono\, Vilnius\, 01139\, Lietuva
END:VEVENT
END:VCALENDAR