BEGIN:VCALENDAR
VERSION:2.0
PRODID:-//www.rikis.lt - ECPv6.3.7//NONSGML v1.0//EN
CALSCALE:GREGORIAN
METHOD:PUBLISH
X-ORIGINAL-URL:https://rikis.lt
X-WR-CALDESC:Events for www.rikis.lt
REFRESH-INTERVAL;VALUE=DURATION:PT1H
X-Robots-Tag:noindex
X-PUBLISHED-TTL:PT1H
BEGIN:VTIMEZONE
TZID:Europe/Vilnius
BEGIN:DAYLIGHT
TZOFFSETFROM:+0200
TZOFFSETTO:+0300
TZNAME:EEST
DTSTART:20250330T010000
END:DAYLIGHT
BEGIN:STANDARD
TZOFFSETFROM:+0300
TZOFFSETTO:+0200
TZNAME:EET
DTSTART:20251026T010000
END:STANDARD
END:VTIMEZONE
BEGIN:VEVENT
DTSTART;VALUE=DATE:20251001
DTEND;VALUE=DATE:20251002
DTSTAMP:20260420T230508
CREATED:20250825T132207Z
LAST-MODIFIED:20250828T114246Z
UID:10007799-1759276800-1759363199@rikis.lt
SUMMARY:Nedirbsime
DESCRIPTION:
URL:https://rikis.lt/renginys/nedirbsime-2/2025-10-01/
LOCATION:Rikis\, Šv.Stepono\, Vilnius\, 01139\, Lietuva
END:VEVENT
BEGIN:VEVENT
DTSTART;TZID=Europe/Vilnius:20251002T180000
DTEND;TZID=Europe/Vilnius:20251002T210000
DTSTAMP:20260420T230508
CREATED:20240522T151542Z
LAST-MODIFIED:20251005T103250Z
UID:10002410-1759428000-1759438800@rikis.lt
SUMMARY:Magic: the Gathering Commander vakarai
DESCRIPTION:Savaitiniai MTG Commander vakarai.\nDalyvavimas nemokamas.\n\nMūsų Discord: https://discord.gg/WdKGvBsYKH
URL:https://rikis.lt/renginys/ketvirtadienio-magic-the-gathering-commander-vakarai-2-2-2-2/2025-10-02/
LOCATION:Rikis\, Šv.Stepono\, Vilnius\, 01139\, Lietuva
CATEGORIES:Magic: The Gathering,Turnyras
ATTACH;FMTTYPE=image/png:https://rikis.lt/wp-content/uploads/Standart-tournament-5.png
END:VEVENT
BEGIN:VEVENT
DTSTART;TZID=Europe/Vilnius:20251004T120000
DTEND;TZID=Europe/Vilnius:20251004T160000
DTSTAMP:20260420T230508
CREATED:20240522T151201Z
LAST-MODIFIED:20251025T170924Z
UID:10002151-1759579200-1759593600@rikis.lt
SUMMARY:Yu-Gi-Oh! žaidimai
DESCRIPTION:Savaitiniai Yu-Gi-Oh! turnyrai\nKaina: 5EUR\n\nDaugiau informacijos rasite discorde: https://discord.gg/fMqccmFvxC \n \n 
URL:https://rikis.lt/renginys/sestadiniai-yu-gi-oh-zaidimai-2-2-2/2025-10-04/
LOCATION:Rikis\, Šv.Stepono\, Vilnius\, 01139\, Lietuva
CATEGORIES:Turnyras
ATTACH;FMTTYPE=image/png:https://rikis.lt/wp-content/uploads/YGO-banner-naujas.png
END:VEVENT
BEGIN:VEVENT
DTSTART;TZID=Europe/Vilnius:20251004T130000
DTEND;TZID=Europe/Vilnius:20251004T180000
DTSTAMP:20260420T230508
CREATED:20250825T174200Z
LAST-MODIFIED:20251005T112506Z
UID:10009757-1759582800-1759600800@rikis.lt
SUMMARY:Riftbound Turnyras
DESCRIPTION:Prisijunkite prie naujai iškepto TCG\, Riftbound\, turnyro! \nDalyvio mokesčio nėra. Galima naudoti spausdintas kortas. \nTaip pat lauksime Jūsų bendruomenės Discord serveryje: https://discord.gg/KckGyg7EWJ
URL:https://rikis.lt/renginys/riftbound-turnyras/2025-10-04/
LOCATION:Rikis\, Šv.Stepono\, Vilnius\, 01139\, Lietuva
ATTACH;FMTTYPE=image/png:https://rikis.lt/wp-content/uploads/SZ-Veleveles-LT-LV-EE-RU-V3-2025-08-25T171125.929.png
END:VEVENT
BEGIN:VEVENT
DTSTART;TZID=Europe/Vilnius:20251004T183000
DTEND;TZID=Europe/Vilnius:20251004T210000
DTSTAMP:20260420T230508
CREATED:20241002T162100Z
LAST-MODIFIED:20251025T170737Z
UID:10001892-1759602600-1759611600@rikis.lt
SUMMARY:Pokemon žaidimai
DESCRIPTION:Pokemon Standard turnyras!\nŽaidžiama su Standard tipo kaladėmis.\nDalyvio mokestis: 5EUR\n\nDaugiau informacijos discorde: https://discord.gg/JHdvjh2y2N\nNaujokai laukiami! \n 
URL:https://rikis.lt/renginys/pokemon-standard-2-3-2-2-2/2025-10-04/
LOCATION:Rikis\, Šv.Stepono\, Vilnius\, 01139\, Lietuva
CATEGORIES:Turnyras
ATTACH;FMTTYPE=image/png:https://rikis.lt/wp-content/uploads/PKM-tournament-banner.png
END:VEVENT
BEGIN:VEVENT
DTSTART;TZID=Europe/Vilnius:20251005T120000
DTEND;TZID=Europe/Vilnius:20251005T143000
DTSTAMP:20260420T230508
CREATED:20250124T141427Z
LAST-MODIFIED:20251005T112110Z
UID:10001633-1759665600-1759674600@rikis.lt
SUMMARY:One Piece TCG Locals
DESCRIPTION:One Piece TCG local turnyrai.\nNaujokai laukiami!\n\nDaugiau informacijos discorde: https://discord.gg/qHuVVvNvJV
URL:https://rikis.lt/renginys/one-piece-tcg-locals-3-2-2/2025-10-05/
LOCATION:Rikis\, Šv.Stepono\, Vilnius\, 01139\, Lietuva
CATEGORIES:One Piece,Turnyras
ATTACH;FMTTYPE=image/png:https://rikis.lt/wp-content/uploads/OP-banner-1.png
END:VEVENT
BEGIN:VEVENT
DTSTART;TZID=Europe/Vilnius:20251005T123000
DTEND;TZID=Europe/Vilnius:20251005T180000
DTSTAMP:20260420T230508
CREATED:20241002T161653Z
LAST-MODIFIED:20251025T171035Z
UID:10006460-1759667400-1759687200@rikis.lt
SUMMARY:Flesh and Blood Classic Constructed
DESCRIPTION:Pasiruoškite galutiniam įgūdžių\, strategijos  išbandymui su „Classic Constructed“ –  „Flesh and Blood“.  Formatas 1 prieš 1\, Classic Constructed siūlo jaudinančią žaidimo patirtį\, kuri patiks net labiausiai patyrusiems žaidėjams. \nBileto kainą: 5 Eur \nPrizai: Papildymo pakuotės\, Playmatai\, Promo kortos. \n \nDaugiau apie formatą: https://fabtcg.com/resources/gameplay-formats/classic-constructed/
URL:https://rikis.lt/renginys/flesh-and-blood-classic-constructed-4/2025-10-05/
LOCATION:Rikis\, Šv.Stepono\, Vilnius\, 01139\, Lietuva
CATEGORIES:Flesh and Blood,Turnyras
ATTACH;FMTTYPE=image/jpeg:https://rikis.lt/wp-content/uploads/flesh-and-blood-classic-constructed.jpg
END:VEVENT
BEGIN:VEVENT
DTSTART;TZID=Europe/Vilnius:20251005T130000
DTEND;TZID=Europe/Vilnius:20251005T150000
DTSTAMP:20260420T230508
CREATED:20240522T151023Z
LAST-MODIFIED:20251005T112118Z
UID:10000507-1759669200-1759676400@rikis.lt
SUMMARY:Digimon Casual Play
DESCRIPTION:Savaitiniai Digimon TCG turnyrai.\nNaujokai laukiami!\n\nDaugiau informacijos discorde: https://discord.gg/VkTbxCJQ3g
URL:https://rikis.lt/renginys/sekmadieninis-digimon-casual-play-2-2-2/2025-10-05/
LOCATION:Rikis\, Šv.Stepono\, Vilnius\, 01139\, Lietuva
CATEGORIES:Digimon Card Game,Turnyras
ATTACH;FMTTYPE=image/png:https://rikis.lt/wp-content/uploads/DGM-banner.png
END:VEVENT
BEGIN:VEVENT
DTSTART;VALUE=DATE:20251006
DTEND;VALUE=DATE:20251007
DTSTAMP:20260420T230508
CREATED:20250312T173656Z
LAST-MODIFIED:20251021T114640Z
UID:10010989-1759708800-1759708800@rikis.lt
SUMMARY:Nedirbsime
DESCRIPTION:
URL:https://rikis.lt/renginys/nedirbsime-4/2025-10-06/
LOCATION:Rikis\, Šv.Stepono\, Vilnius\, 01139\, Lietuva
END:VEVENT
BEGIN:VEVENT
DTSTART;VALUE=DATE:20251006
DTEND;VALUE=DATE:20251007
DTSTAMP:20260420T230508
CREATED:20250828T114517Z
LAST-MODIFIED:20250828T114517Z
UID:10008332-1759708800-1759795199@rikis.lt
SUMMARY:Nedirbsime
DESCRIPTION:
URL:https://rikis.lt/renginys/nedirbsime-3/2025-10-06/
LOCATION:Rikis\, Šv.Stepono\, Vilnius\, 01139\, Lietuva
END:VEVENT
BEGIN:VEVENT
DTSTART;TZID=Europe/Vilnius:20251007T183000
DTEND;TZID=Europe/Vilnius:20251007T210000
DTSTAMP:20260420T230508
CREATED:20240514T131819Z
LAST-MODIFIED:20251025T170953Z
UID:10002932-1759861800-1759870800@rikis.lt
SUMMARY:Pokemon žaidimai
DESCRIPTION:Pokemon Standard turnyras!\nŽaidžiama su Standard tipo kaladėmis.\nDalyvio mokestis: 5EUR\n\nDaugiau informacijos discorde: https://discord.gg/JHdvjh2y2N\nNaujokai laukiami! \n  \n  \n 
URL:https://rikis.lt/renginys/antradienio-pokemon-zaidimai-2-2-2/2025-10-07/
LOCATION:Rikis\, Šv.Stepono\, Vilnius\, 01139\, Lietuva
CATEGORIES:Turnyras
ATTACH;FMTTYPE=image/png:https://rikis.lt/wp-content/uploads/PKM-tournament-banner.png
END:VEVENT
BEGIN:VEVENT
DTSTART;VALUE=DATE:20251008
DTEND;VALUE=DATE:20251009
DTSTAMP:20260420T230508
CREATED:20250312T173656Z
LAST-MODIFIED:20251021T114640Z
UID:10010990-1759881600-1759881600@rikis.lt
SUMMARY:Nedirbsime
DESCRIPTION:
URL:https://rikis.lt/renginys/nedirbsime-4/2025-10-08/
LOCATION:Rikis\, Šv.Stepono\, Vilnius\, 01139\, Lietuva
END:VEVENT
BEGIN:VEVENT
DTSTART;VALUE=DATE:20251008
DTEND;VALUE=DATE:20251009
DTSTAMP:20260420T230508
CREATED:20250825T132207Z
LAST-MODIFIED:20250828T114246Z
UID:10007800-1759881600-1759967999@rikis.lt
SUMMARY:Nedirbsime
DESCRIPTION:
URL:https://rikis.lt/renginys/nedirbsime-2/2025-10-08/
LOCATION:Rikis\, Šv.Stepono\, Vilnius\, 01139\, Lietuva
END:VEVENT
BEGIN:VEVENT
DTSTART;TZID=Europe/Vilnius:20251009T180000
DTEND;TZID=Europe/Vilnius:20251009T210000
DTSTAMP:20260420T230508
CREATED:20240522T151542Z
LAST-MODIFIED:20251005T103250Z
UID:10002411-1760032800-1760043600@rikis.lt
SUMMARY:Magic: the Gathering Commander vakarai
DESCRIPTION:Savaitiniai MTG Commander vakarai.\nDalyvavimas nemokamas.\n\nMūsų Discord: https://discord.gg/WdKGvBsYKH
URL:https://rikis.lt/renginys/ketvirtadienio-magic-the-gathering-commander-vakarai-2-2-2-2/2025-10-09/
LOCATION:Rikis\, Šv.Stepono\, Vilnius\, 01139\, Lietuva
CATEGORIES:Magic: The Gathering,Turnyras
ATTACH;FMTTYPE=image/png:https://rikis.lt/wp-content/uploads/Standart-tournament-5.png
END:VEVENT
BEGIN:VEVENT
DTSTART;VALUE=DATE:20251011
DTEND;VALUE=DATE:20251013
DTSTAMP:20260420T230508
CREATED:20251005T103112Z
LAST-MODIFIED:20251005T103112Z
UID:10009751-1760140800-1760313599@rikis.lt
SUMMARY:Rikio gimtadienis
DESCRIPTION:Švęskime 15-ą metų kartu!\n\nSpalio 11-12 dienomis Rikyje Jūsų laukia įvairūs demo žaidimai ir turnyrai – daugiau informacijos: https://www.facebook.com/events/824361633603793\n\nBilieto į renginį kaina – 5 eurai. Galite dalyvauti neribotame kiekyje demo veiklų. Tikrai taip – abi dienas!Taip pat nemokamai galite dalyvauti viename iš tą savaitgalį vyksiančių turnyrų.\n\nRegistruotis galite jau dabar: https://forms.gle/Vc93NQHqQMHN2wHG9Veiklos turi ribotą vietų skaičių.\n\nŠį savaitgalį taip pat lauks 10% nuolaida apsiperkant fizinėje Rikio parduotuvėje.
URL:https://rikis.lt/renginys/rikio-gimtadienis/
LOCATION:Rikis\, Šv.Stepono\, Vilnius\, 01139\, Lietuva
CATEGORIES:Demo renginys,Digimon Card Game,Flesh and Blood,Magic: The Gathering,One Piece
ATTACH;FMTTYPE=image/png:https://rikis.lt/wp-content/uploads/New_Project_-_2025-09-20T205209.723.png
END:VEVENT
BEGIN:VEVENT
DTSTART;VALUE=DATE:20251013
DTEND;VALUE=DATE:20251014
DTSTAMP:20260420T230508
CREATED:20250312T173656Z
LAST-MODIFIED:20251021T114640Z
UID:10010991-1760313600-1760313600@rikis.lt
SUMMARY:Nedirbsime
DESCRIPTION:
URL:https://rikis.lt/renginys/nedirbsime-4/2025-10-13/
LOCATION:Rikis\, Šv.Stepono\, Vilnius\, 01139\, Lietuva
END:VEVENT
BEGIN:VEVENT
DTSTART;VALUE=DATE:20251013
DTEND;VALUE=DATE:20251014
DTSTAMP:20260420T230508
CREATED:20250828T114517Z
LAST-MODIFIED:20250828T114517Z
UID:10008333-1760313600-1760399999@rikis.lt
SUMMARY:Nedirbsime
DESCRIPTION:
URL:https://rikis.lt/renginys/nedirbsime-3/2025-10-13/
LOCATION:Rikis\, Šv.Stepono\, Vilnius\, 01139\, Lietuva
END:VEVENT
BEGIN:VEVENT
DTSTART;TZID=Europe/Vilnius:20251014T183000
DTEND;TZID=Europe/Vilnius:20251014T210000
DTSTAMP:20260420T230508
CREATED:20240514T131819Z
LAST-MODIFIED:20251025T170953Z
UID:10002933-1760466600-1760475600@rikis.lt
SUMMARY:Pokemon žaidimai
DESCRIPTION:Pokemon Standard turnyras!\nŽaidžiama su Standard tipo kaladėmis.\nDalyvio mokestis: 5EUR\n\nDaugiau informacijos discorde: https://discord.gg/JHdvjh2y2N\nNaujokai laukiami! \n  \n  \n 
URL:https://rikis.lt/renginys/antradienio-pokemon-zaidimai-2-2-2/2025-10-14/
LOCATION:Rikis\, Šv.Stepono\, Vilnius\, 01139\, Lietuva
CATEGORIES:Turnyras
ATTACH;FMTTYPE=image/png:https://rikis.lt/wp-content/uploads/PKM-tournament-banner.png
END:VEVENT
BEGIN:VEVENT
DTSTART;VALUE=DATE:20251015
DTEND;VALUE=DATE:20251016
DTSTAMP:20260420T230508
CREATED:20250312T173656Z
LAST-MODIFIED:20251021T114640Z
UID:10010992-1760486400-1760486400@rikis.lt
SUMMARY:Nedirbsime
DESCRIPTION:
URL:https://rikis.lt/renginys/nedirbsime-4/2025-10-15/
LOCATION:Rikis\, Šv.Stepono\, Vilnius\, 01139\, Lietuva
END:VEVENT
BEGIN:VEVENT
DTSTART;VALUE=DATE:20251015
DTEND;VALUE=DATE:20251016
DTSTAMP:20260420T230508
CREATED:20250825T132207Z
LAST-MODIFIED:20250828T114246Z
UID:10007801-1760486400-1760572799@rikis.lt
SUMMARY:Nedirbsime
DESCRIPTION:
URL:https://rikis.lt/renginys/nedirbsime-2/2025-10-15/
LOCATION:Rikis\, Šv.Stepono\, Vilnius\, 01139\, Lietuva
END:VEVENT
BEGIN:VEVENT
DTSTART;TZID=Europe/Vilnius:20251016T180000
DTEND;TZID=Europe/Vilnius:20251016T210000
DTSTAMP:20260420T230508
CREATED:20240522T151542Z
LAST-MODIFIED:20251005T103250Z
UID:10002412-1760637600-1760648400@rikis.lt
SUMMARY:Magic: the Gathering Commander vakarai
DESCRIPTION:Savaitiniai MTG Commander vakarai.\nDalyvavimas nemokamas.\n\nMūsų Discord: https://discord.gg/WdKGvBsYKH
URL:https://rikis.lt/renginys/ketvirtadienio-magic-the-gathering-commander-vakarai-2-2-2-2/2025-10-16/
LOCATION:Rikis\, Šv.Stepono\, Vilnius\, 01139\, Lietuva
CATEGORIES:Magic: The Gathering,Turnyras
ATTACH;FMTTYPE=image/png:https://rikis.lt/wp-content/uploads/Standart-tournament-5.png
END:VEVENT
BEGIN:VEVENT
DTSTART;TZID=Europe/Vilnius:20251018T120000
DTEND;TZID=Europe/Vilnius:20251018T160000
DTSTAMP:20260420T230508
CREATED:20240522T151201Z
LAST-MODIFIED:20251025T170924Z
UID:10002153-1760788800-1760803200@rikis.lt
SUMMARY:Yu-Gi-Oh! žaidimai
DESCRIPTION:Savaitiniai Yu-Gi-Oh! turnyrai\nKaina: 5EUR\n\nDaugiau informacijos rasite discorde: https://discord.gg/fMqccmFvxC \n \n 
URL:https://rikis.lt/renginys/sestadiniai-yu-gi-oh-zaidimai-2-2-2/2025-10-18/
LOCATION:Rikis\, Šv.Stepono\, Vilnius\, 01139\, Lietuva
CATEGORIES:Turnyras
ATTACH;FMTTYPE=image/png:https://rikis.lt/wp-content/uploads/YGO-banner-naujas.png
END:VEVENT
BEGIN:VEVENT
DTSTART;TZID=Europe/Vilnius:20251018T120000
DTEND;TZID=Europe/Vilnius:20251018T180000
DTSTAMP:20260420T230508
CREATED:20250222T150352Z
LAST-MODIFIED:20251005T112753Z
UID:10010060-1760788800-1760810400@rikis.lt
SUMMARY:Pokémon Bo3 turnyras
DESCRIPTION:Entry – 10 eur \nTournament Format: Swiss \nRounds: Best-of-3 matches (each round lasts 50 minutes). \nTop Cut: Top players from Swiss rounds advance to a single-elimination Bo3 playoff. \nMore info: https://discord.gg/JHdvjh2y2N
URL:https://rikis.lt/renginys/pokemon-bo3-turnyras-2/2025-10-18/
LOCATION:Rikis\, Šv.Stepono\, Vilnius\, 01139\, Lietuva
END:VEVENT
BEGIN:VEVENT
DTSTART;TZID=Europe/Vilnius:20251018T130000
DTEND;TZID=Europe/Vilnius:20251018T180000
DTSTAMP:20260420T230508
CREATED:20250825T174200Z
LAST-MODIFIED:20251005T112506Z
UID:10009759-1760792400-1760810400@rikis.lt
SUMMARY:Riftbound Turnyras
DESCRIPTION:Prisijunkite prie naujai iškepto TCG\, Riftbound\, turnyro! \nDalyvio mokesčio nėra. Galima naudoti spausdintas kortas. \nTaip pat lauksime Jūsų bendruomenės Discord serveryje: https://discord.gg/KckGyg7EWJ
URL:https://rikis.lt/renginys/riftbound-turnyras/2025-10-18/
LOCATION:Rikis\, Šv.Stepono\, Vilnius\, 01139\, Lietuva
ATTACH;FMTTYPE=image/png:https://rikis.lt/wp-content/uploads/SZ-Veleveles-LT-LV-EE-RU-V3-2025-08-25T171125.929.png
END:VEVENT
BEGIN:VEVENT
DTSTART;TZID=Europe/Vilnius:20251019T120000
DTEND;TZID=Europe/Vilnius:20251019T143000
DTSTAMP:20260420T230508
CREATED:20250124T141427Z
LAST-MODIFIED:20251005T112110Z
UID:10001635-1760875200-1760884200@rikis.lt
SUMMARY:One Piece TCG Locals
DESCRIPTION:One Piece TCG local turnyrai.\nNaujokai laukiami!\n\nDaugiau informacijos discorde: https://discord.gg/qHuVVvNvJV
URL:https://rikis.lt/renginys/one-piece-tcg-locals-3-2-2/2025-10-19/
LOCATION:Rikis\, Šv.Stepono\, Vilnius\, 01139\, Lietuva
CATEGORIES:One Piece,Turnyras
ATTACH;FMTTYPE=image/png:https://rikis.lt/wp-content/uploads/OP-banner-1.png
END:VEVENT
BEGIN:VEVENT
DTSTART;TZID=Europe/Vilnius:20251019T123000
DTEND;TZID=Europe/Vilnius:20251019T180000
DTSTAMP:20260420T230508
CREATED:20241002T161653Z
LAST-MODIFIED:20251025T171035Z
UID:10006462-1760877000-1760896800@rikis.lt
SUMMARY:Flesh and Blood Classic Constructed
DESCRIPTION:Pasiruoškite galutiniam įgūdžių\, strategijos  išbandymui su „Classic Constructed“ –  „Flesh and Blood“.  Formatas 1 prieš 1\, Classic Constructed siūlo jaudinančią žaidimo patirtį\, kuri patiks net labiausiai patyrusiems žaidėjams. \nBileto kainą: 5 Eur \nPrizai: Papildymo pakuotės\, Playmatai\, Promo kortos. \n \nDaugiau apie formatą: https://fabtcg.com/resources/gameplay-formats/classic-constructed/
URL:https://rikis.lt/renginys/flesh-and-blood-classic-constructed-4/2025-10-19/
LOCATION:Rikis\, Šv.Stepono\, Vilnius\, 01139\, Lietuva
CATEGORIES:Flesh and Blood,Turnyras
ATTACH;FMTTYPE=image/jpeg:https://rikis.lt/wp-content/uploads/flesh-and-blood-classic-constructed.jpg
END:VEVENT
BEGIN:VEVENT
DTSTART;TZID=Europe/Vilnius:20251019T130000
DTEND;TZID=Europe/Vilnius:20251019T150000
DTSTAMP:20260420T230508
CREATED:20240522T151023Z
LAST-MODIFIED:20251005T112118Z
UID:10000509-1760878800-1760886000@rikis.lt
SUMMARY:Digimon Casual Play
DESCRIPTION:Savaitiniai Digimon TCG turnyrai.\nNaujokai laukiami!\n\nDaugiau informacijos discorde: https://discord.gg/VkTbxCJQ3g
URL:https://rikis.lt/renginys/sekmadieninis-digimon-casual-play-2-2-2/2025-10-19/
LOCATION:Rikis\, Šv.Stepono\, Vilnius\, 01139\, Lietuva
CATEGORIES:Digimon Card Game,Turnyras
ATTACH;FMTTYPE=image/png:https://rikis.lt/wp-content/uploads/DGM-banner.png
END:VEVENT
BEGIN:VEVENT
DTSTART;VALUE=DATE:20251020
DTEND;VALUE=DATE:20251021
DTSTAMP:20260420T230508
CREATED:20250312T173656Z
LAST-MODIFIED:20251021T114640Z
UID:10010993-1760918400-1760918400@rikis.lt
SUMMARY:Nedirbsime
DESCRIPTION:
URL:https://rikis.lt/renginys/nedirbsime-4/2025-10-20/
LOCATION:Rikis\, Šv.Stepono\, Vilnius\, 01139\, Lietuva
END:VEVENT
BEGIN:VEVENT
DTSTART;VALUE=DATE:20251020
DTEND;VALUE=DATE:20251021
DTSTAMP:20260420T230508
CREATED:20250828T114517Z
LAST-MODIFIED:20250828T114517Z
UID:10008334-1760918400-1761004799@rikis.lt
SUMMARY:Nedirbsime
DESCRIPTION:
URL:https://rikis.lt/renginys/nedirbsime-3/2025-10-20/
LOCATION:Rikis\, Šv.Stepono\, Vilnius\, 01139\, Lietuva
END:VEVENT
BEGIN:VEVENT
DTSTART;TZID=Europe/Vilnius:20251021T183000
DTEND;TZID=Europe/Vilnius:20251021T210000
DTSTAMP:20260420T230508
CREATED:20240514T131819Z
LAST-MODIFIED:20251025T170953Z
UID:10002934-1761071400-1761080400@rikis.lt
SUMMARY:Pokemon žaidimai
DESCRIPTION:Pokemon Standard turnyras!\nŽaidžiama su Standard tipo kaladėmis.\nDalyvio mokestis: 5EUR\n\nDaugiau informacijos discorde: https://discord.gg/JHdvjh2y2N\nNaujokai laukiami! \n  \n  \n 
URL:https://rikis.lt/renginys/antradienio-pokemon-zaidimai-2-2-2/2025-10-21/
LOCATION:Rikis\, Šv.Stepono\, Vilnius\, 01139\, Lietuva
CATEGORIES:Turnyras
ATTACH;FMTTYPE=image/png:https://rikis.lt/wp-content/uploads/PKM-tournament-banner.png
END:VEVENT
END:VCALENDAR