BEGIN:VCALENDAR
VERSION:2.0
PRODID:-//www.rikis.lt - ECPv6.3.7//NONSGML v1.0//EN
CALSCALE:GREGORIAN
METHOD:PUBLISH
X-WR-CALNAME:www.rikis.lt
X-ORIGINAL-URL:https://rikis.lt
X-WR-CALDESC:Events for www.rikis.lt
REFRESH-INTERVAL;VALUE=DURATION:PT1H
X-Robots-Tag:noindex
X-PUBLISHED-TTL:PT1H
BEGIN:VTIMEZONE
TZID:Europe/Vilnius
BEGIN:DAYLIGHT
TZOFFSETFROM:+0200
TZOFFSETTO:+0300
TZNAME:EEST
DTSTART:20280326T010000
END:DAYLIGHT
BEGIN:STANDARD
TZOFFSETFROM:+0300
TZOFFSETTO:+0200
TZNAME:EET
DTSTART:20281029T010000
END:STANDARD
END:VTIMEZONE
BEGIN:VEVENT
DTSTART;TZID=Europe/Vilnius:20280326T130000
DTEND;TZID=Europe/Vilnius:20280326T150000
DTSTAMP:20260421T135358
CREATED:20240522T151023Z
LAST-MODIFIED:20251005T112118Z
UID:10001240-1837688400-1837695600@rikis.lt
SUMMARY:Digimon Casual Play
DESCRIPTION:Savaitiniai Digimon TCG turnyrai.\nNaujokai laukiami!\n\nDaugiau informacijos discorde: https://discord.gg/VkTbxCJQ3g
URL:https://rikis.lt/renginys/sekmadieninis-digimon-casual-play-2-2-2/2028-03-26/
LOCATION:Rikis\, Šv.Stepono\, Vilnius\, 01139\, Lietuva
CATEGORIES:Digimon Card Game,Turnyras
ATTACH;FMTTYPE=image/png:https://rikis.lt/wp-content/uploads/DGM-banner.png
END:VEVENT
BEGIN:VEVENT
DTSTART;TZID=Europe/Vilnius:20280402T130000
DTEND;TZID=Europe/Vilnius:20280402T150000
DTSTAMP:20260421T135358
CREATED:20240522T151023Z
LAST-MODIFIED:20251005T112118Z
UID:10001241-1838293200-1838300400@rikis.lt
SUMMARY:Digimon Casual Play
DESCRIPTION:Savaitiniai Digimon TCG turnyrai.\nNaujokai laukiami!\n\nDaugiau informacijos discorde: https://discord.gg/VkTbxCJQ3g
URL:https://rikis.lt/renginys/sekmadieninis-digimon-casual-play-2-2-2/2028-04-02/
LOCATION:Rikis\, Šv.Stepono\, Vilnius\, 01139\, Lietuva
CATEGORIES:Digimon Card Game,Turnyras
ATTACH;FMTTYPE=image/png:https://rikis.lt/wp-content/uploads/DGM-banner.png
END:VEVENT
BEGIN:VEVENT
DTSTART;TZID=Europe/Vilnius:20280409T130000
DTEND;TZID=Europe/Vilnius:20280409T150000
DTSTAMP:20260421T135358
CREATED:20240522T151023Z
LAST-MODIFIED:20251005T112118Z
UID:10001242-1838898000-1838905200@rikis.lt
SUMMARY:Digimon Casual Play
DESCRIPTION:Savaitiniai Digimon TCG turnyrai.\nNaujokai laukiami!\n\nDaugiau informacijos discorde: https://discord.gg/VkTbxCJQ3g
URL:https://rikis.lt/renginys/sekmadieninis-digimon-casual-play-2-2-2/2028-04-09/
LOCATION:Rikis\, Šv.Stepono\, Vilnius\, 01139\, Lietuva
CATEGORIES:Digimon Card Game,Turnyras
ATTACH;FMTTYPE=image/png:https://rikis.lt/wp-content/uploads/DGM-banner.png
END:VEVENT
BEGIN:VEVENT
DTSTART;TZID=Europe/Vilnius:20280416T130000
DTEND;TZID=Europe/Vilnius:20280416T150000
DTSTAMP:20260421T135358
CREATED:20240522T151023Z
LAST-MODIFIED:20251005T112118Z
UID:10001243-1839502800-1839510000@rikis.lt
SUMMARY:Digimon Casual Play
DESCRIPTION:Savaitiniai Digimon TCG turnyrai.\nNaujokai laukiami!\n\nDaugiau informacijos discorde: https://discord.gg/VkTbxCJQ3g
URL:https://rikis.lt/renginys/sekmadieninis-digimon-casual-play-2-2-2/2028-04-16/
LOCATION:Rikis\, Šv.Stepono\, Vilnius\, 01139\, Lietuva
CATEGORIES:Digimon Card Game,Turnyras
ATTACH;FMTTYPE=image/png:https://rikis.lt/wp-content/uploads/DGM-banner.png
END:VEVENT
BEGIN:VEVENT
DTSTART;TZID=Europe/Vilnius:20280423T130000
DTEND;TZID=Europe/Vilnius:20280423T150000
DTSTAMP:20260421T135358
CREATED:20240522T151023Z
LAST-MODIFIED:20251005T112118Z
UID:10001244-1840107600-1840114800@rikis.lt
SUMMARY:Digimon Casual Play
DESCRIPTION:Savaitiniai Digimon TCG turnyrai.\nNaujokai laukiami!\n\nDaugiau informacijos discorde: https://discord.gg/VkTbxCJQ3g
URL:https://rikis.lt/renginys/sekmadieninis-digimon-casual-play-2-2-2/2028-04-23/
LOCATION:Rikis\, Šv.Stepono\, Vilnius\, 01139\, Lietuva
CATEGORIES:Digimon Card Game,Turnyras
ATTACH;FMTTYPE=image/png:https://rikis.lt/wp-content/uploads/DGM-banner.png
END:VEVENT
BEGIN:VEVENT
DTSTART;TZID=Europe/Vilnius:20280430T130000
DTEND;TZID=Europe/Vilnius:20280430T150000
DTSTAMP:20260421T135358
CREATED:20240522T151023Z
LAST-MODIFIED:20251005T112118Z
UID:10001245-1840712400-1840719600@rikis.lt
SUMMARY:Digimon Casual Play
DESCRIPTION:Savaitiniai Digimon TCG turnyrai.\nNaujokai laukiami!\n\nDaugiau informacijos discorde: https://discord.gg/VkTbxCJQ3g
URL:https://rikis.lt/renginys/sekmadieninis-digimon-casual-play-2-2-2/2028-04-30/
LOCATION:Rikis\, Šv.Stepono\, Vilnius\, 01139\, Lietuva
CATEGORIES:Digimon Card Game,Turnyras
ATTACH;FMTTYPE=image/png:https://rikis.lt/wp-content/uploads/DGM-banner.png
END:VEVENT
BEGIN:VEVENT
DTSTART;TZID=Europe/Vilnius:20280507T130000
DTEND;TZID=Europe/Vilnius:20280507T150000
DTSTAMP:20260421T135358
CREATED:20240522T151023Z
LAST-MODIFIED:20251005T112118Z
UID:10001246-1841317200-1841324400@rikis.lt
SUMMARY:Digimon Casual Play
DESCRIPTION:Savaitiniai Digimon TCG turnyrai.\nNaujokai laukiami!\n\nDaugiau informacijos discorde: https://discord.gg/VkTbxCJQ3g
URL:https://rikis.lt/renginys/sekmadieninis-digimon-casual-play-2-2-2/2028-05-07/
LOCATION:Rikis\, Šv.Stepono\, Vilnius\, 01139\, Lietuva
CATEGORIES:Digimon Card Game,Turnyras
ATTACH;FMTTYPE=image/png:https://rikis.lt/wp-content/uploads/DGM-banner.png
END:VEVENT
BEGIN:VEVENT
DTSTART;TZID=Europe/Vilnius:20280514T130000
DTEND;TZID=Europe/Vilnius:20280514T150000
DTSTAMP:20260421T135358
CREATED:20240522T151023Z
LAST-MODIFIED:20251005T112118Z
UID:10001247-1841922000-1841929200@rikis.lt
SUMMARY:Digimon Casual Play
DESCRIPTION:Savaitiniai Digimon TCG turnyrai.\nNaujokai laukiami!\n\nDaugiau informacijos discorde: https://discord.gg/VkTbxCJQ3g
URL:https://rikis.lt/renginys/sekmadieninis-digimon-casual-play-2-2-2/2028-05-14/
LOCATION:Rikis\, Šv.Stepono\, Vilnius\, 01139\, Lietuva
CATEGORIES:Digimon Card Game,Turnyras
ATTACH;FMTTYPE=image/png:https://rikis.lt/wp-content/uploads/DGM-banner.png
END:VEVENT
BEGIN:VEVENT
DTSTART;TZID=Europe/Vilnius:20280521T130000
DTEND;TZID=Europe/Vilnius:20280521T150000
DTSTAMP:20260421T135358
CREATED:20240522T151023Z
LAST-MODIFIED:20251005T112118Z
UID:10001248-1842526800-1842534000@rikis.lt
SUMMARY:Digimon Casual Play
DESCRIPTION:Savaitiniai Digimon TCG turnyrai.\nNaujokai laukiami!\n\nDaugiau informacijos discorde: https://discord.gg/VkTbxCJQ3g
URL:https://rikis.lt/renginys/sekmadieninis-digimon-casual-play-2-2-2/2028-05-21/
LOCATION:Rikis\, Šv.Stepono\, Vilnius\, 01139\, Lietuva
CATEGORIES:Digimon Card Game,Turnyras
ATTACH;FMTTYPE=image/png:https://rikis.lt/wp-content/uploads/DGM-banner.png
END:VEVENT
BEGIN:VEVENT
DTSTART;TZID=Europe/Vilnius:20280528T130000
DTEND;TZID=Europe/Vilnius:20280528T150000
DTSTAMP:20260421T135358
CREATED:20240522T151023Z
LAST-MODIFIED:20251005T112118Z
UID:10001249-1843131600-1843138800@rikis.lt
SUMMARY:Digimon Casual Play
DESCRIPTION:Savaitiniai Digimon TCG turnyrai.\nNaujokai laukiami!\n\nDaugiau informacijos discorde: https://discord.gg/VkTbxCJQ3g
URL:https://rikis.lt/renginys/sekmadieninis-digimon-casual-play-2-2-2/2028-05-28/
LOCATION:Rikis\, Šv.Stepono\, Vilnius\, 01139\, Lietuva
CATEGORIES:Digimon Card Game,Turnyras
ATTACH;FMTTYPE=image/png:https://rikis.lt/wp-content/uploads/DGM-banner.png
END:VEVENT
BEGIN:VEVENT
DTSTART;TZID=Europe/Vilnius:20280604T130000
DTEND;TZID=Europe/Vilnius:20280604T150000
DTSTAMP:20260421T135358
CREATED:20240522T151023Z
LAST-MODIFIED:20251005T112118Z
UID:10001250-1843736400-1843743600@rikis.lt
SUMMARY:Digimon Casual Play
DESCRIPTION:Savaitiniai Digimon TCG turnyrai.\nNaujokai laukiami!\n\nDaugiau informacijos discorde: https://discord.gg/VkTbxCJQ3g
URL:https://rikis.lt/renginys/sekmadieninis-digimon-casual-play-2-2-2/2028-06-04/
LOCATION:Rikis\, Šv.Stepono\, Vilnius\, 01139\, Lietuva
CATEGORIES:Digimon Card Game,Turnyras
ATTACH;FMTTYPE=image/png:https://rikis.lt/wp-content/uploads/DGM-banner.png
END:VEVENT
BEGIN:VEVENT
DTSTART;TZID=Europe/Vilnius:20280611T130000
DTEND;TZID=Europe/Vilnius:20280611T150000
DTSTAMP:20260421T135358
CREATED:20240522T151023Z
LAST-MODIFIED:20251005T112118Z
UID:10001251-1844341200-1844348400@rikis.lt
SUMMARY:Digimon Casual Play
DESCRIPTION:Savaitiniai Digimon TCG turnyrai.\nNaujokai laukiami!\n\nDaugiau informacijos discorde: https://discord.gg/VkTbxCJQ3g
URL:https://rikis.lt/renginys/sekmadieninis-digimon-casual-play-2-2-2/2028-06-11/
LOCATION:Rikis\, Šv.Stepono\, Vilnius\, 01139\, Lietuva
CATEGORIES:Digimon Card Game,Turnyras
ATTACH;FMTTYPE=image/png:https://rikis.lt/wp-content/uploads/DGM-banner.png
END:VEVENT
BEGIN:VEVENT
DTSTART;TZID=Europe/Vilnius:20280618T130000
DTEND;TZID=Europe/Vilnius:20280618T150000
DTSTAMP:20260421T135358
CREATED:20240522T151023Z
LAST-MODIFIED:20251005T112118Z
UID:10001252-1844946000-1844953200@rikis.lt
SUMMARY:Digimon Casual Play
DESCRIPTION:Savaitiniai Digimon TCG turnyrai.\nNaujokai laukiami!\n\nDaugiau informacijos discorde: https://discord.gg/VkTbxCJQ3g
URL:https://rikis.lt/renginys/sekmadieninis-digimon-casual-play-2-2-2/2028-06-18/
LOCATION:Rikis\, Šv.Stepono\, Vilnius\, 01139\, Lietuva
CATEGORIES:Digimon Card Game,Turnyras
ATTACH;FMTTYPE=image/png:https://rikis.lt/wp-content/uploads/DGM-banner.png
END:VEVENT
BEGIN:VEVENT
DTSTART;TZID=Europe/Vilnius:20280625T130000
DTEND;TZID=Europe/Vilnius:20280625T150000
DTSTAMP:20260421T135358
CREATED:20240522T151023Z
LAST-MODIFIED:20251005T112118Z
UID:10001253-1845550800-1845558000@rikis.lt
SUMMARY:Digimon Casual Play
DESCRIPTION:Savaitiniai Digimon TCG turnyrai.\nNaujokai laukiami!\n\nDaugiau informacijos discorde: https://discord.gg/VkTbxCJQ3g
URL:https://rikis.lt/renginys/sekmadieninis-digimon-casual-play-2-2-2/2028-06-25/
LOCATION:Rikis\, Šv.Stepono\, Vilnius\, 01139\, Lietuva
CATEGORIES:Digimon Card Game,Turnyras
ATTACH;FMTTYPE=image/png:https://rikis.lt/wp-content/uploads/DGM-banner.png
END:VEVENT
BEGIN:VEVENT
DTSTART;TZID=Europe/Vilnius:20280702T130000
DTEND;TZID=Europe/Vilnius:20280702T150000
DTSTAMP:20260421T135358
CREATED:20240522T151023Z
LAST-MODIFIED:20251005T112118Z
UID:10001254-1846155600-1846162800@rikis.lt
SUMMARY:Digimon Casual Play
DESCRIPTION:Savaitiniai Digimon TCG turnyrai.\nNaujokai laukiami!\n\nDaugiau informacijos discorde: https://discord.gg/VkTbxCJQ3g
URL:https://rikis.lt/renginys/sekmadieninis-digimon-casual-play-2-2-2/2028-07-02/
LOCATION:Rikis\, Šv.Stepono\, Vilnius\, 01139\, Lietuva
CATEGORIES:Digimon Card Game,Turnyras
ATTACH;FMTTYPE=image/png:https://rikis.lt/wp-content/uploads/DGM-banner.png
END:VEVENT
BEGIN:VEVENT
DTSTART;TZID=Europe/Vilnius:20280709T130000
DTEND;TZID=Europe/Vilnius:20280709T150000
DTSTAMP:20260421T135358
CREATED:20240522T151023Z
LAST-MODIFIED:20251005T112118Z
UID:10001255-1846760400-1846767600@rikis.lt
SUMMARY:Digimon Casual Play
DESCRIPTION:Savaitiniai Digimon TCG turnyrai.\nNaujokai laukiami!\n\nDaugiau informacijos discorde: https://discord.gg/VkTbxCJQ3g
URL:https://rikis.lt/renginys/sekmadieninis-digimon-casual-play-2-2-2/2028-07-09/
LOCATION:Rikis\, Šv.Stepono\, Vilnius\, 01139\, Lietuva
CATEGORIES:Digimon Card Game,Turnyras
ATTACH;FMTTYPE=image/png:https://rikis.lt/wp-content/uploads/DGM-banner.png
END:VEVENT
BEGIN:VEVENT
DTSTART;TZID=Europe/Vilnius:20280716T130000
DTEND;TZID=Europe/Vilnius:20280716T150000
DTSTAMP:20260421T135358
CREATED:20240522T151023Z
LAST-MODIFIED:20251005T112118Z
UID:10001256-1847365200-1847372400@rikis.lt
SUMMARY:Digimon Casual Play
DESCRIPTION:Savaitiniai Digimon TCG turnyrai.\nNaujokai laukiami!\n\nDaugiau informacijos discorde: https://discord.gg/VkTbxCJQ3g
URL:https://rikis.lt/renginys/sekmadieninis-digimon-casual-play-2-2-2/2028-07-16/
LOCATION:Rikis\, Šv.Stepono\, Vilnius\, 01139\, Lietuva
CATEGORIES:Digimon Card Game,Turnyras
ATTACH;FMTTYPE=image/png:https://rikis.lt/wp-content/uploads/DGM-banner.png
END:VEVENT
BEGIN:VEVENT
DTSTART;TZID=Europe/Vilnius:20280723T130000
DTEND;TZID=Europe/Vilnius:20280723T150000
DTSTAMP:20260421T135358
CREATED:20240522T151023Z
LAST-MODIFIED:20251005T112118Z
UID:10001257-1847970000-1847977200@rikis.lt
SUMMARY:Digimon Casual Play
DESCRIPTION:Savaitiniai Digimon TCG turnyrai.\nNaujokai laukiami!\n\nDaugiau informacijos discorde: https://discord.gg/VkTbxCJQ3g
URL:https://rikis.lt/renginys/sekmadieninis-digimon-casual-play-2-2-2/2028-07-23/
LOCATION:Rikis\, Šv.Stepono\, Vilnius\, 01139\, Lietuva
CATEGORIES:Digimon Card Game,Turnyras
ATTACH;FMTTYPE=image/png:https://rikis.lt/wp-content/uploads/DGM-banner.png
END:VEVENT
BEGIN:VEVENT
DTSTART;TZID=Europe/Vilnius:20280730T130000
DTEND;TZID=Europe/Vilnius:20280730T150000
DTSTAMP:20260421T135358
CREATED:20240522T151023Z
LAST-MODIFIED:20251005T112118Z
UID:10001258-1848574800-1848582000@rikis.lt
SUMMARY:Digimon Casual Play
DESCRIPTION:Savaitiniai Digimon TCG turnyrai.\nNaujokai laukiami!\n\nDaugiau informacijos discorde: https://discord.gg/VkTbxCJQ3g
URL:https://rikis.lt/renginys/sekmadieninis-digimon-casual-play-2-2-2/2028-07-30/
LOCATION:Rikis\, Šv.Stepono\, Vilnius\, 01139\, Lietuva
CATEGORIES:Digimon Card Game,Turnyras
ATTACH;FMTTYPE=image/png:https://rikis.lt/wp-content/uploads/DGM-banner.png
END:VEVENT
BEGIN:VEVENT
DTSTART;TZID=Europe/Vilnius:20280806T130000
DTEND;TZID=Europe/Vilnius:20280806T150000
DTSTAMP:20260421T135358
CREATED:20240522T151023Z
LAST-MODIFIED:20251005T112118Z
UID:10001259-1849179600-1849186800@rikis.lt
SUMMARY:Digimon Casual Play
DESCRIPTION:Savaitiniai Digimon TCG turnyrai.\nNaujokai laukiami!\n\nDaugiau informacijos discorde: https://discord.gg/VkTbxCJQ3g
URL:https://rikis.lt/renginys/sekmadieninis-digimon-casual-play-2-2-2/2028-08-06/
LOCATION:Rikis\, Šv.Stepono\, Vilnius\, 01139\, Lietuva
CATEGORIES:Digimon Card Game,Turnyras
ATTACH;FMTTYPE=image/png:https://rikis.lt/wp-content/uploads/DGM-banner.png
END:VEVENT
BEGIN:VEVENT
DTSTART;TZID=Europe/Vilnius:20280813T130000
DTEND;TZID=Europe/Vilnius:20280813T150000
DTSTAMP:20260421T135358
CREATED:20240522T151023Z
LAST-MODIFIED:20251005T112118Z
UID:10001260-1849784400-1849791600@rikis.lt
SUMMARY:Digimon Casual Play
DESCRIPTION:Savaitiniai Digimon TCG turnyrai.\nNaujokai laukiami!\n\nDaugiau informacijos discorde: https://discord.gg/VkTbxCJQ3g
URL:https://rikis.lt/renginys/sekmadieninis-digimon-casual-play-2-2-2/2028-08-13/
LOCATION:Rikis\, Šv.Stepono\, Vilnius\, 01139\, Lietuva
CATEGORIES:Digimon Card Game,Turnyras
ATTACH;FMTTYPE=image/png:https://rikis.lt/wp-content/uploads/DGM-banner.png
END:VEVENT
BEGIN:VEVENT
DTSTART;TZID=Europe/Vilnius:20280820T130000
DTEND;TZID=Europe/Vilnius:20280820T150000
DTSTAMP:20260421T135358
CREATED:20240522T151023Z
LAST-MODIFIED:20251005T112118Z
UID:10001261-1850389200-1850396400@rikis.lt
SUMMARY:Digimon Casual Play
DESCRIPTION:Savaitiniai Digimon TCG turnyrai.\nNaujokai laukiami!\n\nDaugiau informacijos discorde: https://discord.gg/VkTbxCJQ3g
URL:https://rikis.lt/renginys/sekmadieninis-digimon-casual-play-2-2-2/2028-08-20/
LOCATION:Rikis\, Šv.Stepono\, Vilnius\, 01139\, Lietuva
CATEGORIES:Digimon Card Game,Turnyras
ATTACH;FMTTYPE=image/png:https://rikis.lt/wp-content/uploads/DGM-banner.png
END:VEVENT
BEGIN:VEVENT
DTSTART;TZID=Europe/Vilnius:20280827T130000
DTEND;TZID=Europe/Vilnius:20280827T150000
DTSTAMP:20260421T135358
CREATED:20240522T151023Z
LAST-MODIFIED:20251005T112118Z
UID:10001262-1850994000-1851001200@rikis.lt
SUMMARY:Digimon Casual Play
DESCRIPTION:Savaitiniai Digimon TCG turnyrai.\nNaujokai laukiami!\n\nDaugiau informacijos discorde: https://discord.gg/VkTbxCJQ3g
URL:https://rikis.lt/renginys/sekmadieninis-digimon-casual-play-2-2-2/2028-08-27/
LOCATION:Rikis\, Šv.Stepono\, Vilnius\, 01139\, Lietuva
CATEGORIES:Digimon Card Game,Turnyras
ATTACH;FMTTYPE=image/png:https://rikis.lt/wp-content/uploads/DGM-banner.png
END:VEVENT
BEGIN:VEVENT
DTSTART;TZID=Europe/Vilnius:20280903T130000
DTEND;TZID=Europe/Vilnius:20280903T150000
DTSTAMP:20260421T135358
CREATED:20240522T151023Z
LAST-MODIFIED:20251005T112118Z
UID:10001263-1851598800-1851606000@rikis.lt
SUMMARY:Digimon Casual Play
DESCRIPTION:Savaitiniai Digimon TCG turnyrai.\nNaujokai laukiami!\n\nDaugiau informacijos discorde: https://discord.gg/VkTbxCJQ3g
URL:https://rikis.lt/renginys/sekmadieninis-digimon-casual-play-2-2-2/2028-09-03/
LOCATION:Rikis\, Šv.Stepono\, Vilnius\, 01139\, Lietuva
CATEGORIES:Digimon Card Game,Turnyras
ATTACH;FMTTYPE=image/png:https://rikis.lt/wp-content/uploads/DGM-banner.png
END:VEVENT
BEGIN:VEVENT
DTSTART;TZID=Europe/Vilnius:20280910T130000
DTEND;TZID=Europe/Vilnius:20280910T150000
DTSTAMP:20260421T135358
CREATED:20240522T151023Z
LAST-MODIFIED:20251005T112118Z
UID:10001264-1852203600-1852210800@rikis.lt
SUMMARY:Digimon Casual Play
DESCRIPTION:Savaitiniai Digimon TCG turnyrai.\nNaujokai laukiami!\n\nDaugiau informacijos discorde: https://discord.gg/VkTbxCJQ3g
URL:https://rikis.lt/renginys/sekmadieninis-digimon-casual-play-2-2-2/2028-09-10/
LOCATION:Rikis\, Šv.Stepono\, Vilnius\, 01139\, Lietuva
CATEGORIES:Digimon Card Game,Turnyras
ATTACH;FMTTYPE=image/png:https://rikis.lt/wp-content/uploads/DGM-banner.png
END:VEVENT
BEGIN:VEVENT
DTSTART;TZID=Europe/Vilnius:20280917T130000
DTEND;TZID=Europe/Vilnius:20280917T150000
DTSTAMP:20260421T135358
CREATED:20240522T151023Z
LAST-MODIFIED:20251005T112118Z
UID:10001265-1852808400-1852815600@rikis.lt
SUMMARY:Digimon Casual Play
DESCRIPTION:Savaitiniai Digimon TCG turnyrai.\nNaujokai laukiami!\n\nDaugiau informacijos discorde: https://discord.gg/VkTbxCJQ3g
URL:https://rikis.lt/renginys/sekmadieninis-digimon-casual-play-2-2-2/2028-09-17/
LOCATION:Rikis\, Šv.Stepono\, Vilnius\, 01139\, Lietuva
CATEGORIES:Digimon Card Game,Turnyras
ATTACH;FMTTYPE=image/png:https://rikis.lt/wp-content/uploads/DGM-banner.png
END:VEVENT
BEGIN:VEVENT
DTSTART;TZID=Europe/Vilnius:20280924T130000
DTEND;TZID=Europe/Vilnius:20280924T150000
DTSTAMP:20260421T135358
CREATED:20240522T151023Z
LAST-MODIFIED:20251005T112118Z
UID:10001266-1853413200-1853420400@rikis.lt
SUMMARY:Digimon Casual Play
DESCRIPTION:Savaitiniai Digimon TCG turnyrai.\nNaujokai laukiami!\n\nDaugiau informacijos discorde: https://discord.gg/VkTbxCJQ3g
URL:https://rikis.lt/renginys/sekmadieninis-digimon-casual-play-2-2-2/2028-09-24/
LOCATION:Rikis\, Šv.Stepono\, Vilnius\, 01139\, Lietuva
CATEGORIES:Digimon Card Game,Turnyras
ATTACH;FMTTYPE=image/png:https://rikis.lt/wp-content/uploads/DGM-banner.png
END:VEVENT
BEGIN:VEVENT
DTSTART;TZID=Europe/Vilnius:20281001T130000
DTEND;TZID=Europe/Vilnius:20281001T150000
DTSTAMP:20260421T135358
CREATED:20240522T151023Z
LAST-MODIFIED:20251005T112118Z
UID:10001267-1854018000-1854025200@rikis.lt
SUMMARY:Digimon Casual Play
DESCRIPTION:Savaitiniai Digimon TCG turnyrai.\nNaujokai laukiami!\n\nDaugiau informacijos discorde: https://discord.gg/VkTbxCJQ3g
URL:https://rikis.lt/renginys/sekmadieninis-digimon-casual-play-2-2-2/2028-10-01/
LOCATION:Rikis\, Šv.Stepono\, Vilnius\, 01139\, Lietuva
CATEGORIES:Digimon Card Game,Turnyras
ATTACH;FMTTYPE=image/png:https://rikis.lt/wp-content/uploads/DGM-banner.png
END:VEVENT
BEGIN:VEVENT
DTSTART;TZID=Europe/Vilnius:20281008T130000
DTEND;TZID=Europe/Vilnius:20281008T150000
DTSTAMP:20260421T135358
CREATED:20240522T151023Z
LAST-MODIFIED:20251005T112118Z
UID:10001268-1854622800-1854630000@rikis.lt
SUMMARY:Digimon Casual Play
DESCRIPTION:Savaitiniai Digimon TCG turnyrai.\nNaujokai laukiami!\n\nDaugiau informacijos discorde: https://discord.gg/VkTbxCJQ3g
URL:https://rikis.lt/renginys/sekmadieninis-digimon-casual-play-2-2-2/2028-10-08/
LOCATION:Rikis\, Šv.Stepono\, Vilnius\, 01139\, Lietuva
CATEGORIES:Digimon Card Game,Turnyras
ATTACH;FMTTYPE=image/png:https://rikis.lt/wp-content/uploads/DGM-banner.png
END:VEVENT
BEGIN:VEVENT
DTSTART;TZID=Europe/Vilnius:20281015T130000
DTEND;TZID=Europe/Vilnius:20281015T150000
DTSTAMP:20260421T135358
CREATED:20240522T151023Z
LAST-MODIFIED:20251005T112118Z
UID:10001269-1855227600-1855234800@rikis.lt
SUMMARY:Digimon Casual Play
DESCRIPTION:Savaitiniai Digimon TCG turnyrai.\nNaujokai laukiami!\n\nDaugiau informacijos discorde: https://discord.gg/VkTbxCJQ3g
URL:https://rikis.lt/renginys/sekmadieninis-digimon-casual-play-2-2-2/2028-10-15/
LOCATION:Rikis\, Šv.Stepono\, Vilnius\, 01139\, Lietuva
CATEGORIES:Digimon Card Game,Turnyras
ATTACH;FMTTYPE=image/png:https://rikis.lt/wp-content/uploads/DGM-banner.png
END:VEVENT
END:VCALENDAR