BEGIN:VCALENDAR
VERSION:2.0
PRODID:-//www.rikis.lt - ECPv6.3.7//NONSGML v1.0//EN
CALSCALE:GREGORIAN
METHOD:PUBLISH
X-ORIGINAL-URL:https://rikis.lt
X-WR-CALDESC:Events for www.rikis.lt
REFRESH-INTERVAL;VALUE=DURATION:PT1H
X-Robots-Tag:noindex
X-PUBLISHED-TTL:PT1H
BEGIN:VTIMEZONE
TZID:Europe/Vilnius
BEGIN:DAYLIGHT
TZOFFSETFROM:+0200
TZOFFSETTO:+0300
TZNAME:EEST
DTSTART:20280326T010000
END:DAYLIGHT
BEGIN:STANDARD
TZOFFSETFROM:+0300
TZOFFSETTO:+0200
TZNAME:EET
DTSTART:20281029T010000
END:STANDARD
BEGIN:DAYLIGHT
TZOFFSETFROM:+0200
TZOFFSETTO:+0300
TZNAME:EEST
DTSTART:20290325T010000
END:DAYLIGHT
BEGIN:STANDARD
TZOFFSETFROM:+0300
TZOFFSETTO:+0200
TZNAME:EET
DTSTART:20291028T010000
END:STANDARD
END:VTIMEZONE
BEGIN:VEVENT
DTSTART;TZID=Europe/Vilnius:20281231T130000
DTEND;TZID=Europe/Vilnius:20281231T150000
DTSTAMP:20260421T165040
CREATED:20240522T151023Z
LAST-MODIFIED:20251005T112118Z
UID:10001280-1861880400-1861887600@rikis.lt
SUMMARY:Digimon Casual Play
DESCRIPTION:Savaitiniai Digimon TCG turnyrai.\nNaujokai laukiami!\n\nDaugiau informacijos discorde: https://discord.gg/VkTbxCJQ3g
URL:https://rikis.lt/renginys/sekmadieninis-digimon-casual-play-2-2-2/2028-12-31/
LOCATION:Rikis\, Šv.Stepono\, Vilnius\, 01139\, Lietuva
CATEGORIES:Digimon Card Game,Turnyras
ATTACH;FMTTYPE=image/png:https://rikis.lt/wp-content/uploads/DGM-banner.png
END:VEVENT
BEGIN:VEVENT
DTSTART;TZID=Europe/Vilnius:20290107T130000
DTEND;TZID=Europe/Vilnius:20290107T150000
DTSTAMP:20260421T165040
CREATED:20240522T151023Z
LAST-MODIFIED:20251005T112118Z
UID:10001281-1862485200-1862492400@rikis.lt
SUMMARY:Digimon Casual Play
DESCRIPTION:Savaitiniai Digimon TCG turnyrai.\nNaujokai laukiami!\n\nDaugiau informacijos discorde: https://discord.gg/VkTbxCJQ3g
URL:https://rikis.lt/renginys/sekmadieninis-digimon-casual-play-2-2-2/2029-01-07/
LOCATION:Rikis\, Šv.Stepono\, Vilnius\, 01139\, Lietuva
CATEGORIES:Digimon Card Game,Turnyras
ATTACH;FMTTYPE=image/png:https://rikis.lt/wp-content/uploads/DGM-banner.png
END:VEVENT
BEGIN:VEVENT
DTSTART;TZID=Europe/Vilnius:20290114T130000
DTEND;TZID=Europe/Vilnius:20290114T150000
DTSTAMP:20260421T165040
CREATED:20240522T151023Z
LAST-MODIFIED:20251005T112118Z
UID:10001282-1863090000-1863097200@rikis.lt
SUMMARY:Digimon Casual Play
DESCRIPTION:Savaitiniai Digimon TCG turnyrai.\nNaujokai laukiami!\n\nDaugiau informacijos discorde: https://discord.gg/VkTbxCJQ3g
URL:https://rikis.lt/renginys/sekmadieninis-digimon-casual-play-2-2-2/2029-01-14/
LOCATION:Rikis\, Šv.Stepono\, Vilnius\, 01139\, Lietuva
CATEGORIES:Digimon Card Game,Turnyras
ATTACH;FMTTYPE=image/png:https://rikis.lt/wp-content/uploads/DGM-banner.png
END:VEVENT
BEGIN:VEVENT
DTSTART;TZID=Europe/Vilnius:20290121T130000
DTEND;TZID=Europe/Vilnius:20290121T150000
DTSTAMP:20260421T165040
CREATED:20240522T151023Z
LAST-MODIFIED:20251005T112118Z
UID:10001283-1863694800-1863702000@rikis.lt
SUMMARY:Digimon Casual Play
DESCRIPTION:Savaitiniai Digimon TCG turnyrai.\nNaujokai laukiami!\n\nDaugiau informacijos discorde: https://discord.gg/VkTbxCJQ3g
URL:https://rikis.lt/renginys/sekmadieninis-digimon-casual-play-2-2-2/2029-01-21/
LOCATION:Rikis\, Šv.Stepono\, Vilnius\, 01139\, Lietuva
CATEGORIES:Digimon Card Game,Turnyras
ATTACH;FMTTYPE=image/png:https://rikis.lt/wp-content/uploads/DGM-banner.png
END:VEVENT
BEGIN:VEVENT
DTSTART;TZID=Europe/Vilnius:20290128T130000
DTEND;TZID=Europe/Vilnius:20290128T150000
DTSTAMP:20260421T165040
CREATED:20240522T151023Z
LAST-MODIFIED:20251005T112118Z
UID:10001284-1864299600-1864306800@rikis.lt
SUMMARY:Digimon Casual Play
DESCRIPTION:Savaitiniai Digimon TCG turnyrai.\nNaujokai laukiami!\n\nDaugiau informacijos discorde: https://discord.gg/VkTbxCJQ3g
URL:https://rikis.lt/renginys/sekmadieninis-digimon-casual-play-2-2-2/2029-01-28/
LOCATION:Rikis\, Šv.Stepono\, Vilnius\, 01139\, Lietuva
CATEGORIES:Digimon Card Game,Turnyras
ATTACH;FMTTYPE=image/png:https://rikis.lt/wp-content/uploads/DGM-banner.png
END:VEVENT
BEGIN:VEVENT
DTSTART;TZID=Europe/Vilnius:20290204T130000
DTEND;TZID=Europe/Vilnius:20290204T150000
DTSTAMP:20260421T165040
CREATED:20240522T151023Z
LAST-MODIFIED:20251005T112118Z
UID:10001285-1864904400-1864911600@rikis.lt
SUMMARY:Digimon Casual Play
DESCRIPTION:Savaitiniai Digimon TCG turnyrai.\nNaujokai laukiami!\n\nDaugiau informacijos discorde: https://discord.gg/VkTbxCJQ3g
URL:https://rikis.lt/renginys/sekmadieninis-digimon-casual-play-2-2-2/2029-02-04/
LOCATION:Rikis\, Šv.Stepono\, Vilnius\, 01139\, Lietuva
CATEGORIES:Digimon Card Game,Turnyras
ATTACH;FMTTYPE=image/png:https://rikis.lt/wp-content/uploads/DGM-banner.png
END:VEVENT
BEGIN:VEVENT
DTSTART;TZID=Europe/Vilnius:20290211T130000
DTEND;TZID=Europe/Vilnius:20290211T150000
DTSTAMP:20260421T165040
CREATED:20240522T151023Z
LAST-MODIFIED:20251005T112118Z
UID:10001286-1865509200-1865516400@rikis.lt
SUMMARY:Digimon Casual Play
DESCRIPTION:Savaitiniai Digimon TCG turnyrai.\nNaujokai laukiami!\n\nDaugiau informacijos discorde: https://discord.gg/VkTbxCJQ3g
URL:https://rikis.lt/renginys/sekmadieninis-digimon-casual-play-2-2-2/2029-02-11/
LOCATION:Rikis\, Šv.Stepono\, Vilnius\, 01139\, Lietuva
CATEGORIES:Digimon Card Game,Turnyras
ATTACH;FMTTYPE=image/png:https://rikis.lt/wp-content/uploads/DGM-banner.png
END:VEVENT
BEGIN:VEVENT
DTSTART;TZID=Europe/Vilnius:20290218T130000
DTEND;TZID=Europe/Vilnius:20290218T150000
DTSTAMP:20260421T165040
CREATED:20240522T151023Z
LAST-MODIFIED:20251005T112118Z
UID:10001287-1866114000-1866121200@rikis.lt
SUMMARY:Digimon Casual Play
DESCRIPTION:Savaitiniai Digimon TCG turnyrai.\nNaujokai laukiami!\n\nDaugiau informacijos discorde: https://discord.gg/VkTbxCJQ3g
URL:https://rikis.lt/renginys/sekmadieninis-digimon-casual-play-2-2-2/2029-02-18/
LOCATION:Rikis\, Šv.Stepono\, Vilnius\, 01139\, Lietuva
CATEGORIES:Digimon Card Game,Turnyras
ATTACH;FMTTYPE=image/png:https://rikis.lt/wp-content/uploads/DGM-banner.png
END:VEVENT
BEGIN:VEVENT
DTSTART;TZID=Europe/Vilnius:20290225T130000
DTEND;TZID=Europe/Vilnius:20290225T150000
DTSTAMP:20260421T165040
CREATED:20240522T151023Z
LAST-MODIFIED:20251005T112118Z
UID:10001288-1866718800-1866726000@rikis.lt
SUMMARY:Digimon Casual Play
DESCRIPTION:Savaitiniai Digimon TCG turnyrai.\nNaujokai laukiami!\n\nDaugiau informacijos discorde: https://discord.gg/VkTbxCJQ3g
URL:https://rikis.lt/renginys/sekmadieninis-digimon-casual-play-2-2-2/2029-02-25/
LOCATION:Rikis\, Šv.Stepono\, Vilnius\, 01139\, Lietuva
CATEGORIES:Digimon Card Game,Turnyras
ATTACH;FMTTYPE=image/png:https://rikis.lt/wp-content/uploads/DGM-banner.png
END:VEVENT
BEGIN:VEVENT
DTSTART;TZID=Europe/Vilnius:20290304T130000
DTEND;TZID=Europe/Vilnius:20290304T150000
DTSTAMP:20260421T165040
CREATED:20240522T151023Z
LAST-MODIFIED:20251005T112118Z
UID:10001289-1867323600-1867330800@rikis.lt
SUMMARY:Digimon Casual Play
DESCRIPTION:Savaitiniai Digimon TCG turnyrai.\nNaujokai laukiami!\n\nDaugiau informacijos discorde: https://discord.gg/VkTbxCJQ3g
URL:https://rikis.lt/renginys/sekmadieninis-digimon-casual-play-2-2-2/2029-03-04/
LOCATION:Rikis\, Šv.Stepono\, Vilnius\, 01139\, Lietuva
CATEGORIES:Digimon Card Game,Turnyras
ATTACH;FMTTYPE=image/png:https://rikis.lt/wp-content/uploads/DGM-banner.png
END:VEVENT
BEGIN:VEVENT
DTSTART;TZID=Europe/Vilnius:20290311T130000
DTEND;TZID=Europe/Vilnius:20290311T150000
DTSTAMP:20260421T165040
CREATED:20240522T151023Z
LAST-MODIFIED:20251005T112118Z
UID:10001290-1867928400-1867935600@rikis.lt
SUMMARY:Digimon Casual Play
DESCRIPTION:Savaitiniai Digimon TCG turnyrai.\nNaujokai laukiami!\n\nDaugiau informacijos discorde: https://discord.gg/VkTbxCJQ3g
URL:https://rikis.lt/renginys/sekmadieninis-digimon-casual-play-2-2-2/2029-03-11/
LOCATION:Rikis\, Šv.Stepono\, Vilnius\, 01139\, Lietuva
CATEGORIES:Digimon Card Game,Turnyras
ATTACH;FMTTYPE=image/png:https://rikis.lt/wp-content/uploads/DGM-banner.png
END:VEVENT
BEGIN:VEVENT
DTSTART;TZID=Europe/Vilnius:20290318T130000
DTEND;TZID=Europe/Vilnius:20290318T150000
DTSTAMP:20260421T165040
CREATED:20240522T151023Z
LAST-MODIFIED:20251005T112118Z
UID:10001291-1868533200-1868540400@rikis.lt
SUMMARY:Digimon Casual Play
DESCRIPTION:Savaitiniai Digimon TCG turnyrai.\nNaujokai laukiami!\n\nDaugiau informacijos discorde: https://discord.gg/VkTbxCJQ3g
URL:https://rikis.lt/renginys/sekmadieninis-digimon-casual-play-2-2-2/2029-03-18/
LOCATION:Rikis\, Šv.Stepono\, Vilnius\, 01139\, Lietuva
CATEGORIES:Digimon Card Game,Turnyras
ATTACH;FMTTYPE=image/png:https://rikis.lt/wp-content/uploads/DGM-banner.png
END:VEVENT
BEGIN:VEVENT
DTSTART;TZID=Europe/Vilnius:20290325T130000
DTEND;TZID=Europe/Vilnius:20290325T150000
DTSTAMP:20260421T165040
CREATED:20240522T151023Z
LAST-MODIFIED:20251005T112118Z
UID:10001292-1869138000-1869145200@rikis.lt
SUMMARY:Digimon Casual Play
DESCRIPTION:Savaitiniai Digimon TCG turnyrai.\nNaujokai laukiami!\n\nDaugiau informacijos discorde: https://discord.gg/VkTbxCJQ3g
URL:https://rikis.lt/renginys/sekmadieninis-digimon-casual-play-2-2-2/2029-03-25/
LOCATION:Rikis\, Šv.Stepono\, Vilnius\, 01139\, Lietuva
CATEGORIES:Digimon Card Game,Turnyras
ATTACH;FMTTYPE=image/png:https://rikis.lt/wp-content/uploads/DGM-banner.png
END:VEVENT
BEGIN:VEVENT
DTSTART;TZID=Europe/Vilnius:20290401T130000
DTEND;TZID=Europe/Vilnius:20290401T150000
DTSTAMP:20260421T165040
CREATED:20240522T151023Z
LAST-MODIFIED:20251005T112118Z
UID:10003115-1869742800-1869750000@rikis.lt
SUMMARY:Digimon Casual Play
DESCRIPTION:Savaitiniai Digimon TCG turnyrai.\nNaujokai laukiami!\n\nDaugiau informacijos discorde: https://discord.gg/VkTbxCJQ3g
URL:https://rikis.lt/renginys/sekmadieninis-digimon-casual-play-2-2-2/2029-04-01/
LOCATION:Rikis\, Šv.Stepono\, Vilnius\, 01139\, Lietuva
CATEGORIES:Digimon Card Game,Turnyras
ATTACH;FMTTYPE=image/png:https://rikis.lt/wp-content/uploads/DGM-banner.png
END:VEVENT
BEGIN:VEVENT
DTSTART;TZID=Europe/Vilnius:20290408T130000
DTEND;TZID=Europe/Vilnius:20290408T150000
DTSTAMP:20260421T165040
CREATED:20240522T151023Z
LAST-MODIFIED:20251005T112118Z
UID:10003933-1870347600-1870354800@rikis.lt
SUMMARY:Digimon Casual Play
DESCRIPTION:Savaitiniai Digimon TCG turnyrai.\nNaujokai laukiami!\n\nDaugiau informacijos discorde: https://discord.gg/VkTbxCJQ3g
URL:https://rikis.lt/renginys/sekmadieninis-digimon-casual-play-2-2-2/2029-04-08/
LOCATION:Rikis\, Šv.Stepono\, Vilnius\, 01139\, Lietuva
CATEGORIES:Digimon Card Game,Turnyras
ATTACH;FMTTYPE=image/png:https://rikis.lt/wp-content/uploads/DGM-banner.png
END:VEVENT
BEGIN:VEVENT
DTSTART;TZID=Europe/Vilnius:20290415T130000
DTEND;TZID=Europe/Vilnius:20290415T150000
DTSTAMP:20260421T165040
CREATED:20240522T151023Z
LAST-MODIFIED:20251005T112118Z
UID:10003934-1870952400-1870959600@rikis.lt
SUMMARY:Digimon Casual Play
DESCRIPTION:Savaitiniai Digimon TCG turnyrai.\nNaujokai laukiami!\n\nDaugiau informacijos discorde: https://discord.gg/VkTbxCJQ3g
URL:https://rikis.lt/renginys/sekmadieninis-digimon-casual-play-2-2-2/2029-04-15/
LOCATION:Rikis\, Šv.Stepono\, Vilnius\, 01139\, Lietuva
CATEGORIES:Digimon Card Game,Turnyras
ATTACH;FMTTYPE=image/png:https://rikis.lt/wp-content/uploads/DGM-banner.png
END:VEVENT
BEGIN:VEVENT
DTSTART;TZID=Europe/Vilnius:20290422T130000
DTEND;TZID=Europe/Vilnius:20290422T150000
DTSTAMP:20260421T165040
CREATED:20240522T151023Z
LAST-MODIFIED:20251005T112118Z
UID:10003935-1871557200-1871564400@rikis.lt
SUMMARY:Digimon Casual Play
DESCRIPTION:Savaitiniai Digimon TCG turnyrai.\nNaujokai laukiami!\n\nDaugiau informacijos discorde: https://discord.gg/VkTbxCJQ3g
URL:https://rikis.lt/renginys/sekmadieninis-digimon-casual-play-2-2-2/2029-04-22/
LOCATION:Rikis\, Šv.Stepono\, Vilnius\, 01139\, Lietuva
CATEGORIES:Digimon Card Game,Turnyras
ATTACH;FMTTYPE=image/png:https://rikis.lt/wp-content/uploads/DGM-banner.png
END:VEVENT
BEGIN:VEVENT
DTSTART;TZID=Europe/Vilnius:20290429T130000
DTEND;TZID=Europe/Vilnius:20290429T150000
DTSTAMP:20260421T165040
CREATED:20240522T151023Z
LAST-MODIFIED:20251005T112118Z
UID:10003936-1872162000-1872169200@rikis.lt
SUMMARY:Digimon Casual Play
DESCRIPTION:Savaitiniai Digimon TCG turnyrai.\nNaujokai laukiami!\n\nDaugiau informacijos discorde: https://discord.gg/VkTbxCJQ3g
URL:https://rikis.lt/renginys/sekmadieninis-digimon-casual-play-2-2-2/2029-04-29/
LOCATION:Rikis\, Šv.Stepono\, Vilnius\, 01139\, Lietuva
CATEGORIES:Digimon Card Game,Turnyras
ATTACH;FMTTYPE=image/png:https://rikis.lt/wp-content/uploads/DGM-banner.png
END:VEVENT
BEGIN:VEVENT
DTSTART;TZID=Europe/Vilnius:20290506T130000
DTEND;TZID=Europe/Vilnius:20290506T150000
DTSTAMP:20260421T165040
CREATED:20240522T151023Z
LAST-MODIFIED:20251005T112118Z
UID:10003937-1872766800-1872774000@rikis.lt
SUMMARY:Digimon Casual Play
DESCRIPTION:Savaitiniai Digimon TCG turnyrai.\nNaujokai laukiami!\n\nDaugiau informacijos discorde: https://discord.gg/VkTbxCJQ3g
URL:https://rikis.lt/renginys/sekmadieninis-digimon-casual-play-2-2-2/2029-05-06/
LOCATION:Rikis\, Šv.Stepono\, Vilnius\, 01139\, Lietuva
CATEGORIES:Digimon Card Game,Turnyras
ATTACH;FMTTYPE=image/png:https://rikis.lt/wp-content/uploads/DGM-banner.png
END:VEVENT
BEGIN:VEVENT
DTSTART;TZID=Europe/Vilnius:20290513T130000
DTEND;TZID=Europe/Vilnius:20290513T150000
DTSTAMP:20260421T165040
CREATED:20240522T151023Z
LAST-MODIFIED:20251005T112118Z
UID:10003938-1873371600-1873378800@rikis.lt
SUMMARY:Digimon Casual Play
DESCRIPTION:Savaitiniai Digimon TCG turnyrai.\nNaujokai laukiami!\n\nDaugiau informacijos discorde: https://discord.gg/VkTbxCJQ3g
URL:https://rikis.lt/renginys/sekmadieninis-digimon-casual-play-2-2-2/2029-05-13/
LOCATION:Rikis\, Šv.Stepono\, Vilnius\, 01139\, Lietuva
CATEGORIES:Digimon Card Game,Turnyras
ATTACH;FMTTYPE=image/png:https://rikis.lt/wp-content/uploads/DGM-banner.png
END:VEVENT
BEGIN:VEVENT
DTSTART;TZID=Europe/Vilnius:20290520T130000
DTEND;TZID=Europe/Vilnius:20290520T150000
DTSTAMP:20260421T165040
CREATED:20240522T151023Z
LAST-MODIFIED:20251005T112118Z
UID:10003957-1873976400-1873983600@rikis.lt
SUMMARY:Digimon Casual Play
DESCRIPTION:Savaitiniai Digimon TCG turnyrai.\nNaujokai laukiami!\n\nDaugiau informacijos discorde: https://discord.gg/VkTbxCJQ3g
URL:https://rikis.lt/renginys/sekmadieninis-digimon-casual-play-2-2-2/2029-05-20/
LOCATION:Rikis\, Šv.Stepono\, Vilnius\, 01139\, Lietuva
CATEGORIES:Digimon Card Game,Turnyras
ATTACH;FMTTYPE=image/png:https://rikis.lt/wp-content/uploads/DGM-banner.png
END:VEVENT
BEGIN:VEVENT
DTSTART;TZID=Europe/Vilnius:20290527T130000
DTEND;TZID=Europe/Vilnius:20290527T150000
DTSTAMP:20260421T165040
CREATED:20240522T151023Z
LAST-MODIFIED:20251005T112118Z
UID:10003967-1874581200-1874588400@rikis.lt
SUMMARY:Digimon Casual Play
DESCRIPTION:Savaitiniai Digimon TCG turnyrai.\nNaujokai laukiami!\n\nDaugiau informacijos discorde: https://discord.gg/VkTbxCJQ3g
URL:https://rikis.lt/renginys/sekmadieninis-digimon-casual-play-2-2-2/2029-05-27/
LOCATION:Rikis\, Šv.Stepono\, Vilnius\, 01139\, Lietuva
CATEGORIES:Digimon Card Game,Turnyras
ATTACH;FMTTYPE=image/png:https://rikis.lt/wp-content/uploads/DGM-banner.png
END:VEVENT
BEGIN:VEVENT
DTSTART;TZID=Europe/Vilnius:20290603T130000
DTEND;TZID=Europe/Vilnius:20290603T150000
DTSTAMP:20260421T165040
CREATED:20240522T151023Z
LAST-MODIFIED:20251005T112118Z
UID:10006362-1875186000-1875193200@rikis.lt
SUMMARY:Digimon Casual Play
DESCRIPTION:Savaitiniai Digimon TCG turnyrai.\nNaujokai laukiami!\n\nDaugiau informacijos discorde: https://discord.gg/VkTbxCJQ3g
URL:https://rikis.lt/renginys/sekmadieninis-digimon-casual-play-2-2-2/2029-06-03/
LOCATION:Rikis\, Šv.Stepono\, Vilnius\, 01139\, Lietuva
CATEGORIES:Digimon Card Game,Turnyras
ATTACH;FMTTYPE=image/png:https://rikis.lt/wp-content/uploads/DGM-banner.png
END:VEVENT
BEGIN:VEVENT
DTSTART;TZID=Europe/Vilnius:20290610T130000
DTEND;TZID=Europe/Vilnius:20290610T150000
DTSTAMP:20260421T165040
CREATED:20240522T151023Z
LAST-MODIFIED:20251005T112118Z
UID:10006363-1875790800-1875798000@rikis.lt
SUMMARY:Digimon Casual Play
DESCRIPTION:Savaitiniai Digimon TCG turnyrai.\nNaujokai laukiami!\n\nDaugiau informacijos discorde: https://discord.gg/VkTbxCJQ3g
URL:https://rikis.lt/renginys/sekmadieninis-digimon-casual-play-2-2-2/2029-06-10/
LOCATION:Rikis\, Šv.Stepono\, Vilnius\, 01139\, Lietuva
CATEGORIES:Digimon Card Game,Turnyras
ATTACH;FMTTYPE=image/png:https://rikis.lt/wp-content/uploads/DGM-banner.png
END:VEVENT
BEGIN:VEVENT
DTSTART;TZID=Europe/Vilnius:20290617T130000
DTEND;TZID=Europe/Vilnius:20290617T150000
DTSTAMP:20260421T165040
CREATED:20240522T151023Z
LAST-MODIFIED:20251005T112118Z
UID:10006364-1876395600-1876402800@rikis.lt
SUMMARY:Digimon Casual Play
DESCRIPTION:Savaitiniai Digimon TCG turnyrai.\nNaujokai laukiami!\n\nDaugiau informacijos discorde: https://discord.gg/VkTbxCJQ3g
URL:https://rikis.lt/renginys/sekmadieninis-digimon-casual-play-2-2-2/2029-06-17/
LOCATION:Rikis\, Šv.Stepono\, Vilnius\, 01139\, Lietuva
CATEGORIES:Digimon Card Game,Turnyras
ATTACH;FMTTYPE=image/png:https://rikis.lt/wp-content/uploads/DGM-banner.png
END:VEVENT
BEGIN:VEVENT
DTSTART;TZID=Europe/Vilnius:20290624T130000
DTEND;TZID=Europe/Vilnius:20290624T150000
DTSTAMP:20260421T165040
CREATED:20240522T151023Z
LAST-MODIFIED:20251005T112118Z
UID:10006365-1877000400-1877007600@rikis.lt
SUMMARY:Digimon Casual Play
DESCRIPTION:Savaitiniai Digimon TCG turnyrai.\nNaujokai laukiami!\n\nDaugiau informacijos discorde: https://discord.gg/VkTbxCJQ3g
URL:https://rikis.lt/renginys/sekmadieninis-digimon-casual-play-2-2-2/2029-06-24/
LOCATION:Rikis\, Šv.Stepono\, Vilnius\, 01139\, Lietuva
CATEGORIES:Digimon Card Game,Turnyras
ATTACH;FMTTYPE=image/png:https://rikis.lt/wp-content/uploads/DGM-banner.png
END:VEVENT
BEGIN:VEVENT
DTSTART;TZID=Europe/Vilnius:20290701T130000
DTEND;TZID=Europe/Vilnius:20290701T150000
DTSTAMP:20260421T165040
CREATED:20240522T151023Z
LAST-MODIFIED:20251005T112118Z
UID:10006366-1877605200-1877612400@rikis.lt
SUMMARY:Digimon Casual Play
DESCRIPTION:Savaitiniai Digimon TCG turnyrai.\nNaujokai laukiami!\n\nDaugiau informacijos discorde: https://discord.gg/VkTbxCJQ3g
URL:https://rikis.lt/renginys/sekmadieninis-digimon-casual-play-2-2-2/2029-07-01/
LOCATION:Rikis\, Šv.Stepono\, Vilnius\, 01139\, Lietuva
CATEGORIES:Digimon Card Game,Turnyras
ATTACH;FMTTYPE=image/png:https://rikis.lt/wp-content/uploads/DGM-banner.png
END:VEVENT
BEGIN:VEVENT
DTSTART;TZID=Europe/Vilnius:20290708T130000
DTEND;TZID=Europe/Vilnius:20290708T150000
DTSTAMP:20260421T165040
CREATED:20240522T151023Z
LAST-MODIFIED:20251005T112118Z
UID:10006367-1878210000-1878217200@rikis.lt
SUMMARY:Digimon Casual Play
DESCRIPTION:Savaitiniai Digimon TCG turnyrai.\nNaujokai laukiami!\n\nDaugiau informacijos discorde: https://discord.gg/VkTbxCJQ3g
URL:https://rikis.lt/renginys/sekmadieninis-digimon-casual-play-2-2-2/2029-07-08/
LOCATION:Rikis\, Šv.Stepono\, Vilnius\, 01139\, Lietuva
CATEGORIES:Digimon Card Game,Turnyras
ATTACH;FMTTYPE=image/png:https://rikis.lt/wp-content/uploads/DGM-banner.png
END:VEVENT
BEGIN:VEVENT
DTSTART;TZID=Europe/Vilnius:20290715T130000
DTEND;TZID=Europe/Vilnius:20290715T150000
DTSTAMP:20260421T165040
CREATED:20240522T151023Z
LAST-MODIFIED:20251005T112118Z
UID:10006368-1878814800-1878822000@rikis.lt
SUMMARY:Digimon Casual Play
DESCRIPTION:Savaitiniai Digimon TCG turnyrai.\nNaujokai laukiami!\n\nDaugiau informacijos discorde: https://discord.gg/VkTbxCJQ3g
URL:https://rikis.lt/renginys/sekmadieninis-digimon-casual-play-2-2-2/2029-07-15/
LOCATION:Rikis\, Šv.Stepono\, Vilnius\, 01139\, Lietuva
CATEGORIES:Digimon Card Game,Turnyras
ATTACH;FMTTYPE=image/png:https://rikis.lt/wp-content/uploads/DGM-banner.png
END:VEVENT
BEGIN:VEVENT
DTSTART;TZID=Europe/Vilnius:20290722T130000
DTEND;TZID=Europe/Vilnius:20290722T150000
DTSTAMP:20260421T165040
CREATED:20240522T151023Z
LAST-MODIFIED:20251005T112118Z
UID:10006369-1879419600-1879426800@rikis.lt
SUMMARY:Digimon Casual Play
DESCRIPTION:Savaitiniai Digimon TCG turnyrai.\nNaujokai laukiami!\n\nDaugiau informacijos discorde: https://discord.gg/VkTbxCJQ3g
URL:https://rikis.lt/renginys/sekmadieninis-digimon-casual-play-2-2-2/2029-07-22/
LOCATION:Rikis\, Šv.Stepono\, Vilnius\, 01139\, Lietuva
CATEGORIES:Digimon Card Game,Turnyras
ATTACH;FMTTYPE=image/png:https://rikis.lt/wp-content/uploads/DGM-banner.png
END:VEVENT
END:VCALENDAR