BEGIN:VCALENDAR
VERSION:2.0
PRODID:-//www.rikis.lt - ECPv6.3.7//NONSGML v1.0//EN
CALSCALE:GREGORIAN
METHOD:PUBLISH
X-ORIGINAL-URL:https://rikis.lt
X-WR-CALDESC:Events for www.rikis.lt
REFRESH-INTERVAL;VALUE=DURATION:PT1H
X-Robots-Tag:noindex
X-PUBLISHED-TTL:PT1H
BEGIN:VTIMEZONE
TZID:Europe/Vilnius
BEGIN:DAYLIGHT
TZOFFSETFROM:+0200
TZOFFSETTO:+0300
TZNAME:EEST
DTSTART:20290325T010000
END:DAYLIGHT
BEGIN:STANDARD
TZOFFSETFROM:+0300
TZOFFSETTO:+0200
TZNAME:EET
DTSTART:20291028T010000
END:STANDARD
END:VTIMEZONE
BEGIN:VEVENT
DTSTART;TZID=Europe/Vilnius:20290520T130000
DTEND;TZID=Europe/Vilnius:20290520T150000
DTSTAMP:20260421T182315
CREATED:20240522T151023Z
LAST-MODIFIED:20251005T112118Z
UID:10003957-1873976400-1873983600@rikis.lt
SUMMARY:Digimon Casual Play
DESCRIPTION:Savaitiniai Digimon TCG turnyrai.\nNaujokai laukiami!\n\nDaugiau informacijos discorde: https://discord.gg/VkTbxCJQ3g
URL:https://rikis.lt/renginys/sekmadieninis-digimon-casual-play-2-2-2/2029-05-20/
LOCATION:Rikis\, Šv.Stepono\, Vilnius\, 01139\, Lietuva
CATEGORIES:Digimon Card Game,Turnyras
ATTACH;FMTTYPE=image/png:https://rikis.lt/wp-content/uploads/DGM-banner.png
END:VEVENT
BEGIN:VEVENT
DTSTART;TZID=Europe/Vilnius:20290527T130000
DTEND;TZID=Europe/Vilnius:20290527T150000
DTSTAMP:20260421T182315
CREATED:20240522T151023Z
LAST-MODIFIED:20251005T112118Z
UID:10003967-1874581200-1874588400@rikis.lt
SUMMARY:Digimon Casual Play
DESCRIPTION:Savaitiniai Digimon TCG turnyrai.\nNaujokai laukiami!\n\nDaugiau informacijos discorde: https://discord.gg/VkTbxCJQ3g
URL:https://rikis.lt/renginys/sekmadieninis-digimon-casual-play-2-2-2/2029-05-27/
LOCATION:Rikis\, Šv.Stepono\, Vilnius\, 01139\, Lietuva
CATEGORIES:Digimon Card Game,Turnyras
ATTACH;FMTTYPE=image/png:https://rikis.lt/wp-content/uploads/DGM-banner.png
END:VEVENT
BEGIN:VEVENT
DTSTART;TZID=Europe/Vilnius:20290603T130000
DTEND;TZID=Europe/Vilnius:20290603T150000
DTSTAMP:20260421T182315
CREATED:20240522T151023Z
LAST-MODIFIED:20251005T112118Z
UID:10006362-1875186000-1875193200@rikis.lt
SUMMARY:Digimon Casual Play
DESCRIPTION:Savaitiniai Digimon TCG turnyrai.\nNaujokai laukiami!\n\nDaugiau informacijos discorde: https://discord.gg/VkTbxCJQ3g
URL:https://rikis.lt/renginys/sekmadieninis-digimon-casual-play-2-2-2/2029-06-03/
LOCATION:Rikis\, Šv.Stepono\, Vilnius\, 01139\, Lietuva
CATEGORIES:Digimon Card Game,Turnyras
ATTACH;FMTTYPE=image/png:https://rikis.lt/wp-content/uploads/DGM-banner.png
END:VEVENT
BEGIN:VEVENT
DTSTART;TZID=Europe/Vilnius:20290610T130000
DTEND;TZID=Europe/Vilnius:20290610T150000
DTSTAMP:20260421T182315
CREATED:20240522T151023Z
LAST-MODIFIED:20251005T112118Z
UID:10006363-1875790800-1875798000@rikis.lt
SUMMARY:Digimon Casual Play
DESCRIPTION:Savaitiniai Digimon TCG turnyrai.\nNaujokai laukiami!\n\nDaugiau informacijos discorde: https://discord.gg/VkTbxCJQ3g
URL:https://rikis.lt/renginys/sekmadieninis-digimon-casual-play-2-2-2/2029-06-10/
LOCATION:Rikis\, Šv.Stepono\, Vilnius\, 01139\, Lietuva
CATEGORIES:Digimon Card Game,Turnyras
ATTACH;FMTTYPE=image/png:https://rikis.lt/wp-content/uploads/DGM-banner.png
END:VEVENT
BEGIN:VEVENT
DTSTART;TZID=Europe/Vilnius:20290617T130000
DTEND;TZID=Europe/Vilnius:20290617T150000
DTSTAMP:20260421T182315
CREATED:20240522T151023Z
LAST-MODIFIED:20251005T112118Z
UID:10006364-1876395600-1876402800@rikis.lt
SUMMARY:Digimon Casual Play
DESCRIPTION:Savaitiniai Digimon TCG turnyrai.\nNaujokai laukiami!\n\nDaugiau informacijos discorde: https://discord.gg/VkTbxCJQ3g
URL:https://rikis.lt/renginys/sekmadieninis-digimon-casual-play-2-2-2/2029-06-17/
LOCATION:Rikis\, Šv.Stepono\, Vilnius\, 01139\, Lietuva
CATEGORIES:Digimon Card Game,Turnyras
ATTACH;FMTTYPE=image/png:https://rikis.lt/wp-content/uploads/DGM-banner.png
END:VEVENT
BEGIN:VEVENT
DTSTART;TZID=Europe/Vilnius:20290624T130000
DTEND;TZID=Europe/Vilnius:20290624T150000
DTSTAMP:20260421T182315
CREATED:20240522T151023Z
LAST-MODIFIED:20251005T112118Z
UID:10006365-1877000400-1877007600@rikis.lt
SUMMARY:Digimon Casual Play
DESCRIPTION:Savaitiniai Digimon TCG turnyrai.\nNaujokai laukiami!\n\nDaugiau informacijos discorde: https://discord.gg/VkTbxCJQ3g
URL:https://rikis.lt/renginys/sekmadieninis-digimon-casual-play-2-2-2/2029-06-24/
LOCATION:Rikis\, Šv.Stepono\, Vilnius\, 01139\, Lietuva
CATEGORIES:Digimon Card Game,Turnyras
ATTACH;FMTTYPE=image/png:https://rikis.lt/wp-content/uploads/DGM-banner.png
END:VEVENT
BEGIN:VEVENT
DTSTART;TZID=Europe/Vilnius:20290701T130000
DTEND;TZID=Europe/Vilnius:20290701T150000
DTSTAMP:20260421T182315
CREATED:20240522T151023Z
LAST-MODIFIED:20251005T112118Z
UID:10006366-1877605200-1877612400@rikis.lt
SUMMARY:Digimon Casual Play
DESCRIPTION:Savaitiniai Digimon TCG turnyrai.\nNaujokai laukiami!\n\nDaugiau informacijos discorde: https://discord.gg/VkTbxCJQ3g
URL:https://rikis.lt/renginys/sekmadieninis-digimon-casual-play-2-2-2/2029-07-01/
LOCATION:Rikis\, Šv.Stepono\, Vilnius\, 01139\, Lietuva
CATEGORIES:Digimon Card Game,Turnyras
ATTACH;FMTTYPE=image/png:https://rikis.lt/wp-content/uploads/DGM-banner.png
END:VEVENT
BEGIN:VEVENT
DTSTART;TZID=Europe/Vilnius:20290708T130000
DTEND;TZID=Europe/Vilnius:20290708T150000
DTSTAMP:20260421T182315
CREATED:20240522T151023Z
LAST-MODIFIED:20251005T112118Z
UID:10006367-1878210000-1878217200@rikis.lt
SUMMARY:Digimon Casual Play
DESCRIPTION:Savaitiniai Digimon TCG turnyrai.\nNaujokai laukiami!\n\nDaugiau informacijos discorde: https://discord.gg/VkTbxCJQ3g
URL:https://rikis.lt/renginys/sekmadieninis-digimon-casual-play-2-2-2/2029-07-08/
LOCATION:Rikis\, Šv.Stepono\, Vilnius\, 01139\, Lietuva
CATEGORIES:Digimon Card Game,Turnyras
ATTACH;FMTTYPE=image/png:https://rikis.lt/wp-content/uploads/DGM-banner.png
END:VEVENT
BEGIN:VEVENT
DTSTART;TZID=Europe/Vilnius:20290715T130000
DTEND;TZID=Europe/Vilnius:20290715T150000
DTSTAMP:20260421T182315
CREATED:20240522T151023Z
LAST-MODIFIED:20251005T112118Z
UID:10006368-1878814800-1878822000@rikis.lt
SUMMARY:Digimon Casual Play
DESCRIPTION:Savaitiniai Digimon TCG turnyrai.\nNaujokai laukiami!\n\nDaugiau informacijos discorde: https://discord.gg/VkTbxCJQ3g
URL:https://rikis.lt/renginys/sekmadieninis-digimon-casual-play-2-2-2/2029-07-15/
LOCATION:Rikis\, Šv.Stepono\, Vilnius\, 01139\, Lietuva
CATEGORIES:Digimon Card Game,Turnyras
ATTACH;FMTTYPE=image/png:https://rikis.lt/wp-content/uploads/DGM-banner.png
END:VEVENT
BEGIN:VEVENT
DTSTART;TZID=Europe/Vilnius:20290722T130000
DTEND;TZID=Europe/Vilnius:20290722T150000
DTSTAMP:20260421T182315
CREATED:20240522T151023Z
LAST-MODIFIED:20251005T112118Z
UID:10006369-1879419600-1879426800@rikis.lt
SUMMARY:Digimon Casual Play
DESCRIPTION:Savaitiniai Digimon TCG turnyrai.\nNaujokai laukiami!\n\nDaugiau informacijos discorde: https://discord.gg/VkTbxCJQ3g
URL:https://rikis.lt/renginys/sekmadieninis-digimon-casual-play-2-2-2/2029-07-22/
LOCATION:Rikis\, Šv.Stepono\, Vilnius\, 01139\, Lietuva
CATEGORIES:Digimon Card Game,Turnyras
ATTACH;FMTTYPE=image/png:https://rikis.lt/wp-content/uploads/DGM-banner.png
END:VEVENT
BEGIN:VEVENT
DTSTART;TZID=Europe/Vilnius:20290729T130000
DTEND;TZID=Europe/Vilnius:20290729T150000
DTSTAMP:20260421T182315
CREATED:20240522T151023Z
LAST-MODIFIED:20251005T112118Z
UID:10006370-1880024400-1880031600@rikis.lt
SUMMARY:Digimon Casual Play
DESCRIPTION:Savaitiniai Digimon TCG turnyrai.\nNaujokai laukiami!\n\nDaugiau informacijos discorde: https://discord.gg/VkTbxCJQ3g
URL:https://rikis.lt/renginys/sekmadieninis-digimon-casual-play-2-2-2/2029-07-29/
LOCATION:Rikis\, Šv.Stepono\, Vilnius\, 01139\, Lietuva
CATEGORIES:Digimon Card Game,Turnyras
ATTACH;FMTTYPE=image/png:https://rikis.lt/wp-content/uploads/DGM-banner.png
END:VEVENT
BEGIN:VEVENT
DTSTART;TZID=Europe/Vilnius:20290805T130000
DTEND;TZID=Europe/Vilnius:20290805T150000
DTSTAMP:20260421T182315
CREATED:20240522T151023Z
LAST-MODIFIED:20251005T112118Z
UID:10006371-1880629200-1880636400@rikis.lt
SUMMARY:Digimon Casual Play
DESCRIPTION:Savaitiniai Digimon TCG turnyrai.\nNaujokai laukiami!\n\nDaugiau informacijos discorde: https://discord.gg/VkTbxCJQ3g
URL:https://rikis.lt/renginys/sekmadieninis-digimon-casual-play-2-2-2/2029-08-05/
LOCATION:Rikis\, Šv.Stepono\, Vilnius\, 01139\, Lietuva
CATEGORIES:Digimon Card Game,Turnyras
ATTACH;FMTTYPE=image/png:https://rikis.lt/wp-content/uploads/DGM-banner.png
END:VEVENT
BEGIN:VEVENT
DTSTART;TZID=Europe/Vilnius:20290812T130000
DTEND;TZID=Europe/Vilnius:20290812T150000
DTSTAMP:20260421T182315
CREATED:20240522T151023Z
LAST-MODIFIED:20251005T112118Z
UID:10006372-1881234000-1881241200@rikis.lt
SUMMARY:Digimon Casual Play
DESCRIPTION:Savaitiniai Digimon TCG turnyrai.\nNaujokai laukiami!\n\nDaugiau informacijos discorde: https://discord.gg/VkTbxCJQ3g
URL:https://rikis.lt/renginys/sekmadieninis-digimon-casual-play-2-2-2/2029-08-12/
LOCATION:Rikis\, Šv.Stepono\, Vilnius\, 01139\, Lietuva
CATEGORIES:Digimon Card Game,Turnyras
ATTACH;FMTTYPE=image/png:https://rikis.lt/wp-content/uploads/DGM-banner.png
END:VEVENT
BEGIN:VEVENT
DTSTART;TZID=Europe/Vilnius:20290819T130000
DTEND;TZID=Europe/Vilnius:20290819T150000
DTSTAMP:20260421T182315
CREATED:20240522T151023Z
LAST-MODIFIED:20251005T112118Z
UID:10006373-1881838800-1881846000@rikis.lt
SUMMARY:Digimon Casual Play
DESCRIPTION:Savaitiniai Digimon TCG turnyrai.\nNaujokai laukiami!\n\nDaugiau informacijos discorde: https://discord.gg/VkTbxCJQ3g
URL:https://rikis.lt/renginys/sekmadieninis-digimon-casual-play-2-2-2/2029-08-19/
LOCATION:Rikis\, Šv.Stepono\, Vilnius\, 01139\, Lietuva
CATEGORIES:Digimon Card Game,Turnyras
ATTACH;FMTTYPE=image/png:https://rikis.lt/wp-content/uploads/DGM-banner.png
END:VEVENT
BEGIN:VEVENT
DTSTART;TZID=Europe/Vilnius:20290826T130000
DTEND;TZID=Europe/Vilnius:20290826T150000
DTSTAMP:20260421T182315
CREATED:20240522T151023Z
LAST-MODIFIED:20251005T112118Z
UID:10006374-1882443600-1882450800@rikis.lt
SUMMARY:Digimon Casual Play
DESCRIPTION:Savaitiniai Digimon TCG turnyrai.\nNaujokai laukiami!\n\nDaugiau informacijos discorde: https://discord.gg/VkTbxCJQ3g
URL:https://rikis.lt/renginys/sekmadieninis-digimon-casual-play-2-2-2/2029-08-26/
LOCATION:Rikis\, Šv.Stepono\, Vilnius\, 01139\, Lietuva
CATEGORIES:Digimon Card Game,Turnyras
ATTACH;FMTTYPE=image/png:https://rikis.lt/wp-content/uploads/DGM-banner.png
END:VEVENT
BEGIN:VEVENT
DTSTART;TZID=Europe/Vilnius:20290902T130000
DTEND;TZID=Europe/Vilnius:20290902T150000
DTSTAMP:20260421T182315
CREATED:20240522T151023Z
LAST-MODIFIED:20251005T112118Z
UID:10006691-1883048400-1883055600@rikis.lt
SUMMARY:Digimon Casual Play
DESCRIPTION:Savaitiniai Digimon TCG turnyrai.\nNaujokai laukiami!\n\nDaugiau informacijos discorde: https://discord.gg/VkTbxCJQ3g
URL:https://rikis.lt/renginys/sekmadieninis-digimon-casual-play-2-2-2/2029-09-02/
LOCATION:Rikis\, Šv.Stepono\, Vilnius\, 01139\, Lietuva
CATEGORIES:Digimon Card Game,Turnyras
ATTACH;FMTTYPE=image/png:https://rikis.lt/wp-content/uploads/DGM-banner.png
END:VEVENT
BEGIN:VEVENT
DTSTART;TZID=Europe/Vilnius:20290909T130000
DTEND;TZID=Europe/Vilnius:20290909T150000
DTSTAMP:20260421T182315
CREATED:20240522T151023Z
LAST-MODIFIED:20251005T112118Z
UID:10006692-1883653200-1883660400@rikis.lt
SUMMARY:Digimon Casual Play
DESCRIPTION:Savaitiniai Digimon TCG turnyrai.\nNaujokai laukiami!\n\nDaugiau informacijos discorde: https://discord.gg/VkTbxCJQ3g
URL:https://rikis.lt/renginys/sekmadieninis-digimon-casual-play-2-2-2/2029-09-09/
LOCATION:Rikis\, Šv.Stepono\, Vilnius\, 01139\, Lietuva
CATEGORIES:Digimon Card Game,Turnyras
ATTACH;FMTTYPE=image/png:https://rikis.lt/wp-content/uploads/DGM-banner.png
END:VEVENT
BEGIN:VEVENT
DTSTART;TZID=Europe/Vilnius:20290916T130000
DTEND;TZID=Europe/Vilnius:20290916T150000
DTSTAMP:20260421T182315
CREATED:20240522T151023Z
LAST-MODIFIED:20251005T112118Z
UID:10006693-1884258000-1884265200@rikis.lt
SUMMARY:Digimon Casual Play
DESCRIPTION:Savaitiniai Digimon TCG turnyrai.\nNaujokai laukiami!\n\nDaugiau informacijos discorde: https://discord.gg/VkTbxCJQ3g
URL:https://rikis.lt/renginys/sekmadieninis-digimon-casual-play-2-2-2/2029-09-16/
LOCATION:Rikis\, Šv.Stepono\, Vilnius\, 01139\, Lietuva
CATEGORIES:Digimon Card Game,Turnyras
ATTACH;FMTTYPE=image/png:https://rikis.lt/wp-content/uploads/DGM-banner.png
END:VEVENT
BEGIN:VEVENT
DTSTART;TZID=Europe/Vilnius:20290923T130000
DTEND;TZID=Europe/Vilnius:20290923T150000
DTSTAMP:20260421T182315
CREATED:20240522T151023Z
LAST-MODIFIED:20251005T112118Z
UID:10006694-1884862800-1884870000@rikis.lt
SUMMARY:Digimon Casual Play
DESCRIPTION:Savaitiniai Digimon TCG turnyrai.\nNaujokai laukiami!\n\nDaugiau informacijos discorde: https://discord.gg/VkTbxCJQ3g
URL:https://rikis.lt/renginys/sekmadieninis-digimon-casual-play-2-2-2/2029-09-23/
LOCATION:Rikis\, Šv.Stepono\, Vilnius\, 01139\, Lietuva
CATEGORIES:Digimon Card Game,Turnyras
ATTACH;FMTTYPE=image/png:https://rikis.lt/wp-content/uploads/DGM-banner.png
END:VEVENT
BEGIN:VEVENT
DTSTART;TZID=Europe/Vilnius:20290930T130000
DTEND;TZID=Europe/Vilnius:20290930T150000
DTSTAMP:20260421T182315
CREATED:20240522T151023Z
LAST-MODIFIED:20251005T112118Z
UID:10006695-1885467600-1885474800@rikis.lt
SUMMARY:Digimon Casual Play
DESCRIPTION:Savaitiniai Digimon TCG turnyrai.\nNaujokai laukiami!\n\nDaugiau informacijos discorde: https://discord.gg/VkTbxCJQ3g
URL:https://rikis.lt/renginys/sekmadieninis-digimon-casual-play-2-2-2/2029-09-30/
LOCATION:Rikis\, Šv.Stepono\, Vilnius\, 01139\, Lietuva
CATEGORIES:Digimon Card Game,Turnyras
ATTACH;FMTTYPE=image/png:https://rikis.lt/wp-content/uploads/DGM-banner.png
END:VEVENT
BEGIN:VEVENT
DTSTART;TZID=Europe/Vilnius:20291007T130000
DTEND;TZID=Europe/Vilnius:20291007T150000
DTSTAMP:20260421T182315
CREATED:20240522T151023Z
LAST-MODIFIED:20251005T112118Z
UID:10007246-1886072400-1886079600@rikis.lt
SUMMARY:Digimon Casual Play
DESCRIPTION:Savaitiniai Digimon TCG turnyrai.\nNaujokai laukiami!\n\nDaugiau informacijos discorde: https://discord.gg/VkTbxCJQ3g
URL:https://rikis.lt/renginys/sekmadieninis-digimon-casual-play-2-2-2/2029-10-07/
LOCATION:Rikis\, Šv.Stepono\, Vilnius\, 01139\, Lietuva
CATEGORIES:Digimon Card Game,Turnyras
ATTACH;FMTTYPE=image/png:https://rikis.lt/wp-content/uploads/DGM-banner.png
END:VEVENT
BEGIN:VEVENT
DTSTART;TZID=Europe/Vilnius:20291014T130000
DTEND;TZID=Europe/Vilnius:20291014T150000
DTSTAMP:20260421T182315
CREATED:20240522T151023Z
LAST-MODIFIED:20251005T112118Z
UID:10007247-1886677200-1886684400@rikis.lt
SUMMARY:Digimon Casual Play
DESCRIPTION:Savaitiniai Digimon TCG turnyrai.\nNaujokai laukiami!\n\nDaugiau informacijos discorde: https://discord.gg/VkTbxCJQ3g
URL:https://rikis.lt/renginys/sekmadieninis-digimon-casual-play-2-2-2/2029-10-14/
LOCATION:Rikis\, Šv.Stepono\, Vilnius\, 01139\, Lietuva
CATEGORIES:Digimon Card Game,Turnyras
ATTACH;FMTTYPE=image/png:https://rikis.lt/wp-content/uploads/DGM-banner.png
END:VEVENT
BEGIN:VEVENT
DTSTART;TZID=Europe/Vilnius:20291021T130000
DTEND;TZID=Europe/Vilnius:20291021T150000
DTSTAMP:20260421T182315
CREATED:20240522T151023Z
LAST-MODIFIED:20251005T112118Z
UID:10007248-1887282000-1887289200@rikis.lt
SUMMARY:Digimon Casual Play
DESCRIPTION:Savaitiniai Digimon TCG turnyrai.\nNaujokai laukiami!\n\nDaugiau informacijos discorde: https://discord.gg/VkTbxCJQ3g
URL:https://rikis.lt/renginys/sekmadieninis-digimon-casual-play-2-2-2/2029-10-21/
LOCATION:Rikis\, Šv.Stepono\, Vilnius\, 01139\, Lietuva
CATEGORIES:Digimon Card Game,Turnyras
ATTACH;FMTTYPE=image/png:https://rikis.lt/wp-content/uploads/DGM-banner.png
END:VEVENT
BEGIN:VEVENT
DTSTART;TZID=Europe/Vilnius:20291028T130000
DTEND;TZID=Europe/Vilnius:20291028T150000
DTSTAMP:20260421T182315
CREATED:20240522T151023Z
LAST-MODIFIED:20251005T112118Z
UID:10007249-1887886800-1887894000@rikis.lt
SUMMARY:Digimon Casual Play
DESCRIPTION:Savaitiniai Digimon TCG turnyrai.\nNaujokai laukiami!\n\nDaugiau informacijos discorde: https://discord.gg/VkTbxCJQ3g
URL:https://rikis.lt/renginys/sekmadieninis-digimon-casual-play-2-2-2/2029-10-28/
LOCATION:Rikis\, Šv.Stepono\, Vilnius\, 01139\, Lietuva
CATEGORIES:Digimon Card Game,Turnyras
ATTACH;FMTTYPE=image/png:https://rikis.lt/wp-content/uploads/DGM-banner.png
END:VEVENT
BEGIN:VEVENT
DTSTART;TZID=Europe/Vilnius:20291104T130000
DTEND;TZID=Europe/Vilnius:20291104T150000
DTSTAMP:20260421T182315
CREATED:20240522T151023Z
LAST-MODIFIED:20251005T112118Z
UID:10007250-1888491600-1888498800@rikis.lt
SUMMARY:Digimon Casual Play
DESCRIPTION:Savaitiniai Digimon TCG turnyrai.\nNaujokai laukiami!\n\nDaugiau informacijos discorde: https://discord.gg/VkTbxCJQ3g
URL:https://rikis.lt/renginys/sekmadieninis-digimon-casual-play-2-2-2/2029-11-04/
LOCATION:Rikis\, Šv.Stepono\, Vilnius\, 01139\, Lietuva
CATEGORIES:Digimon Card Game,Turnyras
ATTACH;FMTTYPE=image/png:https://rikis.lt/wp-content/uploads/DGM-banner.png
END:VEVENT
BEGIN:VEVENT
DTSTART;TZID=Europe/Vilnius:20291111T130000
DTEND;TZID=Europe/Vilnius:20291111T150000
DTSTAMP:20260421T182315
CREATED:20240522T151023Z
LAST-MODIFIED:20251005T112118Z
UID:10007251-1889096400-1889103600@rikis.lt
SUMMARY:Digimon Casual Play
DESCRIPTION:Savaitiniai Digimon TCG turnyrai.\nNaujokai laukiami!\n\nDaugiau informacijos discorde: https://discord.gg/VkTbxCJQ3g
URL:https://rikis.lt/renginys/sekmadieninis-digimon-casual-play-2-2-2/2029-11-11/
LOCATION:Rikis\, Šv.Stepono\, Vilnius\, 01139\, Lietuva
CATEGORIES:Digimon Card Game,Turnyras
ATTACH;FMTTYPE=image/png:https://rikis.lt/wp-content/uploads/DGM-banner.png
END:VEVENT
BEGIN:VEVENT
DTSTART;TZID=Europe/Vilnius:20291118T130000
DTEND;TZID=Europe/Vilnius:20291118T150000
DTSTAMP:20260421T182315
CREATED:20240522T151023Z
LAST-MODIFIED:20251005T112118Z
UID:10007252-1889701200-1889708400@rikis.lt
SUMMARY:Digimon Casual Play
DESCRIPTION:Savaitiniai Digimon TCG turnyrai.\nNaujokai laukiami!\n\nDaugiau informacijos discorde: https://discord.gg/VkTbxCJQ3g
URL:https://rikis.lt/renginys/sekmadieninis-digimon-casual-play-2-2-2/2029-11-18/
LOCATION:Rikis\, Šv.Stepono\, Vilnius\, 01139\, Lietuva
CATEGORIES:Digimon Card Game,Turnyras
ATTACH;FMTTYPE=image/png:https://rikis.lt/wp-content/uploads/DGM-banner.png
END:VEVENT
BEGIN:VEVENT
DTSTART;TZID=Europe/Vilnius:20291125T130000
DTEND;TZID=Europe/Vilnius:20291125T150000
DTSTAMP:20260421T182315
CREATED:20240522T151023Z
LAST-MODIFIED:20251005T112118Z
UID:10007253-1890306000-1890313200@rikis.lt
SUMMARY:Digimon Casual Play
DESCRIPTION:Savaitiniai Digimon TCG turnyrai.\nNaujokai laukiami!\n\nDaugiau informacijos discorde: https://discord.gg/VkTbxCJQ3g
URL:https://rikis.lt/renginys/sekmadieninis-digimon-casual-play-2-2-2/2029-11-25/
LOCATION:Rikis\, Šv.Stepono\, Vilnius\, 01139\, Lietuva
CATEGORIES:Digimon Card Game,Turnyras
ATTACH;FMTTYPE=image/png:https://rikis.lt/wp-content/uploads/DGM-banner.png
END:VEVENT
BEGIN:VEVENT
DTSTART;TZID=Europe/Vilnius:20291202T130000
DTEND;TZID=Europe/Vilnius:20291202T150000
DTSTAMP:20260421T182315
CREATED:20240522T151023Z
LAST-MODIFIED:20251005T112118Z
UID:10007254-1890910800-1890918000@rikis.lt
SUMMARY:Digimon Casual Play
DESCRIPTION:Savaitiniai Digimon TCG turnyrai.\nNaujokai laukiami!\n\nDaugiau informacijos discorde: https://discord.gg/VkTbxCJQ3g
URL:https://rikis.lt/renginys/sekmadieninis-digimon-casual-play-2-2-2/2029-12-02/
LOCATION:Rikis\, Šv.Stepono\, Vilnius\, 01139\, Lietuva
CATEGORIES:Digimon Card Game,Turnyras
ATTACH;FMTTYPE=image/png:https://rikis.lt/wp-content/uploads/DGM-banner.png
END:VEVENT
BEGIN:VEVENT
DTSTART;TZID=Europe/Vilnius:20291209T130000
DTEND;TZID=Europe/Vilnius:20291209T150000
DTSTAMP:20260421T182315
CREATED:20240522T151023Z
LAST-MODIFIED:20251005T112118Z
UID:10007255-1891515600-1891522800@rikis.lt
SUMMARY:Digimon Casual Play
DESCRIPTION:Savaitiniai Digimon TCG turnyrai.\nNaujokai laukiami!\n\nDaugiau informacijos discorde: https://discord.gg/VkTbxCJQ3g
URL:https://rikis.lt/renginys/sekmadieninis-digimon-casual-play-2-2-2/2029-12-09/
LOCATION:Rikis\, Šv.Stepono\, Vilnius\, 01139\, Lietuva
CATEGORIES:Digimon Card Game,Turnyras
ATTACH;FMTTYPE=image/png:https://rikis.lt/wp-content/uploads/DGM-banner.png
END:VEVENT
END:VCALENDAR