BEGIN:VCALENDAR
VERSION:2.0
PRODID:-//www.rikis.lt - ECPv6.3.7//NONSGML v1.0//EN
CALSCALE:GREGORIAN
METHOD:PUBLISH
X-ORIGINAL-URL:https://rikis.lt
X-WR-CALDESC:Events for www.rikis.lt
REFRESH-INTERVAL;VALUE=DURATION:PT1H
X-Robots-Tag:noindex
X-PUBLISHED-TTL:PT1H
BEGIN:VTIMEZONE
TZID:Europe/Vilnius
BEGIN:DAYLIGHT
TZOFFSETFROM:+0200
TZOFFSETTO:+0300
TZNAME:EEST
DTSTART:20250330T010000
END:DAYLIGHT
BEGIN:STANDARD
TZOFFSETFROM:+0300
TZOFFSETTO:+0200
TZNAME:EET
DTSTART:20251026T010000
END:STANDARD
END:VTIMEZONE
BEGIN:VEVENT
DTSTART;TZID=Europe/Vilnius:20250503T183000
DTEND;TZID=Europe/Vilnius:20250503T210000
DTSTAMP:20260422T051130
CREATED:20241002T162100Z
LAST-MODIFIED:20251025T170737Z
UID:10001870-1746297000-1746306000@rikis.lt
SUMMARY:Pokemon žaidimai
DESCRIPTION:Pokemon Standard turnyras!\nŽaidžiama su Standard tipo kaladėmis.\nDalyvio mokestis: 5EUR\n\nDaugiau informacijos discorde: https://discord.gg/JHdvjh2y2N\nNaujokai laukiami! \n 
URL:https://rikis.lt/renginys/pokemon-standard-2-3-2-2-2/2025-05-03/
LOCATION:Rikis\, Šv.Stepono\, Vilnius\, 01139\, Lietuva
CATEGORIES:Turnyras
ATTACH;FMTTYPE=image/png:https://rikis.lt/wp-content/uploads/PKM-tournament-banner.png
END:VEVENT
BEGIN:VEVENT
DTSTART;TZID=Europe/Vilnius:20250505T170000
DTEND;TZID=Europe/Vilnius:20250505T190000
DTSTAMP:20260422T051130
CREATED:20240626T150336Z
LAST-MODIFIED:20250718T133748Z
UID:10006121-1746464400-1746471600@rikis.lt
SUMMARY:Pokémon TCG naujokų vakarai
DESCRIPTION:Laukiami pradedantieji ir šiek tiek patyrę žaidėjai – visi\, kurie nori smagiai praleisti laiką ir išmokti žaisti Pokémon TCG.\n\n\n\n\n\nRenginio metu:\n• Susipažinsite su Pokémon TCG\n• Gausite pagalbos dėliojant kaladę\n• Žaisite su kitais pradedančiaisiais bei tobulinsite savo įgūdžius.\n• Smagiai leisite laiką su kitais Pokémon gerbėjais bei keisites kortomis!\n\n\n\n\n\nRenginiai vyks apie 2 val.\, o dalyvio mokestis – 8 eurai. Kiekvienas dalyvaujantysis gauna po papildymo pakuotę!\n\n\n\nNorėdami užsiregistruoti\, parašykite mums į Facebook paskyrą arba paskambinkite numeriu +370 615 97722.\n\n\n\n\n\nTaip pat kviečiame prisijungti prie mūsų Discord serverio: https://discord.gg/YGanjVa8JY\n\n 
URL:https://rikis.lt/renginys/pokemon-tcg-naujoku-vakarai/2025-05-05/
LOCATION:Rikis\, Šv.Stepono\, Vilnius\, 01139\, Lietuva
CATEGORIES:Turnyras
ATTACH;FMTTYPE=image/png:https://rikis.lt/wp-content/uploads/PKM-NV-3.png
END:VEVENT
BEGIN:VEVENT
DTSTART;TZID=Europe/Vilnius:20250506T183000
DTEND;TZID=Europe/Vilnius:20250506T210000
DTSTAMP:20260422T051130
CREATED:20240514T131819Z
LAST-MODIFIED:20251025T170953Z
UID:10002910-1746556200-1746565200@rikis.lt
SUMMARY:Pokemon žaidimai
DESCRIPTION:Pokemon Standard turnyras!\nŽaidžiama su Standard tipo kaladėmis.\nDalyvio mokestis: 5EUR\n\nDaugiau informacijos discorde: https://discord.gg/JHdvjh2y2N\nNaujokai laukiami! \n  \n  \n 
URL:https://rikis.lt/renginys/antradienio-pokemon-zaidimai-2-2-2/2025-05-06/
LOCATION:Rikis\, Šv.Stepono\, Vilnius\, 01139\, Lietuva
CATEGORIES:Turnyras
ATTACH;FMTTYPE=image/png:https://rikis.lt/wp-content/uploads/PKM-tournament-banner.png
END:VEVENT
BEGIN:VEVENT
DTSTART;TZID=Europe/Vilnius:20250510T183000
DTEND;TZID=Europe/Vilnius:20250510T210000
DTSTAMP:20260422T051130
CREATED:20241002T162100Z
LAST-MODIFIED:20251025T170737Z
UID:10001871-1746901800-1746910800@rikis.lt
SUMMARY:Pokemon žaidimai
DESCRIPTION:Pokemon Standard turnyras!\nŽaidžiama su Standard tipo kaladėmis.\nDalyvio mokestis: 5EUR\n\nDaugiau informacijos discorde: https://discord.gg/JHdvjh2y2N\nNaujokai laukiami! \n 
URL:https://rikis.lt/renginys/pokemon-standard-2-3-2-2-2/2025-05-10/
LOCATION:Rikis\, Šv.Stepono\, Vilnius\, 01139\, Lietuva
CATEGORIES:Turnyras
ATTACH;FMTTYPE=image/png:https://rikis.lt/wp-content/uploads/PKM-tournament-banner.png
END:VEVENT
BEGIN:VEVENT
DTSTART;TZID=Europe/Vilnius:20250512T170000
DTEND;TZID=Europe/Vilnius:20250512T190000
DTSTAMP:20260422T051130
CREATED:20240626T150336Z
LAST-MODIFIED:20250718T133748Z
UID:10006122-1747069200-1747076400@rikis.lt
SUMMARY:Pokémon TCG naujokų vakarai
DESCRIPTION:Laukiami pradedantieji ir šiek tiek patyrę žaidėjai – visi\, kurie nori smagiai praleisti laiką ir išmokti žaisti Pokémon TCG.\n\n\n\n\n\nRenginio metu:\n• Susipažinsite su Pokémon TCG\n• Gausite pagalbos dėliojant kaladę\n• Žaisite su kitais pradedančiaisiais bei tobulinsite savo įgūdžius.\n• Smagiai leisite laiką su kitais Pokémon gerbėjais bei keisites kortomis!\n\n\n\n\n\nRenginiai vyks apie 2 val.\, o dalyvio mokestis – 8 eurai. Kiekvienas dalyvaujantysis gauna po papildymo pakuotę!\n\n\n\nNorėdami užsiregistruoti\, parašykite mums į Facebook paskyrą arba paskambinkite numeriu +370 615 97722.\n\n\n\n\n\nTaip pat kviečiame prisijungti prie mūsų Discord serverio: https://discord.gg/YGanjVa8JY\n\n 
URL:https://rikis.lt/renginys/pokemon-tcg-naujoku-vakarai/2025-05-12/
LOCATION:Rikis\, Šv.Stepono\, Vilnius\, 01139\, Lietuva
CATEGORIES:Turnyras
ATTACH;FMTTYPE=image/png:https://rikis.lt/wp-content/uploads/PKM-NV-3.png
END:VEVENT
BEGIN:VEVENT
DTSTART;TZID=Europe/Vilnius:20250513T183000
DTEND;TZID=Europe/Vilnius:20250513T210000
DTSTAMP:20260422T051130
CREATED:20240514T131819Z
LAST-MODIFIED:20251025T170953Z
UID:10002911-1747161000-1747170000@rikis.lt
SUMMARY:Pokemon žaidimai
DESCRIPTION:Pokemon Standard turnyras!\nŽaidžiama su Standard tipo kaladėmis.\nDalyvio mokestis: 5EUR\n\nDaugiau informacijos discorde: https://discord.gg/JHdvjh2y2N\nNaujokai laukiami! \n  \n  \n 
URL:https://rikis.lt/renginys/antradienio-pokemon-zaidimai-2-2-2/2025-05-13/
LOCATION:Rikis\, Šv.Stepono\, Vilnius\, 01139\, Lietuva
CATEGORIES:Turnyras
ATTACH;FMTTYPE=image/png:https://rikis.lt/wp-content/uploads/PKM-tournament-banner.png
END:VEVENT
BEGIN:VEVENT
DTSTART;TZID=Europe/Vilnius:20250517T183000
DTEND;TZID=Europe/Vilnius:20250517T210000
DTSTAMP:20260422T051130
CREATED:20241002T162100Z
LAST-MODIFIED:20251025T170737Z
UID:10001872-1747506600-1747515600@rikis.lt
SUMMARY:Pokemon žaidimai
DESCRIPTION:Pokemon Standard turnyras!\nŽaidžiama su Standard tipo kaladėmis.\nDalyvio mokestis: 5EUR\n\nDaugiau informacijos discorde: https://discord.gg/JHdvjh2y2N\nNaujokai laukiami! \n 
URL:https://rikis.lt/renginys/pokemon-standard-2-3-2-2-2/2025-05-17/
LOCATION:Rikis\, Šv.Stepono\, Vilnius\, 01139\, Lietuva
CATEGORIES:Turnyras
ATTACH;FMTTYPE=image/png:https://rikis.lt/wp-content/uploads/PKM-tournament-banner.png
END:VEVENT
BEGIN:VEVENT
DTSTART;TZID=Europe/Vilnius:20250519T170000
DTEND;TZID=Europe/Vilnius:20250519T190000
DTSTAMP:20260422T051130
CREATED:20240626T150336Z
LAST-MODIFIED:20250718T133748Z
UID:10006123-1747674000-1747681200@rikis.lt
SUMMARY:Pokémon TCG naujokų vakarai
DESCRIPTION:Laukiami pradedantieji ir šiek tiek patyrę žaidėjai – visi\, kurie nori smagiai praleisti laiką ir išmokti žaisti Pokémon TCG.\n\n\n\n\n\nRenginio metu:\n• Susipažinsite su Pokémon TCG\n• Gausite pagalbos dėliojant kaladę\n• Žaisite su kitais pradedančiaisiais bei tobulinsite savo įgūdžius.\n• Smagiai leisite laiką su kitais Pokémon gerbėjais bei keisites kortomis!\n\n\n\n\n\nRenginiai vyks apie 2 val.\, o dalyvio mokestis – 8 eurai. Kiekvienas dalyvaujantysis gauna po papildymo pakuotę!\n\n\n\nNorėdami užsiregistruoti\, parašykite mums į Facebook paskyrą arba paskambinkite numeriu +370 615 97722.\n\n\n\n\n\nTaip pat kviečiame prisijungti prie mūsų Discord serverio: https://discord.gg/YGanjVa8JY\n\n 
URL:https://rikis.lt/renginys/pokemon-tcg-naujoku-vakarai/2025-05-19/
LOCATION:Rikis\, Šv.Stepono\, Vilnius\, 01139\, Lietuva
CATEGORIES:Turnyras
ATTACH;FMTTYPE=image/png:https://rikis.lt/wp-content/uploads/PKM-NV-3.png
END:VEVENT
BEGIN:VEVENT
DTSTART;TZID=Europe/Vilnius:20250520T183000
DTEND;TZID=Europe/Vilnius:20250520T210000
DTSTAMP:20260422T051130
CREATED:20240514T131819Z
LAST-MODIFIED:20251025T170953Z
UID:10002912-1747765800-1747774800@rikis.lt
SUMMARY:Pokemon žaidimai
DESCRIPTION:Pokemon Standard turnyras!\nŽaidžiama su Standard tipo kaladėmis.\nDalyvio mokestis: 5EUR\n\nDaugiau informacijos discorde: https://discord.gg/JHdvjh2y2N\nNaujokai laukiami! \n  \n  \n 
URL:https://rikis.lt/renginys/antradienio-pokemon-zaidimai-2-2-2/2025-05-20/
LOCATION:Rikis\, Šv.Stepono\, Vilnius\, 01139\, Lietuva
CATEGORIES:Turnyras
ATTACH;FMTTYPE=image/png:https://rikis.lt/wp-content/uploads/PKM-tournament-banner.png
END:VEVENT
BEGIN:VEVENT
DTSTART;TZID=Europe/Vilnius:20250526T170000
DTEND;TZID=Europe/Vilnius:20250526T190000
DTSTAMP:20260422T051130
CREATED:20240626T150336Z
LAST-MODIFIED:20250718T133748Z
UID:10006124-1748278800-1748286000@rikis.lt
SUMMARY:Pokémon TCG naujokų vakarai
DESCRIPTION:Laukiami pradedantieji ir šiek tiek patyrę žaidėjai – visi\, kurie nori smagiai praleisti laiką ir išmokti žaisti Pokémon TCG.\n\n\n\n\n\nRenginio metu:\n• Susipažinsite su Pokémon TCG\n• Gausite pagalbos dėliojant kaladę\n• Žaisite su kitais pradedančiaisiais bei tobulinsite savo įgūdžius.\n• Smagiai leisite laiką su kitais Pokémon gerbėjais bei keisites kortomis!\n\n\n\n\n\nRenginiai vyks apie 2 val.\, o dalyvio mokestis – 8 eurai. Kiekvienas dalyvaujantysis gauna po papildymo pakuotę!\n\n\n\nNorėdami užsiregistruoti\, parašykite mums į Facebook paskyrą arba paskambinkite numeriu +370 615 97722.\n\n\n\n\n\nTaip pat kviečiame prisijungti prie mūsų Discord serverio: https://discord.gg/YGanjVa8JY\n\n 
URL:https://rikis.lt/renginys/pokemon-tcg-naujoku-vakarai/2025-05-26/
LOCATION:Rikis\, Šv.Stepono\, Vilnius\, 01139\, Lietuva
CATEGORIES:Turnyras
ATTACH;FMTTYPE=image/png:https://rikis.lt/wp-content/uploads/PKM-NV-3.png
END:VEVENT
BEGIN:VEVENT
DTSTART;TZID=Europe/Vilnius:20250527T183000
DTEND;TZID=Europe/Vilnius:20250527T210000
DTSTAMP:20260422T051130
CREATED:20240514T131819Z
LAST-MODIFIED:20251025T170953Z
UID:10002913-1748370600-1748379600@rikis.lt
SUMMARY:Pokemon žaidimai
DESCRIPTION:Pokemon Standard turnyras!\nŽaidžiama su Standard tipo kaladėmis.\nDalyvio mokestis: 5EUR\n\nDaugiau informacijos discorde: https://discord.gg/JHdvjh2y2N\nNaujokai laukiami! \n  \n  \n 
URL:https://rikis.lt/renginys/antradienio-pokemon-zaidimai-2-2-2/2025-05-27/
LOCATION:Rikis\, Šv.Stepono\, Vilnius\, 01139\, Lietuva
CATEGORIES:Turnyras
ATTACH;FMTTYPE=image/png:https://rikis.lt/wp-content/uploads/PKM-tournament-banner.png
END:VEVENT
BEGIN:VEVENT
DTSTART;TZID=Europe/Vilnius:20250531T183000
DTEND;TZID=Europe/Vilnius:20250531T210000
DTSTAMP:20260422T051130
CREATED:20241002T162100Z
LAST-MODIFIED:20251025T170737Z
UID:10001874-1748716200-1748725200@rikis.lt
SUMMARY:Pokemon žaidimai
DESCRIPTION:Pokemon Standard turnyras!\nŽaidžiama su Standard tipo kaladėmis.\nDalyvio mokestis: 5EUR\n\nDaugiau informacijos discorde: https://discord.gg/JHdvjh2y2N\nNaujokai laukiami! \n 
URL:https://rikis.lt/renginys/pokemon-standard-2-3-2-2-2/2025-05-31/
LOCATION:Rikis\, Šv.Stepono\, Vilnius\, 01139\, Lietuva
CATEGORIES:Turnyras
ATTACH;FMTTYPE=image/png:https://rikis.lt/wp-content/uploads/PKM-tournament-banner.png
END:VEVENT
END:VCALENDAR