BEGIN:VCALENDAR
VERSION:2.0
PRODID:-//www.rikis.lt - ECPv6.3.7//NONSGML v1.0//EN
CALSCALE:GREGORIAN
METHOD:PUBLISH
X-ORIGINAL-URL:https://rikis.lt
X-WR-CALDESC:Events for www.rikis.lt
REFRESH-INTERVAL;VALUE=DURATION:PT1H
X-Robots-Tag:noindex
X-PUBLISHED-TTL:PT1H
BEGIN:VTIMEZONE
TZID:Europe/Vilnius
BEGIN:DAYLIGHT
TZOFFSETFROM:+0200
TZOFFSETTO:+0300
TZNAME:EEST
DTSTART:20250330T010000
END:DAYLIGHT
BEGIN:STANDARD
TZOFFSETFROM:+0300
TZOFFSETTO:+0200
TZNAME:EET
DTSTART:20251026T010000
END:STANDARD
END:VTIMEZONE
BEGIN:VEVENT
DTSTART;TZID=Europe/Vilnius:20250602T170000
DTEND;TZID=Europe/Vilnius:20250602T190000
DTSTAMP:20260422T033440
CREATED:20240626T150336Z
LAST-MODIFIED:20250718T133748Z
UID:10006125-1748883600-1748890800@rikis.lt
SUMMARY:Pokémon TCG naujokų vakarai
DESCRIPTION:Laukiami pradedantieji ir šiek tiek patyrę žaidėjai – visi\, kurie nori smagiai praleisti laiką ir išmokti žaisti Pokémon TCG.\n\n\n\n\n\nRenginio metu:\n• Susipažinsite su Pokémon TCG\n• Gausite pagalbos dėliojant kaladę\n• Žaisite su kitais pradedančiaisiais bei tobulinsite savo įgūdžius.\n• Smagiai leisite laiką su kitais Pokémon gerbėjais bei keisites kortomis!\n\n\n\n\n\nRenginiai vyks apie 2 val.\, o dalyvio mokestis – 8 eurai. Kiekvienas dalyvaujantysis gauna po papildymo pakuotę!\n\n\n\nNorėdami užsiregistruoti\, parašykite mums į Facebook paskyrą arba paskambinkite numeriu +370 615 97722.\n\n\n\n\n\nTaip pat kviečiame prisijungti prie mūsų Discord serverio: https://discord.gg/YGanjVa8JY\n\n 
URL:https://rikis.lt/renginys/pokemon-tcg-naujoku-vakarai/2025-06-02/
LOCATION:Rikis\, Šv.Stepono\, Vilnius\, 01139\, Lietuva
CATEGORIES:Turnyras
ATTACH;FMTTYPE=image/png:https://rikis.lt/wp-content/uploads/PKM-NV-3.png
END:VEVENT
BEGIN:VEVENT
DTSTART;TZID=Europe/Vilnius:20250603T183000
DTEND;TZID=Europe/Vilnius:20250603T210000
DTSTAMP:20260422T033440
CREATED:20240514T131819Z
LAST-MODIFIED:20251025T170953Z
UID:10002914-1748975400-1748984400@rikis.lt
SUMMARY:Pokemon žaidimai
DESCRIPTION:Pokemon Standard turnyras!\nŽaidžiama su Standard tipo kaladėmis.\nDalyvio mokestis: 5EUR\n\nDaugiau informacijos discorde: https://discord.gg/JHdvjh2y2N\nNaujokai laukiami! \n  \n  \n 
URL:https://rikis.lt/renginys/antradienio-pokemon-zaidimai-2-2-2/2025-06-03/
LOCATION:Rikis\, Šv.Stepono\, Vilnius\, 01139\, Lietuva
CATEGORIES:Turnyras
ATTACH;FMTTYPE=image/png:https://rikis.lt/wp-content/uploads/PKM-tournament-banner.png
END:VEVENT
BEGIN:VEVENT
DTSTART;TZID=Europe/Vilnius:20250607T183000
DTEND;TZID=Europe/Vilnius:20250607T210000
DTSTAMP:20260422T033440
CREATED:20241002T162100Z
LAST-MODIFIED:20251025T170737Z
UID:10001875-1749321000-1749330000@rikis.lt
SUMMARY:Pokemon žaidimai
DESCRIPTION:Pokemon Standard turnyras!\nŽaidžiama su Standard tipo kaladėmis.\nDalyvio mokestis: 5EUR\n\nDaugiau informacijos discorde: https://discord.gg/JHdvjh2y2N\nNaujokai laukiami! \n 
URL:https://rikis.lt/renginys/pokemon-standard-2-3-2-2-2/2025-06-07/
LOCATION:Rikis\, Šv.Stepono\, Vilnius\, 01139\, Lietuva
CATEGORIES:Turnyras
ATTACH;FMTTYPE=image/png:https://rikis.lt/wp-content/uploads/PKM-tournament-banner.png
END:VEVENT
BEGIN:VEVENT
DTSTART;TZID=Europe/Vilnius:20250609T170000
DTEND;TZID=Europe/Vilnius:20250609T190000
DTSTAMP:20260422T033440
CREATED:20240626T150336Z
LAST-MODIFIED:20250718T133748Z
UID:10006126-1749488400-1749495600@rikis.lt
SUMMARY:Pokémon TCG naujokų vakarai
DESCRIPTION:Laukiami pradedantieji ir šiek tiek patyrę žaidėjai – visi\, kurie nori smagiai praleisti laiką ir išmokti žaisti Pokémon TCG.\n\n\n\n\n\nRenginio metu:\n• Susipažinsite su Pokémon TCG\n• Gausite pagalbos dėliojant kaladę\n• Žaisite su kitais pradedančiaisiais bei tobulinsite savo įgūdžius.\n• Smagiai leisite laiką su kitais Pokémon gerbėjais bei keisites kortomis!\n\n\n\n\n\nRenginiai vyks apie 2 val.\, o dalyvio mokestis – 8 eurai. Kiekvienas dalyvaujantysis gauna po papildymo pakuotę!\n\n\n\nNorėdami užsiregistruoti\, parašykite mums į Facebook paskyrą arba paskambinkite numeriu +370 615 97722.\n\n\n\n\n\nTaip pat kviečiame prisijungti prie mūsų Discord serverio: https://discord.gg/YGanjVa8JY\n\n 
URL:https://rikis.lt/renginys/pokemon-tcg-naujoku-vakarai/2025-06-09/
LOCATION:Rikis\, Šv.Stepono\, Vilnius\, 01139\, Lietuva
CATEGORIES:Turnyras
ATTACH;FMTTYPE=image/png:https://rikis.lt/wp-content/uploads/PKM-NV-3.png
END:VEVENT
BEGIN:VEVENT
DTSTART;TZID=Europe/Vilnius:20250610T183000
DTEND;TZID=Europe/Vilnius:20250610T210000
DTSTAMP:20260422T033440
CREATED:20240514T131819Z
LAST-MODIFIED:20251025T170953Z
UID:10002915-1749580200-1749589200@rikis.lt
SUMMARY:Pokemon žaidimai
DESCRIPTION:Pokemon Standard turnyras!\nŽaidžiama su Standard tipo kaladėmis.\nDalyvio mokestis: 5EUR\n\nDaugiau informacijos discorde: https://discord.gg/JHdvjh2y2N\nNaujokai laukiami! \n  \n  \n 
URL:https://rikis.lt/renginys/antradienio-pokemon-zaidimai-2-2-2/2025-06-10/
LOCATION:Rikis\, Šv.Stepono\, Vilnius\, 01139\, Lietuva
CATEGORIES:Turnyras
ATTACH;FMTTYPE=image/png:https://rikis.lt/wp-content/uploads/PKM-tournament-banner.png
END:VEVENT
BEGIN:VEVENT
DTSTART;TZID=Europe/Vilnius:20250614T183000
DTEND;TZID=Europe/Vilnius:20250614T210000
DTSTAMP:20260422T033440
CREATED:20241002T162100Z
LAST-MODIFIED:20251025T170737Z
UID:10001876-1749925800-1749934800@rikis.lt
SUMMARY:Pokemon žaidimai
DESCRIPTION:Pokemon Standard turnyras!\nŽaidžiama su Standard tipo kaladėmis.\nDalyvio mokestis: 5EUR\n\nDaugiau informacijos discorde: https://discord.gg/JHdvjh2y2N\nNaujokai laukiami! \n 
URL:https://rikis.lt/renginys/pokemon-standard-2-3-2-2-2/2025-06-14/
LOCATION:Rikis\, Šv.Stepono\, Vilnius\, 01139\, Lietuva
CATEGORIES:Turnyras
ATTACH;FMTTYPE=image/png:https://rikis.lt/wp-content/uploads/PKM-tournament-banner.png
END:VEVENT
BEGIN:VEVENT
DTSTART;TZID=Europe/Vilnius:20250616T170000
DTEND;TZID=Europe/Vilnius:20250616T190000
DTSTAMP:20260422T033440
CREATED:20240626T150336Z
LAST-MODIFIED:20250718T133748Z
UID:10006127-1750093200-1750100400@rikis.lt
SUMMARY:Pokémon TCG naujokų vakarai
DESCRIPTION:Laukiami pradedantieji ir šiek tiek patyrę žaidėjai – visi\, kurie nori smagiai praleisti laiką ir išmokti žaisti Pokémon TCG.\n\n\n\n\n\nRenginio metu:\n• Susipažinsite su Pokémon TCG\n• Gausite pagalbos dėliojant kaladę\n• Žaisite su kitais pradedančiaisiais bei tobulinsite savo įgūdžius.\n• Smagiai leisite laiką su kitais Pokémon gerbėjais bei keisites kortomis!\n\n\n\n\n\nRenginiai vyks apie 2 val.\, o dalyvio mokestis – 8 eurai. Kiekvienas dalyvaujantysis gauna po papildymo pakuotę!\n\n\n\nNorėdami užsiregistruoti\, parašykite mums į Facebook paskyrą arba paskambinkite numeriu +370 615 97722.\n\n\n\n\n\nTaip pat kviečiame prisijungti prie mūsų Discord serverio: https://discord.gg/YGanjVa8JY\n\n 
URL:https://rikis.lt/renginys/pokemon-tcg-naujoku-vakarai/2025-06-16/
LOCATION:Rikis\, Šv.Stepono\, Vilnius\, 01139\, Lietuva
CATEGORIES:Turnyras
ATTACH;FMTTYPE=image/png:https://rikis.lt/wp-content/uploads/PKM-NV-3.png
END:VEVENT
BEGIN:VEVENT
DTSTART;TZID=Europe/Vilnius:20250617T183000
DTEND;TZID=Europe/Vilnius:20250617T210000
DTSTAMP:20260422T033440
CREATED:20240514T131819Z
LAST-MODIFIED:20251025T170953Z
UID:10002916-1750185000-1750194000@rikis.lt
SUMMARY:Pokemon žaidimai
DESCRIPTION:Pokemon Standard turnyras!\nŽaidžiama su Standard tipo kaladėmis.\nDalyvio mokestis: 5EUR\n\nDaugiau informacijos discorde: https://discord.gg/JHdvjh2y2N\nNaujokai laukiami! \n  \n  \n 
URL:https://rikis.lt/renginys/antradienio-pokemon-zaidimai-2-2-2/2025-06-17/
LOCATION:Rikis\, Šv.Stepono\, Vilnius\, 01139\, Lietuva
CATEGORIES:Turnyras
ATTACH;FMTTYPE=image/png:https://rikis.lt/wp-content/uploads/PKM-tournament-banner.png
END:VEVENT
BEGIN:VEVENT
DTSTART;TZID=Europe/Vilnius:20250621T183000
DTEND;TZID=Europe/Vilnius:20250621T210000
DTSTAMP:20260422T033440
CREATED:20241002T162100Z
LAST-MODIFIED:20251025T170737Z
UID:10001877-1750530600-1750539600@rikis.lt
SUMMARY:Pokemon žaidimai
DESCRIPTION:Pokemon Standard turnyras!\nŽaidžiama su Standard tipo kaladėmis.\nDalyvio mokestis: 5EUR\n\nDaugiau informacijos discorde: https://discord.gg/JHdvjh2y2N\nNaujokai laukiami! \n 
URL:https://rikis.lt/renginys/pokemon-standard-2-3-2-2-2/2025-06-21/
LOCATION:Rikis\, Šv.Stepono\, Vilnius\, 01139\, Lietuva
CATEGORIES:Turnyras
ATTACH;FMTTYPE=image/png:https://rikis.lt/wp-content/uploads/PKM-tournament-banner.png
END:VEVENT
BEGIN:VEVENT
DTSTART;TZID=Europe/Vilnius:20250623T170000
DTEND;TZID=Europe/Vilnius:20250623T190000
DTSTAMP:20260422T033440
CREATED:20240626T150336Z
LAST-MODIFIED:20250718T133748Z
UID:10006128-1750698000-1750705200@rikis.lt
SUMMARY:Pokémon TCG naujokų vakarai
DESCRIPTION:Laukiami pradedantieji ir šiek tiek patyrę žaidėjai – visi\, kurie nori smagiai praleisti laiką ir išmokti žaisti Pokémon TCG.\n\n\n\n\n\nRenginio metu:\n• Susipažinsite su Pokémon TCG\n• Gausite pagalbos dėliojant kaladę\n• Žaisite su kitais pradedančiaisiais bei tobulinsite savo įgūdžius.\n• Smagiai leisite laiką su kitais Pokémon gerbėjais bei keisites kortomis!\n\n\n\n\n\nRenginiai vyks apie 2 val.\, o dalyvio mokestis – 8 eurai. Kiekvienas dalyvaujantysis gauna po papildymo pakuotę!\n\n\n\nNorėdami užsiregistruoti\, parašykite mums į Facebook paskyrą arba paskambinkite numeriu +370 615 97722.\n\n\n\n\n\nTaip pat kviečiame prisijungti prie mūsų Discord serverio: https://discord.gg/YGanjVa8JY\n\n 
URL:https://rikis.lt/renginys/pokemon-tcg-naujoku-vakarai/2025-06-23/
LOCATION:Rikis\, Šv.Stepono\, Vilnius\, 01139\, Lietuva
CATEGORIES:Turnyras
ATTACH;FMTTYPE=image/png:https://rikis.lt/wp-content/uploads/PKM-NV-3.png
END:VEVENT
BEGIN:VEVENT
DTSTART;TZID=Europe/Vilnius:20250628T183000
DTEND;TZID=Europe/Vilnius:20250628T210000
DTSTAMP:20260422T033440
CREATED:20241002T162100Z
LAST-MODIFIED:20251025T170737Z
UID:10001878-1751135400-1751144400@rikis.lt
SUMMARY:Pokemon žaidimai
DESCRIPTION:Pokemon Standard turnyras!\nŽaidžiama su Standard tipo kaladėmis.\nDalyvio mokestis: 5EUR\n\nDaugiau informacijos discorde: https://discord.gg/JHdvjh2y2N\nNaujokai laukiami! \n 
URL:https://rikis.lt/renginys/pokemon-standard-2-3-2-2-2/2025-06-28/
LOCATION:Rikis\, Šv.Stepono\, Vilnius\, 01139\, Lietuva
CATEGORIES:Turnyras
ATTACH;FMTTYPE=image/png:https://rikis.lt/wp-content/uploads/PKM-tournament-banner.png
END:VEVENT
BEGIN:VEVENT
DTSTART;TZID=Europe/Vilnius:20250630T170000
DTEND;TZID=Europe/Vilnius:20250630T190000
DTSTAMP:20260422T033440
CREATED:20240626T150336Z
LAST-MODIFIED:20250718T133748Z
UID:10006129-1751302800-1751310000@rikis.lt
SUMMARY:Pokémon TCG naujokų vakarai
DESCRIPTION:Laukiami pradedantieji ir šiek tiek patyrę žaidėjai – visi\, kurie nori smagiai praleisti laiką ir išmokti žaisti Pokémon TCG.\n\n\n\n\n\nRenginio metu:\n• Susipažinsite su Pokémon TCG\n• Gausite pagalbos dėliojant kaladę\n• Žaisite su kitais pradedančiaisiais bei tobulinsite savo įgūdžius.\n• Smagiai leisite laiką su kitais Pokémon gerbėjais bei keisites kortomis!\n\n\n\n\n\nRenginiai vyks apie 2 val.\, o dalyvio mokestis – 8 eurai. Kiekvienas dalyvaujantysis gauna po papildymo pakuotę!\n\n\n\nNorėdami užsiregistruoti\, parašykite mums į Facebook paskyrą arba paskambinkite numeriu +370 615 97722.\n\n\n\n\n\nTaip pat kviečiame prisijungti prie mūsų Discord serverio: https://discord.gg/YGanjVa8JY\n\n 
URL:https://rikis.lt/renginys/pokemon-tcg-naujoku-vakarai/2025-06-30/
LOCATION:Rikis\, Šv.Stepono\, Vilnius\, 01139\, Lietuva
CATEGORIES:Turnyras
ATTACH;FMTTYPE=image/png:https://rikis.lt/wp-content/uploads/PKM-NV-3.png
END:VEVENT
END:VCALENDAR