BEGIN:VCALENDAR
VERSION:2.0
PRODID:-//www.rikis.lt - ECPv6.3.7//NONSGML v1.0//EN
CALSCALE:GREGORIAN
METHOD:PUBLISH
X-ORIGINAL-URL:https://rikis.lt
X-WR-CALDESC:Events for www.rikis.lt
REFRESH-INTERVAL;VALUE=DURATION:PT1H
X-Robots-Tag:noindex
X-PUBLISHED-TTL:PT1H
BEGIN:VTIMEZONE
TZID:Europe/Vilnius
BEGIN:DAYLIGHT
TZOFFSETFROM:+0200
TZOFFSETTO:+0300
TZNAME:EEST
DTSTART:20250330T010000
END:DAYLIGHT
BEGIN:STANDARD
TZOFFSETFROM:+0300
TZOFFSETTO:+0200
TZNAME:EET
DTSTART:20251026T010000
END:STANDARD
END:VTIMEZONE
BEGIN:VEVENT
DTSTART;TZID=Europe/Vilnius:20250902T183000
DTEND;TZID=Europe/Vilnius:20250902T210000
DTSTAMP:20260421T231748
CREATED:20240514T131819Z
LAST-MODIFIED:20251025T170953Z
UID:10002927-1756837800-1756846800@rikis.lt
SUMMARY:Pokemon žaidimai
DESCRIPTION:Pokemon Standard turnyras!\nŽaidžiama su Standard tipo kaladėmis.\nDalyvio mokestis: 5EUR\n\nDaugiau informacijos discorde: https://discord.gg/JHdvjh2y2N\nNaujokai laukiami! \n  \n  \n 
URL:https://rikis.lt/renginys/antradienio-pokemon-zaidimai-2-2-2/2025-09-02/
LOCATION:Rikis\, Šv.Stepono\, Vilnius\, 01139\, Lietuva
CATEGORIES:Turnyras
ATTACH;FMTTYPE=image/png:https://rikis.lt/wp-content/uploads/PKM-tournament-banner.png
END:VEVENT
BEGIN:VEVENT
DTSTART;TZID=Europe/Vilnius:20250906T183000
DTEND;TZID=Europe/Vilnius:20250906T210000
DTSTAMP:20260421T231748
CREATED:20241002T162100Z
LAST-MODIFIED:20251025T170737Z
UID:10001888-1757183400-1757192400@rikis.lt
SUMMARY:Pokemon žaidimai
DESCRIPTION:Pokemon Standard turnyras!\nŽaidžiama su Standard tipo kaladėmis.\nDalyvio mokestis: 5EUR\n\nDaugiau informacijos discorde: https://discord.gg/JHdvjh2y2N\nNaujokai laukiami! \n 
URL:https://rikis.lt/renginys/pokemon-standard-2-3-2-2-2/2025-09-06/
LOCATION:Rikis\, Šv.Stepono\, Vilnius\, 01139\, Lietuva
CATEGORIES:Turnyras
ATTACH;FMTTYPE=image/png:https://rikis.lt/wp-content/uploads/PKM-tournament-banner.png
END:VEVENT
BEGIN:VEVENT
DTSTART;TZID=Europe/Vilnius:20250909T183000
DTEND;TZID=Europe/Vilnius:20250909T210000
DTSTAMP:20260421T231748
CREATED:20240514T131819Z
LAST-MODIFIED:20251025T170953Z
UID:10002928-1757442600-1757451600@rikis.lt
SUMMARY:Pokemon žaidimai
DESCRIPTION:Pokemon Standard turnyras!\nŽaidžiama su Standard tipo kaladėmis.\nDalyvio mokestis: 5EUR\n\nDaugiau informacijos discorde: https://discord.gg/JHdvjh2y2N\nNaujokai laukiami! \n  \n  \n 
URL:https://rikis.lt/renginys/antradienio-pokemon-zaidimai-2-2-2/2025-09-09/
LOCATION:Rikis\, Šv.Stepono\, Vilnius\, 01139\, Lietuva
CATEGORIES:Turnyras
ATTACH;FMTTYPE=image/png:https://rikis.lt/wp-content/uploads/PKM-tournament-banner.png
END:VEVENT
BEGIN:VEVENT
DTSTART;TZID=Europe/Vilnius:20250913T183000
DTEND;TZID=Europe/Vilnius:20250913T210000
DTSTAMP:20260421T231748
CREATED:20241002T162100Z
LAST-MODIFIED:20251025T170737Z
UID:10001889-1757788200-1757797200@rikis.lt
SUMMARY:Pokemon žaidimai
DESCRIPTION:Pokemon Standard turnyras!\nŽaidžiama su Standard tipo kaladėmis.\nDalyvio mokestis: 5EUR\n\nDaugiau informacijos discorde: https://discord.gg/JHdvjh2y2N\nNaujokai laukiami! \n 
URL:https://rikis.lt/renginys/pokemon-standard-2-3-2-2-2/2025-09-13/
LOCATION:Rikis\, Šv.Stepono\, Vilnius\, 01139\, Lietuva
CATEGORIES:Turnyras
ATTACH;FMTTYPE=image/png:https://rikis.lt/wp-content/uploads/PKM-tournament-banner.png
END:VEVENT
BEGIN:VEVENT
DTSTART;TZID=Europe/Vilnius:20250916T183000
DTEND;TZID=Europe/Vilnius:20250916T210000
DTSTAMP:20260421T231748
CREATED:20240514T131819Z
LAST-MODIFIED:20251025T170953Z
UID:10002929-1758047400-1758056400@rikis.lt
SUMMARY:Pokemon žaidimai
DESCRIPTION:Pokemon Standard turnyras!\nŽaidžiama su Standard tipo kaladėmis.\nDalyvio mokestis: 5EUR\n\nDaugiau informacijos discorde: https://discord.gg/JHdvjh2y2N\nNaujokai laukiami! \n  \n  \n 
URL:https://rikis.lt/renginys/antradienio-pokemon-zaidimai-2-2-2/2025-09-16/
LOCATION:Rikis\, Šv.Stepono\, Vilnius\, 01139\, Lietuva
CATEGORIES:Turnyras
ATTACH;FMTTYPE=image/png:https://rikis.lt/wp-content/uploads/PKM-tournament-banner.png
END:VEVENT
BEGIN:VEVENT
DTSTART;TZID=Europe/Vilnius:20250923T183000
DTEND;TZID=Europe/Vilnius:20250923T210000
DTSTAMP:20260421T231748
CREATED:20240514T131819Z
LAST-MODIFIED:20251025T170953Z
UID:10002930-1758652200-1758661200@rikis.lt
SUMMARY:Pokemon žaidimai
DESCRIPTION:Pokemon Standard turnyras!\nŽaidžiama su Standard tipo kaladėmis.\nDalyvio mokestis: 5EUR\n\nDaugiau informacijos discorde: https://discord.gg/JHdvjh2y2N\nNaujokai laukiami! \n  \n  \n 
URL:https://rikis.lt/renginys/antradienio-pokemon-zaidimai-2-2-2/2025-09-23/
LOCATION:Rikis\, Šv.Stepono\, Vilnius\, 01139\, Lietuva
CATEGORIES:Turnyras
ATTACH;FMTTYPE=image/png:https://rikis.lt/wp-content/uploads/PKM-tournament-banner.png
END:VEVENT
BEGIN:VEVENT
DTSTART;TZID=Europe/Vilnius:20250927T183000
DTEND;TZID=Europe/Vilnius:20250927T210000
DTSTAMP:20260421T231748
CREATED:20241002T162100Z
LAST-MODIFIED:20251025T170737Z
UID:10001891-1758997800-1759006800@rikis.lt
SUMMARY:Pokemon žaidimai
DESCRIPTION:Pokemon Standard turnyras!\nŽaidžiama su Standard tipo kaladėmis.\nDalyvio mokestis: 5EUR\n\nDaugiau informacijos discorde: https://discord.gg/JHdvjh2y2N\nNaujokai laukiami! \n 
URL:https://rikis.lt/renginys/pokemon-standard-2-3-2-2-2/2025-09-27/
LOCATION:Rikis\, Šv.Stepono\, Vilnius\, 01139\, Lietuva
CATEGORIES:Turnyras
ATTACH;FMTTYPE=image/png:https://rikis.lt/wp-content/uploads/PKM-tournament-banner.png
END:VEVENT
BEGIN:VEVENT
DTSTART;TZID=Europe/Vilnius:20250930T183000
DTEND;TZID=Europe/Vilnius:20250930T210000
DTSTAMP:20260421T231748
CREATED:20240514T131819Z
LAST-MODIFIED:20251025T170953Z
UID:10002931-1759257000-1759266000@rikis.lt
SUMMARY:Pokemon žaidimai
DESCRIPTION:Pokemon Standard turnyras!\nŽaidžiama su Standard tipo kaladėmis.\nDalyvio mokestis: 5EUR\n\nDaugiau informacijos discorde: https://discord.gg/JHdvjh2y2N\nNaujokai laukiami! \n  \n  \n 
URL:https://rikis.lt/renginys/antradienio-pokemon-zaidimai-2-2-2/2025-09-30/
LOCATION:Rikis\, Šv.Stepono\, Vilnius\, 01139\, Lietuva
CATEGORIES:Turnyras
ATTACH;FMTTYPE=image/png:https://rikis.lt/wp-content/uploads/PKM-tournament-banner.png
END:VEVENT
END:VCALENDAR