BEGIN:VCALENDAR
VERSION:2.0
PRODID:-//www.rikis.lt - ECPv6.3.7//NONSGML v1.0//EN
CALSCALE:GREGORIAN
METHOD:PUBLISH
X-WR-CALNAME:www.rikis.lt
X-ORIGINAL-URL:https://rikis.lt
X-WR-CALDESC:Events for www.rikis.lt
REFRESH-INTERVAL;VALUE=DURATION:PT1H
X-Robots-Tag:noindex
X-PUBLISHED-TTL:PT1H
BEGIN:VTIMEZONE
TZID:Europe/Vilnius
BEGIN:DAYLIGHT
TZOFFSETFROM:+0200
TZOFFSETTO:+0300
TZNAME:EEST
DTSTART:20250330T010000
END:DAYLIGHT
BEGIN:STANDARD
TZOFFSETFROM:+0300
TZOFFSETTO:+0200
TZNAME:EET
DTSTART:20251026T010000
END:STANDARD
END:VTIMEZONE
BEGIN:VEVENT
DTSTART;TZID=Europe/Vilnius:20250503T120000
DTEND;TZID=Europe/Vilnius:20250503T160000
DTSTAMP:20260421T060723
CREATED:20240522T151201Z
LAST-MODIFIED:20251025T170924Z
UID:10002129-1746273600-1746288000@rikis.lt
SUMMARY:Yu-Gi-Oh! žaidimai
DESCRIPTION:Savaitiniai Yu-Gi-Oh! turnyrai\nKaina: 5EUR\n\nDaugiau informacijos rasite discorde: https://discord.gg/fMqccmFvxC \n \n 
URL:https://rikis.lt/renginys/sestadiniai-yu-gi-oh-zaidimai-2-2-2/2025-05-03/
LOCATION:Rikis\, Šv.Stepono\, Vilnius\, 01139\, Lietuva
CATEGORIES:Turnyras
ATTACH;FMTTYPE=image/png:https://rikis.lt/wp-content/uploads/YGO-banner-naujas.png
END:VEVENT
BEGIN:VEVENT
DTSTART;TZID=Europe/Vilnius:20250510T120000
DTEND;TZID=Europe/Vilnius:20250510T160000
DTSTAMP:20260421T060723
CREATED:20240522T151201Z
LAST-MODIFIED:20251025T170924Z
UID:10002130-1746878400-1746892800@rikis.lt
SUMMARY:Yu-Gi-Oh! žaidimai
DESCRIPTION:Savaitiniai Yu-Gi-Oh! turnyrai\nKaina: 5EUR\n\nDaugiau informacijos rasite discorde: https://discord.gg/fMqccmFvxC \n \n 
URL:https://rikis.lt/renginys/sestadiniai-yu-gi-oh-zaidimai-2-2-2/2025-05-10/
LOCATION:Rikis\, Šv.Stepono\, Vilnius\, 01139\, Lietuva
CATEGORIES:Turnyras
ATTACH;FMTTYPE=image/png:https://rikis.lt/wp-content/uploads/YGO-banner-naujas.png
END:VEVENT
BEGIN:VEVENT
DTSTART;TZID=Europe/Vilnius:20250517T120000
DTEND;TZID=Europe/Vilnius:20250517T160000
DTSTAMP:20260421T060723
CREATED:20240522T151201Z
LAST-MODIFIED:20251025T170924Z
UID:10002131-1747483200-1747497600@rikis.lt
SUMMARY:Yu-Gi-Oh! žaidimai
DESCRIPTION:Savaitiniai Yu-Gi-Oh! turnyrai\nKaina: 5EUR\n\nDaugiau informacijos rasite discorde: https://discord.gg/fMqccmFvxC \n \n 
URL:https://rikis.lt/renginys/sestadiniai-yu-gi-oh-zaidimai-2-2-2/2025-05-17/
LOCATION:Rikis\, Šv.Stepono\, Vilnius\, 01139\, Lietuva
CATEGORIES:Turnyras
ATTACH;FMTTYPE=image/png:https://rikis.lt/wp-content/uploads/YGO-banner-naujas.png
END:VEVENT
BEGIN:VEVENT
DTSTART;TZID=Europe/Vilnius:20250531T120000
DTEND;TZID=Europe/Vilnius:20250531T160000
DTSTAMP:20260421T060723
CREATED:20240522T151201Z
LAST-MODIFIED:20251025T170924Z
UID:10002133-1748692800-1748707200@rikis.lt
SUMMARY:Yu-Gi-Oh! žaidimai
DESCRIPTION:Savaitiniai Yu-Gi-Oh! turnyrai\nKaina: 5EUR\n\nDaugiau informacijos rasite discorde: https://discord.gg/fMqccmFvxC \n \n 
URL:https://rikis.lt/renginys/sestadiniai-yu-gi-oh-zaidimai-2-2-2/2025-05-31/
LOCATION:Rikis\, Šv.Stepono\, Vilnius\, 01139\, Lietuva
CATEGORIES:Turnyras
ATTACH;FMTTYPE=image/png:https://rikis.lt/wp-content/uploads/YGO-banner-naujas.png
END:VEVENT
END:VCALENDAR