BEGIN:VCALENDAR
VERSION:2.0
PRODID:-//www.rikis.lt - ECPv6.3.7//NONSGML v1.0//EN
CALSCALE:GREGORIAN
METHOD:PUBLISH
X-ORIGINAL-URL:https://rikis.lt
X-WR-CALDESC:Events for www.rikis.lt
REFRESH-INTERVAL;VALUE=DURATION:PT1H
X-Robots-Tag:noindex
X-PUBLISHED-TTL:PT1H
BEGIN:VTIMEZONE
TZID:Europe/Vilnius
BEGIN:DAYLIGHT
TZOFFSETFROM:+0200
TZOFFSETTO:+0300
TZNAME:EEST
DTSTART:20250330T010000
END:DAYLIGHT
BEGIN:STANDARD
TZOFFSETFROM:+0300
TZOFFSETTO:+0200
TZNAME:EET
DTSTART:20251026T010000
END:STANDARD
END:VTIMEZONE
BEGIN:VEVENT
DTSTART;TZID=Europe/Vilnius:20250906T120000
DTEND;TZID=Europe/Vilnius:20250906T160000
DTSTAMP:20260420T214326
CREATED:20240522T151201Z
LAST-MODIFIED:20251025T170924Z
UID:10002147-1757160000-1757174400@rikis.lt
SUMMARY:Yu-Gi-Oh! žaidimai
DESCRIPTION:Savaitiniai Yu-Gi-Oh! turnyrai\nKaina: 5EUR\n\nDaugiau informacijos rasite discorde: https://discord.gg/fMqccmFvxC \n \n 
URL:https://rikis.lt/renginys/sestadiniai-yu-gi-oh-zaidimai-2-2-2/2025-09-06/
LOCATION:Rikis\, Šv.Stepono\, Vilnius\, 01139\, Lietuva
CATEGORIES:Turnyras
ATTACH;FMTTYPE=image/png:https://rikis.lt/wp-content/uploads/YGO-banner-naujas.png
END:VEVENT
BEGIN:VEVENT
DTSTART;TZID=Europe/Vilnius:20250913T120000
DTEND;TZID=Europe/Vilnius:20250913T160000
DTSTAMP:20260420T214326
CREATED:20240522T151201Z
LAST-MODIFIED:20251025T170924Z
UID:10002148-1757764800-1757779200@rikis.lt
SUMMARY:Yu-Gi-Oh! žaidimai
DESCRIPTION:Savaitiniai Yu-Gi-Oh! turnyrai\nKaina: 5EUR\n\nDaugiau informacijos rasite discorde: https://discord.gg/fMqccmFvxC \n \n 
URL:https://rikis.lt/renginys/sestadiniai-yu-gi-oh-zaidimai-2-2-2/2025-09-13/
LOCATION:Rikis\, Šv.Stepono\, Vilnius\, 01139\, Lietuva
CATEGORIES:Turnyras
ATTACH;FMTTYPE=image/png:https://rikis.lt/wp-content/uploads/YGO-banner-naujas.png
END:VEVENT
BEGIN:VEVENT
DTSTART;TZID=Europe/Vilnius:20250920T120000
DTEND;TZID=Europe/Vilnius:20250920T160000
DTSTAMP:20260420T214326
CREATED:20240522T151201Z
LAST-MODIFIED:20251025T170924Z
UID:10002149-1758369600-1758384000@rikis.lt
SUMMARY:Yu-Gi-Oh! žaidimai
DESCRIPTION:Savaitiniai Yu-Gi-Oh! turnyrai\nKaina: 5EUR\n\nDaugiau informacijos rasite discorde: https://discord.gg/fMqccmFvxC \n \n 
URL:https://rikis.lt/renginys/sestadiniai-yu-gi-oh-zaidimai-2-2-2/2025-09-20/
LOCATION:Rikis\, Šv.Stepono\, Vilnius\, 01139\, Lietuva
CATEGORIES:Turnyras
ATTACH;FMTTYPE=image/png:https://rikis.lt/wp-content/uploads/YGO-banner-naujas.png
END:VEVENT
BEGIN:VEVENT
DTSTART;TZID=Europe/Vilnius:20250927T120000
DTEND;TZID=Europe/Vilnius:20250927T160000
DTSTAMP:20260420T214326
CREATED:20240522T151201Z
LAST-MODIFIED:20251025T170924Z
UID:10002150-1758974400-1758988800@rikis.lt
SUMMARY:Yu-Gi-Oh! žaidimai
DESCRIPTION:Savaitiniai Yu-Gi-Oh! turnyrai\nKaina: 5EUR\n\nDaugiau informacijos rasite discorde: https://discord.gg/fMqccmFvxC \n \n 
URL:https://rikis.lt/renginys/sestadiniai-yu-gi-oh-zaidimai-2-2-2/2025-09-27/
LOCATION:Rikis\, Šv.Stepono\, Vilnius\, 01139\, Lietuva
CATEGORIES:Turnyras
ATTACH;FMTTYPE=image/png:https://rikis.lt/wp-content/uploads/YGO-banner-naujas.png
END:VEVENT
END:VCALENDAR